PDS_VERSION_ID = PDS3
/* FILE DATA ELEMENTS */
RECORD_TYPE = UNDEFINED
/* POINTERS TO DATA OBJECTS */
^IMAGE = ("H4533_0000_IR4.TIF")
/* IDENTIFICATION DATA ELEMENTS */
DATA_SET_ID = "MEX-M-HRSC-4-REFDR-MAPPROJECT-EXT1-V4.0"
DATA_SET_NAME = "MARS EXPRESS HRSC MAP PROJECTED REFDR EXTENSION1 V4.0"
DETECTOR_ID = MEX_HRSC_IR
EVENT_TYPE = "MARS-REGIONAL-MAPPING-Gl-Pf-La"
INSTRUMENT_HOST_ID = MEX
INSTRUMENT_HOST_NAME = "MARS EXPRESS"
INSTRUMENT_ID = HRSC
INSTRUMENT_NAME = "HIGH RESOLUTION STEREO CAMERA"
MISSION_NAME = "MARS EXPRESS"
MISSION_PHASE_NAME = ME_Phase_8
PROCESSING_LEVEL_ID = 4
PRODUCT_CREATION_TIME = 2023-02-11T00:15:54.000Z
PRODUCT_ID = "H4533_0000_IR4.TIF"
RELEASE_ID = 0007
REVISION_ID = 0000
/* QUALITY DATA ELEMENTS */
DATA_QUALITY_ID = 1
DATA_QUALITY_DESC = "Data calculated based on original SPICE kernels"
/* TIME DATA ELEMENTS */
SPACECRAFT_CLOCK_START_COUNT = "1/0132621906.09080"
SPACECRAFT_CLOCK_STOP_COUNT = "1/0132622022.16963"
START_TIME = 2007-07-15T23:25:14.418Z
STOP_TIME = 2007-07-15T23:26:16.446Z
/* ORBITAL DATA ELEMENTS */
ASCENDING_NODE_LONGITUDE = 133.49
MAXIMUM_RESOLUTION = 0.0423
FOOTPRINT_POINT_LATITUDE = (-79.3184,-79.3646,-79.4354,-79.494, -79.5365,-79.5696,-79.6111,-79.6135, -79.5438,-79.4652,-79.3473,-79.2272, -79.1485,-78.9916,-78.9127,-78.7944, -78.6394,-78.4818,-78.2455,-78.1645, -78.0073,-77.889,-77.7698,-77.6905, -77.611,-77.5312,-77.4513,-77.3713, -77.2515,-77.1718,-77.0921,-77.0125, -76.8929,-76.8131,-76.7334,-76.6534, -76.5736,-76.4936,-76.4135,-76.2936, -76.2134,-76.1333,-76.0532,-75.973, -75.8527,-75.7725,-75.6923,-75.5725, -75.5326,-75.5071,-75.491,-75.4671, -75.4385,-75.3997,-75.3764,-75.3458, -75.3023,-75.4976,-75.288,-75.2857, -75.2856,-75.3645,-75.4435,-75.5223, -75.6011,-75.6798,-75.7586,-75.8374, -75.9162,-75.9948,-76.0735,-76.1522, -76.2307,-76.3093,-76.3876,-76.5052, -76.5837,-76.7401,-76.8185,-76.8968, -76.975,-77.1306,-77.2085,-77.3254, -77.4797,-77.5574,-77.6739,-77.7899, -77.906,-77.9836,-78.1376,-78.253, -78.4447,-78.5597,-78.6744,-78.8271, -78.9797,-79.1704,-79.2085,-79.3184)
FOOTPRINT_POINT_LONGITUDE = (354.255,354.936,356.037,357.013, 357.764,358.379,359.189,359.237,359.522 ,359.638,359.807,359.98,360.088,360.298 ,360.401,360.554,360.742,360.933, 361.209,361.305,361.479,361.607,361.734 ,361.818,361.9,361.983,362.064,362.145, 362.263,362.34,362.416,362.49,362.601, 362.674,362.745,362.816,362.886,362.956 ,363.024,363.125,363.192,363.257, 363.323,363.387,363.482,363.544,363.605 ,363.695,363.725,363.743,363.411, 362.927,362.37,361.669,361.265,360.752, 360.06,360.074,359.842,359.806,359.793, 359.714,359.634,359.553,359.472,359.389 ,359.305,359.221,359.135,359.049, 358.961,358.873,358.783,358.692,358.6, 358.461,358.366,358.173,358.075,357.976 ,357.875,357.67,357.566,357.406,357.189 ,357.078,356.91,356.738,356.562,356.444 ,356.201,356.015,355.696,355.499, 355.299,355.025,354.743,354.379,354.305 ,354.255)
ORBIT_NUMBER = 4533
ORBITAL_ECCENTRICITY = 0.57
ORBITAL_INCLINATION = 86.69
ORBITAL_SEMIMAJOR_AXIS = 8532.62
PERIAPSIS_ALTITUDE = 293.43
PERIAPSIS_ARGUMENT_ANGLE = 280.06
PERIAPSIS_TIME = 2007-07-15T23:25:35.000Z
SPACECRAFT_ORIENTATION = (0.0,-1.0,0.0)
^MEX_ORIENTATION_DESC = "MEX_ORIENTATION_DESC.TXT"
SPACECRAFT_POINTING_MODE = NADIR
^MEX_POINTING_DESC = "MEX_POINTING_DESC.TXT"
RIGHT_ASCENSION = -1e+32
DECLINATION = -1e+32
OFFSET_ANGLE = -1e+32
SPACECRAFT_SOLAR_DISTANCE = 2.08488e+08
TARGET_NAME = MARS
/* CAMERA DATA ELEMENTS */
DETECTOR_TEMPERATURE = 17.5549
FOCAL_PLANE_TEMPERATURE = 8.3794
INST_CMPRS_NAME = "DISCRETE COSINE TRANSFORMATION (DCT)"
INST_CMPRS_RATIO = 11.4103
INST_CMPRS_QUALITY = 0
INST_CMPRS_QUANTZ_TBL_ID = 0
INSTRUMENT_TEMPERATURE = 11.234
LENS_TEMPERATURE = 8.7872
MACROPIXEL_SIZE = 4
MISSING_FRAMES = 0
PIXEL_SUBSAMPLING_FLAG = N
SIGNAL_CHAIN_ID = 2
/* RADIOMETRIC DATA ELEMENTS */
BANDWIDTH = 81.0
CENTER_FILTER_WAVELENGTH = 955.5
RADIANCE_OFFSET = 2.43847
RADIANCE_SCALING_FACTOR = 0.00489793
REFLECTANCE_SCALING_FACTOR = 0.000459305
MEX:REFLECTANCE_OFFSET = 0.228668
/* IMAGE OBJECT DEFINITIONS */
OBJECT = IMAGE
  INTERCHANGE_FORMAT = BINARY
  LINES = 5038
  LINE_SAMPLES = 2385
  SAMPLE_TYPE = UNSIGNED_INTEGER
  SAMPLE_BITS = 8
  BANDS = 1
  BAND_STORAGE_TYPE = BAND_SEQUENTIAL
  MAXIMUM = 255
  MEAN = 161.854
  MINIMUM = 1
  STANDARD_DEVIATION = 69.5231
END_OBJECT = IMAGE
/* MAP OBJECT DEFINITIONS */
OBJECT = IMAGE_MAP_PROJECTION
  ^DATA_SET_MAP_PROJECTION_CATALOG= "DSMAP.CAT"
  A_AXIS_RADIUS = 3396.0
  B_AXIS_RADIUS = 3396.0
  C_AXIS_RADIUS = 3396.0
  CENTER_LATITUDE = 0.0
  CENTER_LONGITUDE = 360.0
  COORDINATE_SYSTEM_NAME = PLANETOGRAPHIC
  COORDINATE_SYSTEM_TYPE = "BODY-FIXED ROTATING"
  EASTERNMOST_LONGITUDE = 3.743
  FIRST_STANDARD_PARALLEL = "N/A"
  LINE_FIRST_PIXEL = 1
  LINE_LAST_PIXEL = 5038
  LINE_PROJECTION_OFFSET = -89225.125
  MAP_PROJECTION_ROTATION = 0.0
  MAP_PROJECTION_TYPE = SINUSOIDAL
  MAP_RESOLUTION = 1185.42760773333
  MAP_SCALE = 0.05
  MAXIMUM_LATITUDE = -75.2856
  MINIMUM_LATITUDE = -79.6135
  POSITIVE_LONGITUDE_DIRECTION = EAST
  REFERENCE_LATITUDE = "N/A"
  REFERENCE_LONGITUDE = "N/A"
  SAMPLE_FIRST_PIXEL = 1
  SAMPLE_LAST_PIXEL = 2385
  SAMPLE_PROJECTION_OFFSET = 1263.875
  SECOND_STANDARD_PARALLEL = "N/A"
  WESTERNMOST_LONGITUDE = -5.745
END_OBJECT = IMAGE_MAP_PROJECTION
END
