PDS_VERSION_ID = PDS3
/* FILE DATA ELEMENTS */
RECORD_TYPE = UNDEFINED
/* POINTERS TO DATA OBJECTS */
^IMAGE = ("H4530_0000_ND4.TIF")
/* IDENTIFICATION DATA ELEMENTS */
DATA_SET_ID = "MEX-M-HRSC-4-REFDR-MAPPROJECT-EXT1-V4.0"
DATA_SET_NAME = "MARS EXPRESS HRSC MAP PROJECTED REFDR EXTENSION1 V4.0"
DETECTOR_ID = MEX_HRSC_NADIR
EVENT_TYPE = "MARS-REGIONAL-MAPPING-Gl-Eo-La"
INSTRUMENT_HOST_ID = MEX
INSTRUMENT_HOST_NAME = "MARS EXPRESS"
INSTRUMENT_ID = HRSC
INSTRUMENT_NAME = "HIGH RESOLUTION STEREO CAMERA"
MISSION_NAME = "MARS EXPRESS"
MISSION_PHASE_NAME = ME_Phase_8
PROCESSING_LEVEL_ID = 4
PRODUCT_CREATION_TIME = 2023-02-11T00:15:54.000Z
PRODUCT_ID = "H4530_0000_ND4.TIF"
RELEASE_ID = 0007
REVISION_ID = 0000
/* QUALITY DATA ELEMENTS */
DATA_QUALITY_ID = 1
DATA_QUALITY_DESC = "Data calculated based on original SPICE kernels"
/* TIME DATA ELEMENTS */
SPACECRAFT_CLOCK_START_COUNT = "1/0132549242.09067"
SPACECRAFT_CLOCK_STOP_COUNT = "1/0132549406.09772"
START_TIME = 2007-07-15T03:14:35.301Z
STOP_TIME = 2007-07-15T03:16:20.303Z
/* ORBITAL DATA ELEMENTS */
ASCENDING_NODE_LONGITUDE = 133.55
MAXIMUM_RESOLUTION = 0.012
FOOTPRINT_POINT_LATITUDE = (-84.8474,-84.9114,-84.9721,-85.0291, -85.0817,-85.1294,-85.1811,-85.1834, -85.2088,-85.0683,-84.9276,-84.7872, -84.6463,-84.5054,-84.3643,-84.223, -84.0819,-83.9405,-83.799,-83.6575, -83.5159,-83.3743,-83.2326,-83.0911, -82.9494,-82.8076,-82.6657,-82.5238, -82.3818,-82.2398,-82.0978,-81.9557, -81.8144,-81.5399,-81.2653,-80.9906, -80.7158,-80.5096,-80.3033,-80.1659, -79.9596,-79.8221,-79.6845,-79.4781, -79.3406,-79.1344,-78.9968,-78.8592, -78.7216,-78.584,-78.4464,-78.3089, -78.2401,-78.227,-78.215,-78.1908, -78.1759,-78.1512,-78.127,-78.0994, -78.0978,-78.0972,-78.3012,-78.5727, -78.8434,-79.1145,-79.3865,-79.5896, -79.8607,-80.131,-80.4003,-80.8047, -81.0731,-81.2747,-81.609,-81.8157, -81.954,-82.0924,-82.2305,-82.3681, -82.505,-82.6427,-82.7798,-82.9168, -83.0535,-83.1894,-83.3254,-83.4612, -83.5967,-83.7318,-83.8665,-84.001, -84.135,-84.2686,-84.4017,-84.5344, -84.6665,-84.7981,-84.8637,-84.8474)
FOOTPRINT_POINT_LONGITUDE = (286.707,288.443,290.271,292.195, 294.217,296.341,299.147,299.292,301.005 ,301.267,301.509,301.767,301.985, 302.193,302.384,302.566,302.747,302.912 ,303.068,303.215,303.358,303.496,303.63 ,303.77,303.895,304.012,304.127,304.231 ,304.336,304.435,304.527,304.622, 304.708,304.872,305.024,305.164,305.293 ,305.383,305.469,305.526,305.606, 305.658,305.706,305.774,305.823,305.901 ,305.947,305.985,306.028,306.067, 306.107,306.15,306.173,306.177,305.297, 303.919,303.22,302.206,301.336,300.446, 300.397,300.371,300.221,299.998,299.746 ,299.5,299.272,299.071,298.807,298.511, 298.179,297.674,297.292,297.009,296.469 ,296.13,295.891,295.649,295.397,295.125 ,294.83,294.551,294.252,293.943,293.621 ,293.271,292.916,292.549,292.166, 291.765,291.346,290.91,290.453,289.975, 289.473,288.947,288.394,287.812,287.511 ,286.707)
ORBIT_NUMBER = 4530
ORBITAL_ECCENTRICITY = 0.57
ORBITAL_INCLINATION = 86.69
ORBITAL_SEMIMAJOR_AXIS = 8532.29
PERIAPSIS_ALTITUDE = 293.29
PERIAPSIS_ARGUMENT_ANGLE = 280.61
PERIAPSIS_TIME = 2007-07-15T03:16:03.000Z
SPACECRAFT_ORIENTATION = (0.0,-1.0,0.0)
^MEX_ORIENTATION_DESC = "MEX_ORIENTATION_DESC.TXT"
SPACECRAFT_POINTING_MODE = ACROSSTRACK
^MEX_POINTING_DESC = "MEX_POINTING_DESC.TXT"
RIGHT_ASCENSION = -1e+32
DECLINATION = -1e+32
OFFSET_ANGLE = -1.8
SPACECRAFT_SOLAR_DISTANCE = 2.08416e+08
TARGET_NAME = MARS
/* CAMERA DATA ELEMENTS */
DETECTOR_TEMPERATURE = 18.3705
FOCAL_PLANE_TEMPERATURE = 8.9911
INST_CMPRS_NAME = "DISCRETE COSINE TRANSFORMATION (DCT)"
INST_CMPRS_RATIO = 6.28344
INST_CMPRS_QUALITY = 0
INST_CMPRS_QUANTZ_TBL_ID = 0
INSTRUMENT_TEMPERATURE = 11.234
LENS_TEMPERATURE = 9.6028
MACROPIXEL_SIZE = 1
MISSING_FRAMES = 0
PIXEL_SUBSAMPLING_FLAG = N
SIGNAL_CHAIN_ID = 0
/* RADIOMETRIC DATA ELEMENTS */
BANDWIDTH = 177.0
CENTER_FILTER_WAVELENGTH = 677.5
RADIANCE_OFFSET = 7.85918
RADIANCE_SCALING_FACTOR = 0.0343426
REFLECTANCE_SCALING_FACTOR = 0.000792462
MEX:REFLECTANCE_OFFSET = 0.181352
/* IMAGE OBJECT DEFINITIONS */
OBJECT = IMAGE
  INTERCHANGE_FORMAT = BINARY
  LINES = 33722
  LINE_SAMPLES = 10744
  SAMPLE_TYPE = UNSIGNED_INTEGER
  SAMPLE_BITS = 8
  BANDS = 1
  BAND_STORAGE_TYPE = BAND_SEQUENTIAL
  MAXIMUM = 254
  MEAN = 126.035
  MINIMUM = 1
  STANDARD_DEVIATION = 74.4626
END_OBJECT = IMAGE
/* MAP OBJECT DEFINITIONS */
OBJECT = IMAGE_MAP_PROJECTION
  ^DATA_SET_MAP_PROJECTION_CATALOG= "DSMAP.CAT"
  A_AXIS_RADIUS = 3396.0
  B_AXIS_RADIUS = 3396.0
  C_AXIS_RADIUS = 3396.0
  CENTER_LATITUDE = 0.0
  CENTER_LONGITUDE = 301.0
  COORDINATE_SYSTEM_NAME = PLANETOGRAPHIC
  COORDINATE_SYSTEM_TYPE = "BODY-FIXED ROTATING"
  EASTERNMOST_LONGITUDE = 306.177
  FIRST_STANDARD_PARALLEL = "N/A"
  LINE_FIRST_PIXEL = 1
  LINE_LAST_PIXEL = 33722
  LINE_PROJECTION_OFFSET = -370316.0
  MAP_PROJECTION_ROTATION = 0.0
  MAP_PROJECTION_TYPE = SINUSOIDAL
  MAP_RESOLUTION = 4741.71043093333
  MAP_SCALE = 0.0125
  MAXIMUM_LATITUDE = -78.0972
  MINIMUM_LATITUDE = -85.2088
  POSITIVE_LONGITUDE_DIRECTION = EAST
  REFERENCE_LATITUDE = "N/A"
  REFERENCE_LONGITUDE = "N/A"
  SAMPLE_FIRST_PIXEL = 1
  SAMPLE_LAST_PIXEL = 10744
  SAMPLE_PROJECTION_OFFSET = 5736.0
  SECOND_STANDARD_PARALLEL = "N/A"
  WESTERNMOST_LONGITUDE = 286.707
END_OBJECT = IMAGE_MAP_PROJECTION
END
