PDS_VERSION_ID = PDS3
/* FILE DATA ELEMENTS */
RECORD_TYPE = UNDEFINED
/* POINTERS TO DATA OBJECTS */
^IMAGE = ("H4529_0009_ND4.TIF")
/* IDENTIFICATION DATA ELEMENTS */
DATA_SET_ID = "MEX-M-HRSC-4-REFDR-MAPPROJECT-EXT1-V4.0"
DATA_SET_NAME = "MARS EXPRESS HRSC MAP PROJECTED REFDR EXTENSION1 V4.0"
DETECTOR_ID = MEX_HRSC_NADIR
EVENT_TYPE = "MARS-REGIONAL-MAPPING-Gl-Eo-La"
INSTRUMENT_HOST_ID = MEX
INSTRUMENT_HOST_NAME = "MARS EXPRESS"
INSTRUMENT_ID = HRSC
INSTRUMENT_NAME = "HIGH RESOLUTION STEREO CAMERA"
MISSION_NAME = "MARS EXPRESS"
MISSION_PHASE_NAME = ME_Phase_8
PROCESSING_LEVEL_ID = 4
PRODUCT_CREATION_TIME = 2023-02-11T00:15:54.000Z
PRODUCT_ID = "H4529_0009_ND4.TIF"
RELEASE_ID = 0007
REVISION_ID = 0000
/* QUALITY DATA ELEMENTS */
DATA_QUALITY_ID = 1
DATA_QUALITY_DESC = "Data calculated based on original SPICE kernels"
/* TIME DATA ELEMENTS */
SPACECRAFT_CLOCK_START_COUNT = "1/0132525009.07309"
SPACECRAFT_CLOCK_STOP_COUNT = "1/0132525182.40074"
START_TIME = 2007-07-14T20:30:43.026Z
STOP_TIME = 2007-07-14T20:32:37.029Z
/* ORBITAL DATA ELEMENTS */
ASCENDING_NODE_LONGITUDE = 133.57
MAXIMUM_RESOLUTION = 0.0121
FOOTPRINT_POINT_LATITUDE = (-86.84,-86.9486,-87.0539,-87.1549, -87.2502,-87.3384,-87.4358,-87.4402, -87.483,-87.3327,-87.1815,-87.0296, -86.8778,-86.7254,-86.5764,-86.2785, -86.1292,-85.9797,-85.8299,-85.6806, -85.5302,-85.3799,-85.2294,-85.0789, -84.9282,-84.777,-84.6259,-84.4748, -84.3237,-84.1726,-84.0214,-83.8698, -83.718,-83.5663,-83.4144,-83.2624, -83.1105,-82.9584,-82.8063,-82.6542, -82.502,-82.3497,-82.1975,-82.0452, -81.744,-81.4496,-81.1554,-80.8607, -80.566,-80.2711,-80.0497,-79.9759, -79.9667,-79.9317,-79.9104,-79.8749, -79.8461,-79.8151,-79.8131,-79.8123, -80.1022,-80.3916,-80.6805,-80.969, -81.2571,-81.4728,-81.7638,-81.9121, -82.0602,-82.2082,-82.3558,-82.5032, -82.6504,-82.7974,-82.9442,-83.0907, -83.2368,-83.3828,-83.5276,-83.6725, -83.8171,-83.9613,-84.1052,-84.2486, -84.391,-84.5331,-84.6744,-84.8153, -85.0953,-85.3711,-85.6433,-85.9111, -86.1737,-86.3031,-86.4342,-86.563, -86.6892,-86.8128,-86.872,-86.84)
FOOTPRINT_POINT_LONGITUDE = (7.83642,10.2744,12.9589,15.9196, 19.1773,22.7602,27.7317,27.9948,30.764, 31.7821,32.6828,33.4924,34.2674,34.9729 ,35.5386,36.549,37.0012,37.4208,37.8108 ,38.2219,38.5471,38.8648,39.1639, 39.4581,39.7301,39.9584,40.189,40.4169, 40.6354,40.8534,41.0626,41.243,41.4003, 41.5579,41.7067,41.8475,41.9835,42.1131 ,42.2385,42.359,42.4719,42.584,42.6933, 42.7999,42.9931,43.1645,43.3494,43.4969 ,43.6362,43.7636,43.8315,43.8584, 43.8621,41.6525,40.6315,39.1899,38.1798 ,37.203,37.143,37.1134,36.795,36.4551, 36.0927,35.7059,35.2944,34.9663,34.4949 ,34.2393,33.9729,33.7004,33.4105, 33.1095,32.7984,32.4744,32.1394,31.7898 ,31.42,31.0412,30.6236,30.1977,29.7544, 29.2914,28.8076,28.3013,27.7526,27.1844 ,26.5819,25.9529,24.594,23.0474,21.3138 ,19.3588,17.143,15.8547,14.4883,13.0168 ,11.4319,9.72442,8.78925,7.83642)
ORBIT_NUMBER = 4529
ORBITAL_ECCENTRICITY = 0.57
ORBITAL_INCLINATION = 86.69
ORBITAL_SEMIMAJOR_AXIS = 8533.67
PERIAPSIS_ALTITUDE = 293.1
PERIAPSIS_ARGUMENT_ANGLE = 280.77
PERIAPSIS_TIME = 2007-07-14T20:32:48.000Z
SPACECRAFT_ORIENTATION = (0.0,-1.0,0.0)
^MEX_ORIENTATION_DESC = "MEX_ORIENTATION_DESC.TXT"
SPACECRAFT_POINTING_MODE = ACROSSTRACK
^MEX_POINTING_DESC = "MEX_POINTING_DESC.TXT"
RIGHT_ASCENSION = -1e+32
DECLINATION = -1e+32
OFFSET_ANGLE = -1.8
SPACECRAFT_SOLAR_DISTANCE = 2.08392e+08
TARGET_NAME = MARS
/* CAMERA DATA ELEMENTS */
DETECTOR_TEMPERATURE = 18.9822
FOCAL_PLANE_TEMPERATURE = 9.3989
INST_CMPRS_NAME = "DISCRETE COSINE TRANSFORMATION (DCT)"
INST_CMPRS_RATIO = 6.36859
INST_CMPRS_QUALITY = 0
INST_CMPRS_QUANTZ_TBL_ID = 0
INSTRUMENT_TEMPERATURE = 14.2925
LENS_TEMPERATURE = 9.8067
MACROPIXEL_SIZE = 1
MISSING_FRAMES = 0
PIXEL_SUBSAMPLING_FLAG = N
SIGNAL_CHAIN_ID = 0
/* RADIOMETRIC DATA ELEMENTS */
BANDWIDTH = 177.0
CENTER_FILTER_WAVELENGTH = 677.5
RADIANCE_OFFSET = 7.59722
RADIANCE_SCALING_FACTOR = 0.029793
REFLECTANCE_SCALING_FACTOR = 0.000687326
MEX:REFLECTANCE_OFFSET = 0.175268
/* IMAGE OBJECT DEFINITIONS */
OBJECT = IMAGE
  INTERCHANGE_FORMAT = BINARY
  LINES = 36373
  LINE_SAMPLES = 13550
  SAMPLE_TYPE = UNSIGNED_INTEGER
  SAMPLE_BITS = 8
  BANDS = 1
  BAND_STORAGE_TYPE = BAND_SEQUENTIAL
  MAXIMUM = 255
  MEAN = 121.791
  MINIMUM = 1
  STANDARD_DEVIATION = 78.6665
END_OBJECT = IMAGE
/* MAP OBJECT DEFINITIONS */
OBJECT = IMAGE_MAP_PROJECTION
  ^DATA_SET_MAP_PROJECTION_CATALOG= "DSMAP.CAT"
  A_AXIS_RADIUS = 3396.0
  B_AXIS_RADIUS = 3396.0
  C_AXIS_RADIUS = 3396.0
  CENTER_LATITUDE = 0.0
  CENTER_LONGITUDE = 36.0
  COORDINATE_SYSTEM_NAME = PLANETOGRAPHIC
  COORDINATE_SYSTEM_TYPE = "BODY-FIXED ROTATING"
  EASTERNMOST_LONGITUDE = 43.8621
  FIRST_STANDARD_PARALLEL = "N/A"
  LINE_FIRST_PIXEL = 1
  LINE_LAST_PIXEL = 36373
  LINE_PROJECTION_OFFSET = -378448.0
  MAP_PROJECTION_ROTATION = 0.0
  MAP_PROJECTION_TYPE = SINUSOIDAL
  MAP_RESOLUTION = 4741.71043093333
  MAP_SCALE = 0.0125
  MAXIMUM_LATITUDE = -79.81229999999999
  MINIMUM_LATITUDE = -87.483
  POSITIVE_LONGITUDE_DIRECTION = EAST
  REFERENCE_LATITUDE = "N/A"
  REFERENCE_LONGITUDE = "N/A"
  SAMPLE_FIRST_PIXEL = 1
  SAMPLE_LAST_PIXEL = 13550
  SAMPLE_PROJECTION_OFFSET = 7051.0
  SECOND_STANDARD_PARALLEL = "N/A"
  WESTERNMOST_LONGITUDE = 7.83642
END_OBJECT = IMAGE_MAP_PROJECTION
END
