PDS_VERSION_ID = PDS3
/* FILE DATA ELEMENTS */
RECORD_TYPE = UNDEFINED
/* POINTERS TO DATA OBJECTS */
^IMAGE = ("H4509_0000_ND4.TIF")
/* IDENTIFICATION DATA ELEMENTS */
DATA_SET_ID = "MEX-M-HRSC-4-REFDR-MAPPROJECT-EXT1-V4.0"
DATA_SET_NAME = "MARS EXPRESS HRSC MAP PROJECTED REFDR EXTENSION1 V4.0"
DETECTOR_ID = MEX_HRSC_NADIR
EVENT_TYPE = "MARS-REGIONAL-MAPPING-Im-Gl-La"
INSTRUMENT_HOST_ID = MEX
INSTRUMENT_HOST_NAME = "MARS EXPRESS"
INSTRUMENT_ID = HRSC
INSTRUMENT_NAME = "HIGH RESOLUTION STEREO CAMERA"
MISSION_NAME = "MARS EXPRESS"
MISSION_PHASE_NAME = ME_Phase_8
PROCESSING_LEVEL_ID = 4
PRODUCT_CREATION_TIME = 2023-02-11T00:15:54.000Z
PRODUCT_ID = "H4509_0000_ND4.TIF"
RELEASE_ID = 0007
REVISION_ID = 0000
/* QUALITY DATA ELEMENTS */
DATA_QUALITY_ID = 1
DATA_QUALITY_DESC = "Data calculated based on original SPICE kernels"
/* TIME DATA ELEMENTS */
SPACECRAFT_CLOCK_START_COUNT = "1/0132041233.07304"
SPACECRAFT_CLOCK_STOP_COUNT = "1/0132041453.32598"
START_TIME = 2007-07-09T06:07:43.796Z
STOP_TIME = 2007-07-09T06:10:28.801Z
/* ORBITAL DATA ELEMENTS */
ASCENDING_NODE_LONGITUDE = 133.97
MAXIMUM_RESOLUTION = 0.0115
FOOTPRINT_POINT_LATITUDE = (-80.1467,-80.2482,-80.3766,-80.447, -80.4496,-80.4621,-80.2443,-80.026, -79.8074,-79.5884,-79.3694,-79.1496, -78.9296,-78.7129,-78.5007,-78.2883, -78.0756,-77.8627,-77.6496,-77.4363, -77.2229,-77.0094,-76.7957,-76.5818, -76.3677,-76.1535,-75.9393,-75.6181, -75.4037,-75.1893,-74.9747,-74.7599, -74.5449,-74.3295,-74.1146,-73.8993, -73.5763,-73.3611,-73.0374,-72.7147, -72.4988,-72.2836,-72.0682,-71.8529, -71.6375,-71.422,-71.2065,-70.8721, -70.6485,-70.4249,-70.2013,-69.9777, -69.7541,-69.6424,-69.6367,-69.5768, -69.5,-69.4984,-69.4978,-69.7198, -69.9416,-70.1635,-70.3853,-70.6071, -70.8288,-71.0495,-71.4763,-71.903, -72.3294,-72.7554,-73.1826,-73.6077, -73.9262,-74.1384,-74.3505,-74.5624, -74.7743,-75.0917,-75.3029,-75.514, -75.7249,-75.9357,-76.1461,-76.3563, -76.5662,-76.7759,-76.9853,-77.1944, -77.6115,-78.0272,-78.4414,-78.7592, -78.9728,-79.1858,-79.3983,-79.6101, -79.8213,-80.0318,-80.1368,-80.1467)
FOOTPRINT_POINT_LONGITUDE = (192.411,194.046,196.385,197.839, 197.896,198.149,198.492,198.82,199.134, 199.435,199.729,200.002,200.265,200.516 ,200.752,200.982,201.201,201.411, 201.615,201.812,202.003,202.188,202.366 ,202.538,202.703,202.864,203.019, 203.253,203.4,203.546,203.683,203.816, 203.94,204.056,204.179,204.29,204.455, 204.565,204.737,204.895,204.982,205.08, 205.174,205.265,205.354,205.438,205.522 ,205.645,205.729,205.812,205.891, 205.968,206.042,206.082,206.084,204.678 ,203.177,203.149,203.135,203.036, 202.934,202.829,202.721,202.611,202.498 ,202.382,202.149,201.904,201.646, 201.375,201.087,200.781,200.538,200.372 ,200.203,200.027,199.848,199.57,199.373 ,199.171,198.964,198.751,198.529, 198.301,198.065,197.821,197.57,197.309, 196.76,196.171,195.539,195.02,194.651, 194.268,193.869,193.452,193.019,192.567 ,192.333,192.411)
ORBIT_NUMBER = 4509
ORBITAL_ECCENTRICITY = 0.57
ORBITAL_INCLINATION = 86.7
ORBITAL_SEMIMAJOR_AXIS = 8534.61
PERIAPSIS_ALTITUDE = 292.4
PERIAPSIS_ARGUMENT_ANGLE = 284.23
PERIAPSIS_TIME = 2007-07-09T06:08:59.000Z
SPACECRAFT_ORIENTATION = (0.0,-1.0,0.0)
^MEX_ORIENTATION_DESC = "MEX_ORIENTATION_DESC.TXT"
SPACECRAFT_POINTING_MODE = ACROSSTRACK
^MEX_POINTING_DESC = "MEX_POINTING_DESC.TXT"
RIGHT_ASCENSION = -1e+32
DECLINATION = -1e+32
OFFSET_ANGLE = -0.2
SPACECRAFT_SOLAR_DISTANCE = 2.07953e+08
TARGET_NAME = MARS
/* CAMERA DATA ELEMENTS */
DETECTOR_TEMPERATURE = 18.3705
FOCAL_PLANE_TEMPERATURE = 8.7872
INST_CMPRS_NAME = "DISCRETE COSINE TRANSFORMATION (DCT)"
INST_CMPRS_RATIO = 7.04856
INST_CMPRS_QUALITY = 0
INST_CMPRS_QUANTZ_TBL_ID = 0
INSTRUMENT_TEMPERATURE = 11.234
LENS_TEMPERATURE = 8.9911
MACROPIXEL_SIZE = 1
MISSING_FRAMES = 0
MISSING_FRAMES = 1
PIXEL_SUBSAMPLING_FLAG = N
SIGNAL_CHAIN_ID = 0
/* RADIOMETRIC DATA ELEMENTS */
BANDWIDTH = 177.0
CENTER_FILTER_WAVELENGTH = 677.5
RADIANCE_OFFSET = 8.21598
RADIANCE_SCALING_FACTOR = 0.0115381
REFLECTANCE_SCALING_FACTOR = 0.000265062
MEX:REFLECTANCE_OFFSET = 0.188744
/* IMAGE OBJECT DEFINITIONS */
OBJECT = IMAGE
  INTERCHANGE_FORMAT = BINARY
  LINES = 51991
  LINE_SAMPLES = 14592
  SAMPLE_TYPE = UNSIGNED_INTEGER
  SAMPLE_BITS = 8
  BANDS = 1
  BAND_STORAGE_TYPE = BAND_SEQUENTIAL
  MAXIMUM = 254
  MEAN = 127.196
  MINIMUM = 1
  STANDARD_DEVIATION = 48.1558
END_OBJECT = IMAGE
/* MAP OBJECT DEFINITIONS */
OBJECT = IMAGE_MAP_PROJECTION
  ^DATA_SET_MAP_PROJECTION_CATALOG= "DSMAP.CAT"
  A_AXIS_RADIUS = 3396.0
  B_AXIS_RADIUS = 3396.0
  C_AXIS_RADIUS = 3396.0
  CENTER_LATITUDE = 0.0
  CENTER_LONGITUDE = 202.0
  COORDINATE_SYSTEM_NAME = PLANETOGRAPHIC
  COORDINATE_SYSTEM_TYPE = "BODY-FIXED ROTATING"
  EASTERNMOST_LONGITUDE = 206.084
  FIRST_STANDARD_PARALLEL = "N/A"
  LINE_FIRST_PIXEL = 1
  LINE_LAST_PIXEL = 51991
  LINE_PROJECTION_OFFSET = -329539.0
  MAP_PROJECTION_ROTATION = 0.0
  MAP_PROJECTION_TYPE = SINUSOIDAL
  MAP_RESOLUTION = 4741.71043093333
  MAP_SCALE = 0.0125
  MAXIMUM_LATITUDE = -69.4978
  MINIMUM_LATITUDE = -80.46210000000001
  POSITIVE_LONGITUDE_DIRECTION = EAST
  REFERENCE_LATITUDE = "N/A"
  REFERENCE_LONGITUDE = "N/A"
  SAMPLE_FIRST_PIXEL = 1
  SAMPLE_LAST_PIXEL = 14592
  SAMPLE_PROJECTION_OFFSET = 7857.0
  SECOND_STANDARD_PARALLEL = "N/A"
  WESTERNMOST_LONGITUDE = 192.333
END_OBJECT = IMAGE_MAP_PROJECTION
END
