PDS_VERSION_ID = PDS3
/* FILE DATA ELEMENTS */
RECORD_TYPE = UNDEFINED
/* POINTERS TO DATA OBJECTS */
^IMAGE = ("H4509_0000_IR4.TIF")
/* IDENTIFICATION DATA ELEMENTS */
DATA_SET_ID = "MEX-M-HRSC-4-REFDR-MAPPROJECT-EXT1-V4.0"
DATA_SET_NAME = "MARS EXPRESS HRSC MAP PROJECTED REFDR EXTENSION1 V4.0"
DETECTOR_ID = MEX_HRSC_IR
EVENT_TYPE = "MARS-REGIONAL-MAPPING-Im-Gl-La"
INSTRUMENT_HOST_ID = MEX
INSTRUMENT_HOST_NAME = "MARS EXPRESS"
INSTRUMENT_ID = HRSC
INSTRUMENT_NAME = "HIGH RESOLUTION STEREO CAMERA"
MISSION_NAME = "MARS EXPRESS"
MISSION_PHASE_NAME = ME_Phase_8
PROCESSING_LEVEL_ID = 4
PRODUCT_CREATION_TIME = 2023-02-11T00:15:54.000Z
PRODUCT_ID = "H4509_0000_IR4.TIF"
RELEASE_ID = 0007
REVISION_ID = 0000
/* QUALITY DATA ELEMENTS */
DATA_QUALITY_ID = 1
DATA_QUALITY_DESC = "Data calculated based on original SPICE kernels"
/* TIME DATA ELEMENTS */
SPACECRAFT_CLOCK_START_COUNT = "1/0132041233.07304"
SPACECRAFT_CLOCK_STOP_COUNT = "1/0132041453.32598"
START_TIME = 2007-07-09T06:07:21.602Z
STOP_TIME = 2007-07-09T06:10:07.359Z
/* ORBITAL DATA ELEMENTS */
ASCENDING_NODE_LONGITUDE = 133.97
MAXIMUM_RESOLUTION = 0.0481
FOOTPRINT_POINT_LATITUDE = (-80.2513,-80.3264,-80.42,-80.55, -80.5524,-80.4896,-80.2749,-80.0597, -79.8439,-79.6277,-79.4104,-79.0846, -78.8675,-78.6495,-78.321,-78.102, -77.8832,-77.6638,-77.3367,-77.1243, -76.8054,-76.5924,-76.2738,-76.0609, -75.8473,-75.6299,-75.4148,-75.198, -74.9827,-74.7683,-74.3448,-74.1288, -73.7043,-73.4889,-73.2704,-72.9418, -72.7243,-72.2975,-72.0813,-71.865, -71.6488,-71.4333,-71.0045,-70.7871, -70.5683,-70.3503,-70.1331,-69.8072, -69.6956,-69.638,-69.6017,-69.551, -69.5103,-69.5089,-69.5092,-69.7296, -69.9455,-70.1607,-70.4834,-70.6979, -70.9135,-71.1275,-71.4491,-71.6634, -71.878,-72.1999,-72.4144,-72.7356, -72.9497,-73.2707,-73.4853,-73.9009, -74.1131,-74.3274,-74.539,-74.7517, -74.9655,-75.2821,-75.4909,-75.8065, -76.0168,-76.2254,-76.4343,-76.7471, -76.9556,-77.1633,-77.3768,-77.6984, -77.9124,-78.1261,-78.4454,-78.6582, -78.87,-79.0808,-79.2908,-79.4998, -79.8121,-80.0208,-80.1242,-80.2513)
FOOTPRINT_POINT_LONGITUDE = (192.146,193.367,195.035,197.724, 197.778,198.146,198.483,198.807,199.116 ,199.413,199.701,200.108,200.363,200.61 ,200.968,201.193,201.409,201.618, 201.916,202.102,202.369,202.54,202.782, 202.938,203.091,203.25,203.397,203.544, 203.681,203.812,204.046,204.17,204.385, 204.496,204.612,204.781,204.885,205.067 ,205.161,205.252,205.34,205.425,205.583 ,205.664,205.747,205.827,205.902, 206.012,206.05,206.07,205.081,203.967, 203.186,203.159,203.15,203.051,202.951, 202.849,202.691,202.582,202.47,202.356, 202.179,202.058,201.933,201.739,201.606 ,201.399,201.257,201.036,200.883, 200.565,200.399,200.229,200.053,199.872 ,199.686,199.396,199.195,198.883, 198.666,198.443,198.212,197.852,197.601 ,197.343,197.067,196.631,196.328, 196.013,195.518,195.173,194.813,194.44, 194.052,193.649,193.012,192.564,192.333 ,192.146)
ORBIT_NUMBER = 4509
ORBITAL_ECCENTRICITY = 0.57
ORBITAL_INCLINATION = 86.7
ORBITAL_SEMIMAJOR_AXIS = 8534.61
PERIAPSIS_ALTITUDE = 292.4
PERIAPSIS_ARGUMENT_ANGLE = 284.23
PERIAPSIS_TIME = 2007-07-09T06:08:59.000Z
SPACECRAFT_ORIENTATION = (0.0,-1.0,0.0)
^MEX_ORIENTATION_DESC = "MEX_ORIENTATION_DESC.TXT"
SPACECRAFT_POINTING_MODE = ACROSSTRACK
^MEX_POINTING_DESC = "MEX_POINTING_DESC.TXT"
RIGHT_ASCENSION = -1e+32
DECLINATION = -1e+32
OFFSET_ANGLE = -0.2
SPACECRAFT_SOLAR_DISTANCE = 2.07953e+08
TARGET_NAME = MARS
/* CAMERA DATA ELEMENTS */
DETECTOR_TEMPERATURE = 17.5549
FOCAL_PLANE_TEMPERATURE = 8.7872
INST_CMPRS_NAME = "DISCRETE COSINE TRANSFORMATION (DCT)"
INST_CMPRS_RATIO = 11.6437
INST_CMPRS_QUALITY = 0
INST_CMPRS_QUANTZ_TBL_ID = 0
INSTRUMENT_TEMPERATURE = 11.234
LENS_TEMPERATURE = 8.9911
MACROPIXEL_SIZE = 4
MISSING_FRAMES = 0
PIXEL_SUBSAMPLING_FLAG = N
SIGNAL_CHAIN_ID = 2
/* RADIOMETRIC DATA ELEMENTS */
BANDWIDTH = 81.0
CENTER_FILTER_WAVELENGTH = 955.5
RADIANCE_OFFSET = 2.2909
RADIANCE_SCALING_FACTOR = 0.00308822
REFLECTANCE_SCALING_FACTOR = 0.000288116
MEX:REFLECTANCE_OFFSET = 0.21373
/* IMAGE OBJECT DEFINITIONS */
OBJECT = IMAGE
  INTERCHANGE_FORMAT = BINARY
  LINES = 12998
  LINE_SAMPLES = 3648
  SAMPLE_TYPE = UNSIGNED_INTEGER
  SAMPLE_BITS = 8
  BANDS = 1
  BAND_STORAGE_TYPE = BAND_SEQUENTIAL
  MAXIMUM = 255
  MEAN = 113.011
  MINIMUM = 1
  STANDARD_DEVIATION = 48.4833
END_OBJECT = IMAGE
/* MAP OBJECT DEFINITIONS */
OBJECT = IMAGE_MAP_PROJECTION
  ^DATA_SET_MAP_PROJECTION_CATALOG= "DSMAP.CAT"
  A_AXIS_RADIUS = 3396.0
  B_AXIS_RADIUS = 3396.0
  C_AXIS_RADIUS = 3396.0
  CENTER_LATITUDE = 0.0
  CENTER_LONGITUDE = 202.0
  COORDINATE_SYSTEM_NAME = PLANETOGRAPHIC
  COORDINATE_SYSTEM_TYPE = "BODY-FIXED ROTATING"
  EASTERNMOST_LONGITUDE = 206.07
  FIRST_STANDARD_PARALLEL = "N/A"
  LINE_FIRST_PIXEL = 1
  LINE_LAST_PIXEL = 12998
  LINE_PROJECTION_OFFSET = -82385.125
  MAP_PROJECTION_ROTATION = 0.0
  MAP_PROJECTION_TYPE = SINUSOIDAL
  MAP_RESOLUTION = 1185.42760773333
  MAP_SCALE = 0.05
  MAXIMUM_LATITUDE = -69.5089
  MINIMUM_LATITUDE = -80.55240000000001
  POSITIVE_LONGITUDE_DIRECTION = EAST
  REFERENCE_LATITUDE = "N/A"
  REFERENCE_LONGITUDE = "N/A"
  SAMPLE_FIRST_PIXEL = 1
  SAMPLE_LAST_PIXEL = 3648
  SAMPLE_PROJECTION_OFFSET = 1963.875
  SECOND_STANDARD_PARALLEL = "N/A"
  WESTERNMOST_LONGITUDE = 192.146
END_OBJECT = IMAGE_MAP_PROJECTION
END
