PDS_VERSION_ID = PDS3
/* FILE DATA ELEMENTS */
RECORD_TYPE = UNDEFINED
/* POINTERS TO DATA OBJECTS */
^IMAGE = ("H4507_0000_GR4.TIF")
/* IDENTIFICATION DATA ELEMENTS */
DATA_SET_ID = "MEX-M-HRSC-4-REFDR-MAPPROJECT-EXT1-V4.0"
DATA_SET_NAME = "MARS EXPRESS HRSC MAP PROJECTED REFDR EXTENSION1 V4.0"
DETECTOR_ID = MEX_HRSC_GREEN
EVENT_TYPE = "MARS-REGIONAL-MAPPING-Vo-Te-Gl"
INSTRUMENT_HOST_ID = MEX
INSTRUMENT_HOST_NAME = "MARS EXPRESS"
INSTRUMENT_ID = HRSC
INSTRUMENT_NAME = "HIGH RESOLUTION STEREO CAMERA"
MISSION_NAME = "MARS EXPRESS"
MISSION_PHASE_NAME = ME_Phase_8
PROCESSING_LEVEL_ID = 4
PRODUCT_CREATION_TIME = 2023-02-11T00:15:54.000Z
PRODUCT_ID = "H4507_0000_GR4.TIF"
RELEASE_ID = 0007
REVISION_ID = 0000
/* QUALITY DATA ELEMENTS */
DATA_QUALITY_ID = 1
DATA_QUALITY_DESC = "Data calculated based on original SPICE kernels"
/* TIME DATA ELEMENTS */
SPACECRAFT_CLOCK_START_COUNT = "1/0131992934.09028"
SPACECRAFT_CLOCK_STOP_COUNT = "1/0131993215.24919"
START_TIME = 2007-07-08T16:42:39.558Z
STOP_TIME = 2007-07-08T16:46:20.758Z
/* ORBITAL DATA ELEMENTS */
ASCENDING_NODE_LONGITUDE = 134.02
MAXIMUM_RESOLUTION = 0.0463
FOOTPRINT_POINT_LATITUDE = (-74.4832,-74.607,-74.6746,-74.6761, -74.6663,-74.3923,-74.1181,-73.8436, -73.4318,-73.1573,-72.8826,-72.6075, -72.3324,-72.0572,-71.7817,-71.3627, -71.0873,-70.6741,-70.3904,-70.1041, -69.8118,-69.5257,-69.2394,-68.9532, -68.6669,-68.2315,-67.9453,-67.6593, -67.3733,-67.0874,-66.6587,-66.3729, -66.0793,-65.7831,-65.4869,-65.191, -64.7474,-64.4516,-64.1559,-63.7001, -63.2451,-62.9397,-62.6344,-62.1765, -61.8716,-61.5668,-61.2557,-60.9409, -60.6257,-60.3122,-60.1551,-60.1034, -60.0526,-60.005,-60.0038,-60.0043, -60.3173,-60.6306,-60.944,-61.4124, -61.7159,-62.0199,-62.3224,-62.6264, -62.9317,-63.2364,-63.539,-63.833, -64.1397,-64.5809,-65.0223,-65.3163, -65.6107,-65.9052,-66.1988,-66.4828, -66.7669,-67.0506,-67.3356,-67.6202, -67.9044,-68.33,-68.7622,-69.1885, -69.4727,-69.7568,-70.1883,-70.4714, -70.881,-71.296,-71.841,-72.2497, -72.6573,-72.9289,-73.3355,-73.6064, -74.0113,-74.283,-74.4178,-74.4832)
FOOTPRINT_POINT_LONGITUDE = (35.906,38.0232,39.3754,39.4086,39.5292 ,39.705,39.8738,40.0378,40.2719,40.4194 ,40.5631,40.7048,40.8411,40.9722, 41.1023,41.2891,41.407,41.5763,41.6882, 41.7991,41.9083,42.0108,42.112,42.2092, 42.3046,42.4441,42.5324,42.6175,42.7007 ,42.7812,42.8973,42.973,43.0478,43.1225 ,43.1952,43.2653,43.3665,43.4331, 43.4978,43.5947,43.6872,43.7471,43.8054 ,43.8919,43.9473,44.0012,44.055,44.1081 ,44.1631,44.2101,44.2348,44.243,42.949, 41.9586,41.937,41.9297,41.8714,41.8113, 41.7493,41.6532,41.5886,41.5231,41.4503 ,41.3799,41.3109,41.2377,41.1616,41.085 ,41.0027,40.8796,40.7506,40.6603, 40.5684,40.4737,40.3763,40.2792,40.1798 ,40.0757,39.973,39.8662,39.7543,39.5775 ,39.3926,39.2022,39.0704,38.9345, 38.7171,38.5693,38.3466,38.109,37.778, 37.5169,37.2392,37.0466,36.7433,36.5328 ,36.1985,35.9745,35.8555,35.906)
ORBIT_NUMBER = 4507
ORBITAL_ECCENTRICITY = 0.57
ORBITAL_INCLINATION = 86.69
ORBITAL_SEMIMAJOR_AXIS = 8536.5
PERIAPSIS_ALTITUDE = 292.76
PERIAPSIS_ARGUMENT_ANGLE = 284.58
PERIAPSIS_TIME = 2007-07-08T16:42:36.000Z
SPACECRAFT_ORIENTATION = (0.0,-1.0,0.0)
^MEX_ORIENTATION_DESC = "MEX_ORIENTATION_DESC.TXT"
SPACECRAFT_POINTING_MODE = NADIR
^MEX_POINTING_DESC = "MEX_POINTING_DESC.TXT"
RIGHT_ASCENSION = -1e+32
DECLINATION = -1e+32
OFFSET_ANGLE = -1e+32
SPACECRAFT_SOLAR_DISTANCE = 2.07912e+08
TARGET_NAME = MARS
/* CAMERA DATA ELEMENTS */
DETECTOR_TEMPERATURE = 18.5744
FOCAL_PLANE_TEMPERATURE = 7.9716
INST_CMPRS_NAME = "DISCRETE COSINE TRANSFORMATION (DCT)"
INST_CMPRS_RATIO = 16.2228
INST_CMPRS_QUALITY = 0
INST_CMPRS_QUANTZ_TBL_ID = 0
INSTRUMENT_TEMPERATURE = 11.0301
LENS_TEMPERATURE = 8.1755
MACROPIXEL_SIZE = 4
MISSING_FRAMES = 5
PIXEL_SUBSAMPLING_FLAG = N
SIGNAL_CHAIN_ID = 2
/* RADIOMETRIC DATA ELEMENTS */
BANDWIDTH = 88.0
CENTER_FILTER_WAVELENGTH = 538.0
RADIANCE_OFFSET = 3.52961
RADIANCE_SCALING_FACTOR = 0.00159711
REFLECTANCE_SCALING_FACTOR = 5.94407e-05
MEX:REFLECTANCE_OFFSET = 0.131364
/* IMAGE OBJECT DEFINITIONS */
OBJECT = IMAGE
  INTERCHANGE_FORMAT = BINARY
  LINES = 17385
  LINE_SAMPLES = 3575
  SAMPLE_TYPE = UNSIGNED_INTEGER
  SAMPLE_BITS = 8
  BANDS = 1
  BAND_STORAGE_TYPE = BAND_SEQUENTIAL
  MAXIMUM = 255
  MEAN = 140.155
  MINIMUM = 1
  STANDARD_DEVIATION = 49.3755
END_OBJECT = IMAGE
/* MAP OBJECT DEFINITIONS */
OBJECT = IMAGE_MAP_PROJECTION
  ^DATA_SET_MAP_PROJECTION_CATALOG= "DSMAP.CAT"
  A_AXIS_RADIUS = 3396.0
  B_AXIS_RADIUS = 3396.0
  C_AXIS_RADIUS = 3396.0
  CENTER_LATITUDE = 0.0
  CENTER_LONGITUDE = 41.0
  COORDINATE_SYSTEM_NAME = PLANETOGRAPHIC
  COORDINATE_SYSTEM_TYPE = "BODY-FIXED ROTATING"
  EASTERNMOST_LONGITUDE = 44.243
  FIRST_STANDARD_PARALLEL = "N/A"
  LINE_FIRST_PIXEL = 1
  LINE_LAST_PIXEL = 17385
  LINE_PROJECTION_OFFSET = -71131.625
  MAP_PROJECTION_ROTATION = 0.0
  MAP_PROJECTION_TYPE = SINUSOIDAL
  MAP_RESOLUTION = 1185.42760773333
  MAP_SCALE = 0.05
  MAXIMUM_LATITUDE = -60.0038
  MINIMUM_LATITUDE = -74.67610000000001
  POSITIVE_LONGITUDE_DIRECTION = EAST
  REFERENCE_LATITUDE = "N/A"
  REFERENCE_LONGITUDE = "N/A"
  SAMPLE_FIRST_PIXEL = 1
  SAMPLE_LAST_PIXEL = 3575
  SAMPLE_PROJECTION_OFFSET = 1646.625
  SECOND_STANDARD_PARALLEL = "N/A"
  WESTERNMOST_LONGITUDE = 35.8555
END_OBJECT = IMAGE_MAP_PROJECTION
END
