PDS_VERSION_ID = PDS3
/* FILE DATA ELEMENTS */
RECORD_TYPE = UNDEFINED
/* POINTERS TO DATA OBJECTS */
^IMAGE = ("H4505_0000_P14.TIF")
/* IDENTIFICATION DATA ELEMENTS */
DATA_SET_ID = "MEX-M-HRSC-4-REFDR-MAPPROJECT-EXT1-V4.0"
DATA_SET_NAME = "MARS EXPRESS HRSC MAP PROJECTED REFDR EXTENSION1 V4.0"
DETECTOR_ID = MEX_HRSC_P1
EVENT_TYPE = "MARS-REGIONAL-MAPPING-Te-Im"
INSTRUMENT_HOST_ID = MEX
INSTRUMENT_HOST_NAME = "MARS EXPRESS"
INSTRUMENT_ID = HRSC
INSTRUMENT_NAME = "HIGH RESOLUTION STEREO CAMERA"
MISSION_NAME = "MARS EXPRESS"
MISSION_PHASE_NAME = ME_Phase_8
PROCESSING_LEVEL_ID = 4
PRODUCT_CREATION_TIME = 2023-02-11T00:15:54.000Z
PRODUCT_ID = "H4505_0000_P14.TIF"
RELEASE_ID = 0007
REVISION_ID = 0000
/* QUALITY DATA ELEMENTS */
DATA_QUALITY_ID = 1
DATA_QUALITY_DESC = "Data calculated based on original SPICE kernels"
/* TIME DATA ELEMENTS */
SPACECRAFT_CLOCK_START_COUNT = "1/0131944761.07276"
SPACECRAFT_CLOCK_STOP_COUNT = "1/0131945076.22611"
START_TIME = 2007-07-08T03:19:34.819Z
STOP_TIME = 2007-07-08T03:23:20.783Z
/* ORBITAL DATA ELEMENTS */
ASCENDING_NODE_LONGITUDE = 134.06
MAXIMUM_RESOLUTION = 0.0265
FOOTPRINT_POINT_LATITUDE = (-60.2545,-60.2874,-60.3262,-60.3492, -60.3499,-60.3025,-59.7863,-59.5244, -59.0036,-58.4812,-58.0847,-57.8149, -57.546,-57.2783,-57.0077,-56.7329, -56.4598,-56.1917,-55.7943,-55.5244, -55.2555,-54.8521,-54.5844,-54.3109, -54.0414,-53.7739,-53.4658,-52.9897, -52.6716,-52.3516,-51.8752,-51.5562, -51.2388,-50.922,-50.6055,-50.2892, -49.9733,-49.4998,-49.1848,-48.8635, -48.5406,-48.2194,-47.8914,-47.5603, -47.2305,-46.8947,-46.5577,-46.046, -45.7041,-45.5306,-45.5227,-45.5169, -45.5066,-45.4854,-45.4655,-45.4647, -45.4649,-45.8078,-46.1515,-46.4843, -46.8245,-47.1593,-47.4882,-47.8178, -48.1451,-48.4668,-48.789,-49.1099, -49.4243,-49.7401,-50.2126,-50.529, -51.0025,-51.3194,-51.6344,-51.9507, -52.2681,-52.586,-53.0625,-53.534, -53.9603,-54.2282,-54.6304,-54.8988, -55.1682,-55.4349,-55.7032,-55.9724, -56.375,-56.7775,-57.182,-57.5845, -57.8534,-58.2524,-58.903,-59.4245, -59.6855,-60.0732,-60.1994,-60.2545)
FOOTPRINT_POINT_LONGITUDE = (238.536,239.191,240.079,240.694, 240.715,240.775,240.855,240.893,240.966 ,241.038,241.091,241.127,241.16,241.192 ,241.227,241.265,241.301,241.331, 241.371,241.402,241.432,241.476,241.503 ,241.536,241.564,241.591,241.617,241.66 ,241.689,241.719,241.761,241.789, 241.816,241.842,241.868,241.893,241.917 ,241.953,241.976,241.999,242.022, 242.044,242.066,242.089,242.11,242.132, 242.153,242.186,242.205,242.216,242.216 ,241.808,241.337,240.587,240.03,240.009 ,240.001,239.986,239.97,239.953,239.938 ,239.921,239.903,239.885,239.866, 239.847,239.827,239.807,239.786,239.765 ,239.731,239.708,239.671,239.646, 239.618,239.591,239.562,239.534,239.488 ,239.437,239.396,239.368,239.324, 239.294,239.264,239.231,239.198,239.165 ,239.113,239.058,239.002,238.943, 238.902,238.84,238.734,238.644,238.598, 238.527,238.503,238.536)
ORBIT_NUMBER = 4505
ORBITAL_ECCENTRICITY = 0.57
ORBITAL_INCLINATION = 86.7
ORBITAL_SEMIMAJOR_AXIS = 8534.83
PERIAPSIS_ALTITUDE = 292.02
PERIAPSIS_ARGUMENT_ANGLE = 284.91
PERIAPSIS_TIME = 2007-07-08T03:16:12.000Z
SPACECRAFT_ORIENTATION = (0.0,-1.0,0.0)
^MEX_ORIENTATION_DESC = "MEX_ORIENTATION_DESC.TXT"
SPACECRAFT_POINTING_MODE = NADIR
^MEX_POINTING_DESC = "MEX_POINTING_DESC.TXT"
RIGHT_ASCENSION = -1e+32
DECLINATION = -1e+32
OFFSET_ANGLE = -1e+32
SPACECRAFT_SOLAR_DISTANCE = 2.07872e+08
TARGET_NAME = MARS
/* CAMERA DATA ELEMENTS */
DETECTOR_TEMPERATURE = 17.7588
FOCAL_PLANE_TEMPERATURE = 8.7872
INST_CMPRS_NAME = "DISCRETE COSINE TRANSFORMATION (DCT)"
INST_CMPRS_RATIO = 12.9158
INST_CMPRS_QUALITY = 0
INST_CMPRS_QUANTZ_TBL_ID = 0
INSTRUMENT_TEMPERATURE = 11.234
LENS_TEMPERATURE = 8.9911
MACROPIXEL_SIZE = 2
MISSING_FRAMES = 0
PIXEL_SUBSAMPLING_FLAG = N
SIGNAL_CHAIN_ID = 3
/* RADIOMETRIC DATA ELEMENTS */
BANDWIDTH = 174.0
CENTER_FILTER_WAVELENGTH = 675.0
RADIANCE_OFFSET = 8.68311
RADIANCE_SCALING_FACTOR = 0.0186148
REFLECTANCE_SCALING_FACTOR = 0.000432651
MEX:REFLECTANCE_OFFSET = 0.201816
/* IMAGE OBJECT DEFINITIONS */
OBJECT = IMAGE
  INTERCHANGE_FORMAT = BINARY
  LINES = 35187
  LINE_SAMPLES = 5075
  SAMPLE_TYPE = UNSIGNED_INTEGER
  SAMPLE_BITS = 8
  BANDS = 1
  BAND_STORAGE_TYPE = BAND_SEQUENTIAL
  MAXIMUM = 255
  MEAN = 136.018
  MINIMUM = 1
  STANDARD_DEVIATION = 62.5357
END_OBJECT = IMAGE
/* MAP OBJECT DEFINITIONS */
OBJECT = IMAGE_MAP_PROJECTION
  ^DATA_SET_MAP_PROJECTION_CATALOG= "DSMAP.CAT"
  A_AXIS_RADIUS = 3396.0
  B_AXIS_RADIUS = 3396.0
  C_AXIS_RADIUS = 3396.0
  CENTER_LATITUDE = 0.0
  CENTER_LONGITUDE = 241.0
  COORDINATE_SYSTEM_NAME = PLANETOGRAPHIC
  COORDINATE_SYSTEM_TYPE = "BODY-FIXED ROTATING"
  EASTERNMOST_LONGITUDE = 242.216
  FIRST_STANDARD_PARALLEL = "N/A"
  LINE_FIRST_PIXEL = 1
  LINE_LAST_PIXEL = 35187
  LINE_PROJECTION_OFFSET = -107769.25
  MAP_PROJECTION_ROTATION = 0.0
  MAP_PROJECTION_TYPE = SINUSOIDAL
  MAP_RESOLUTION = 2370.85521546667
  MAP_SCALE = 0.025
  MAXIMUM_LATITUDE = -45.4647
  MINIMUM_LATITUDE = -60.3499
  POSITIVE_LONGITUDE_DIRECTION = EAST
  REFERENCE_LATITUDE = "N/A"
  REFERENCE_LONGITUDE = "N/A"
  SAMPLE_FIRST_PIXEL = 1
  SAMPLE_LAST_PIXEL = 5075
  SAMPLE_PROJECTION_OFFSET = 2971.75
  SECOND_STANDARD_PARALLEL = "N/A"
  WESTERNMOST_LONGITUDE = 238.503
END_OBJECT = IMAGE_MAP_PROJECTION
END
