PDS_VERSION_ID = PDS3
/* FILE DATA ELEMENTS */
RECORD_TYPE = UNDEFINED
/* POINTERS TO DATA OBJECTS */
^IMAGE = ("H4499_0000_S14.TIF")
/* IDENTIFICATION DATA ELEMENTS */
DATA_SET_ID = "MEX-M-HRSC-4-REFDR-MAPPROJECT-EXT1-V4.0"
DATA_SET_NAME = "MARS EXPRESS HRSC MAP PROJECTED REFDR EXTENSION1 V4.0"
DETECTOR_ID = MEX_HRSC_S1
EVENT_TYPE = "MARS-REGIONAL-MAPPING-Gl-Eo-La"
INSTRUMENT_HOST_ID = MEX
INSTRUMENT_HOST_NAME = "MARS EXPRESS"
INSTRUMENT_ID = HRSC
INSTRUMENT_NAME = "HIGH RESOLUTION STEREO CAMERA"
MISSION_NAME = "MARS EXPRESS"
MISSION_PHASE_NAME = ME_Phase_8
PROCESSING_LEVEL_ID = 4
PRODUCT_CREATION_TIME = 2023-02-10T03:49:22.000Z
PRODUCT_ID = "H4499_0000_S14.TIF"
RELEASE_ID = 0006
REVISION_ID = 0000
/* QUALITY DATA ELEMENTS */
DATA_QUALITY_ID = 1
DATA_QUALITY_DESC = "Data calculated based on original SPICE kernels"
/* TIME DATA ELEMENTS */
SPACECRAFT_CLOCK_START_COUNT = "1/0131799288.08246"
SPACECRAFT_CLOCK_STOP_COUNT = "1/0131799421.15947"
START_TIME = 2007-07-06T10:55:45.946Z
STOP_TIME = 2007-07-06T10:57:03.318Z
/* ORBITAL DATA ELEMENTS */
ASCENDING_NODE_LONGITUDE = 134.18
MAXIMUM_RESOLUTION = 0.0244
FOOTPRINT_POINT_LATITUDE = (-80.504,-80.459,-80.4118,-80.3626, -80.3243,-80.2443,-80.1813,-80.1777, -80.2534,-80.1069,-80.0095,-79.912, -79.814,-79.6669,-79.5689,-79.4705, -79.3228,-79.224,-79.125,-79.0264, -78.8776,-78.7783,-78.632,-78.5359, -78.4399,-78.2958,-78.1995,-78.0549, -77.9583,-77.8135,-77.6687,-77.5713, -77.3787,-77.2805,-77.1825,-77.0836, -76.9367,-76.8389,-76.7404,-76.5488, -76.403,-76.2077,-76.0607,-75.9622, -75.8148,-75.7166,-75.5668,-75.4186, -75.3688,-75.3391,-75.3945,-75.44, -75.4853,-75.5364,-75.5657,-75.5674, -75.5684,-75.6683,-75.8675,-76.0156, -76.2071,-76.4072,-76.5079,-76.6559, -76.8543,-76.9546,-77.0544,-77.1547, -77.2551,-77.4058,-77.5055,-77.6553, -77.7549,-77.8547,-77.954,-78.0529, -78.2019,-78.3012,-78.4002,-78.5488, -78.6477,-78.7465,-78.8948,-78.9937, -79.147,-79.2494,-79.3519,-79.4542, -79.5564,-79.658,-79.8105,-79.913, -80.0153,-80.1171,-80.2187,-80.3195, -80.4211,-80.5223,-80.5709,-80.504)
FOOTPRINT_POINT_LONGITUDE = (98.6731,97.8009,96.9357,96.077,95.4383 ,94.1733,93.2349,93.1831,92.7416, 93.1126,93.351,93.5847,93.8151,94.1516, 94.3689,94.5835,94.8971,95.1017,95.3027 ,95.4978,95.7863,95.9742,96.2451, 96.4185,96.5886,96.8379,97.0009,97.2403 ,97.3969,97.6261,97.8489,97.9971, 98.2782,98.4213,98.5615,98.7023,98.9038 ,99.035,99.1659,99.4046,99.5847,99.8212 ,99.9951,100.11,100.278,100.388,100.556 ,100.716,100.77,100.801,101.707,102.462 ,103.221,104.064,104.683,104.721, 104.735,104.658,104.5,104.378,104.21, 104.039,103.951,103.817,103.633,103.539 ,103.444,103.347,103.249,103.098, 102.995,102.838,102.731,102.622,102.511 ,102.399,102.226,102.109,101.989, 101.806,101.681,101.554,101.359,101.226 ,101.014,100.869,100.721,100.57,100.417 ,100.26,100.019,99.8538,99.6853,99.5134 ,99.3378,99.1587,98.9755,98.7884,98.694 ,98.6731)
ORBIT_NUMBER = 4499
ORBITAL_ECCENTRICITY = 0.57
ORBITAL_INCLINATION = 86.69
ORBITAL_SEMIMAJOR_AXIS = 8538.17
PERIAPSIS_ALTITUDE = 292.22
PERIAPSIS_ARGUMENT_ANGLE = 285.95
PERIAPSIS_TIME = 2007-07-06T10:57:05.000Z
SPACECRAFT_ORIENTATION = (0.0,1.0,0.0)
^MEX_ORIENTATION_DESC = "MEX_ORIENTATION_DESC.TXT"
SPACECRAFT_POINTING_MODE = ACROSSTRACK
^MEX_POINTING_DESC = "MEX_POINTING_DESC.TXT"
RIGHT_ASCENSION = -1e+32
DECLINATION = -1e+32
OFFSET_ANGLE = 0.1
SPACECRAFT_SOLAR_DISTANCE = 2.07756e+08
TARGET_NAME = MARS
/* CAMERA DATA ELEMENTS */
DETECTOR_TEMPERATURE = 17.5549
FOCAL_PLANE_TEMPERATURE = 7.7677
INST_CMPRS_NAME = "DISCRETE COSINE TRANSFORMATION (DCT)"
INST_CMPRS_RATIO = 12.1883
INST_CMPRS_QUALITY = 0
INST_CMPRS_QUANTZ_TBL_ID = 0
INSTRUMENT_TEMPERATURE = 11.0301
LENS_TEMPERATURE = 8.5833
MACROPIXEL_SIZE = 2
MISSING_FRAMES = 0
PIXEL_SUBSAMPLING_FLAG = N
SIGNAL_CHAIN_ID = 1
/* RADIOMETRIC DATA ELEMENTS */
BANDWIDTH = 180.0
CENTER_FILTER_WAVELENGTH = 677.0
RADIANCE_OFFSET = 9.95514
RADIANCE_SCALING_FACTOR = 0.00785038
REFLECTANCE_SCALING_FACTOR = 0.000176783
MEX:REFLECTANCE_OFFSET = 0.22418
/* IMAGE OBJECT DEFINITIONS */
OBJECT = IMAGE
  INTERCHANGE_FORMAT = BINARY
  LINES = 12480
  LINE_SAMPLES = 5721
  SAMPLE_TYPE = UNSIGNED_INTEGER
  SAMPLE_BITS = 8
  BANDS = 1
  BAND_STORAGE_TYPE = BAND_SEQUENTIAL
  MAXIMUM = 254
  MEAN = 164.802
  MINIMUM = 1
  STANDARD_DEVIATION = 35.59
END_OBJECT = IMAGE
/* MAP OBJECT DEFINITIONS */
OBJECT = IMAGE_MAP_PROJECTION
  ^DATA_SET_MAP_PROJECTION_CATALOG= "DSMAP.CAT"
  A_AXIS_RADIUS = 3396.0
  B_AXIS_RADIUS = 3396.0
  C_AXIS_RADIUS = 3396.0
  CENTER_LATITUDE = 0.0
  CENTER_LONGITUDE = 100.0
  COORDINATE_SYSTEM_NAME = PLANETOGRAPHIC
  COORDINATE_SYSTEM_TYPE = "BODY-FIXED ROTATING"
  EASTERNMOST_LONGITUDE = 104.735
  FIRST_STANDARD_PARALLEL = "N/A"
  LINE_FIRST_PIXEL = 1
  LINE_LAST_PIXEL = 12480
  LINE_PROJECTION_OFFSET = -178672.75
  MAP_PROJECTION_ROTATION = 0.0
  MAP_PROJECTION_TYPE = SINUSOIDAL
  MAP_RESOLUTION = 2370.85521546667
  MAP_SCALE = 0.025
  MAXIMUM_LATITUDE = -75.3391
  MINIMUM_LATITUDE = -80.57089999999999
  POSITIVE_LONGITUDE_DIRECTION = EAST
  REFERENCE_LATITUDE = "N/A"
  REFERENCE_LONGITUDE = "N/A"
  SAMPLE_FIRST_PIXEL = 1
  SAMPLE_LAST_PIXEL = 5721
  SAMPLE_PROJECTION_OFFSET = 2940.75
  SECOND_STANDARD_PARALLEL = "N/A"
  WESTERNMOST_LONGITUDE = 92.74160000000001
END_OBJECT = IMAGE_MAP_PROJECTION
END
