PDS_VERSION_ID = PDS3
/* FILE DATA ELEMENTS */
RECORD_TYPE = UNDEFINED
/* POINTERS TO DATA OBJECTS */
^IMAGE = ("H4496_0000_IR4.TIF")
/* IDENTIFICATION DATA ELEMENTS */
DATA_SET_ID = "MEX-M-HRSC-4-REFDR-MAPPROJECT-EXT1-V4.0"
DATA_SET_NAME = "MARS EXPRESS HRSC MAP PROJECTED REFDR EXTENSION1 V4.0"
DETECTOR_ID = MEX_HRSC_IR
EVENT_TYPE = "MARS-REGIONAL-MAPPING-Vo-Te-Gl"
INSTRUMENT_HOST_ID = MEX
INSTRUMENT_HOST_NAME = "MARS EXPRESS"
INSTRUMENT_ID = HRSC
INSTRUMENT_NAME = "HIGH RESOLUTION STEREO CAMERA"
MISSION_NAME = "MARS EXPRESS"
MISSION_PHASE_NAME = ME_Phase_8
PROCESSING_LEVEL_ID = 4
PRODUCT_CREATION_TIME = 2023-02-10T03:49:22.000Z
PRODUCT_ID = "H4496_0000_IR4.TIF"
RELEASE_ID = 0006
REVISION_ID = 0000
/* QUALITY DATA ELEMENTS */
DATA_QUALITY_ID = 1
DATA_QUALITY_DESC = "Data calculated based on original SPICE kernels"
/* TIME DATA ELEMENTS */
SPACECRAFT_CLOCK_START_COUNT = "1/0131726798.09050"
SPACECRAFT_CLOCK_STOP_COUNT = "1/0131727077.24793"
START_TIME = 2007-07-05T14:46:46.690Z
STOP_TIME = 2007-07-05T14:50:25.489Z
/* ORBITAL DATA ELEMENTS */
ASCENDING_NODE_LONGITUDE = 134.24
MAXIMUM_RESOLUTION = 0.0482
FOOTPRINT_POINT_LATITUDE = (-74.6189,-74.6694,-74.715,-74.767, -74.7681,-74.7002,-74.2768,-73.5813, -73.1626,-72.8829,-72.6044,-72.3235, -72.0434,-71.7611,-71.4792,-71.1979, -70.916,-70.4935,-70.0721,-69.6493, -69.3664,-69.0831,-68.8004,-68.3767, -68.0893,-67.7958,-67.5005,-67.2068, -66.7671,-66.3252,-66.0319,-65.7373, -65.4438,-65.1478,-64.7047,-64.4095, -63.9666,-63.6714,-63.3729,-63.0667, -62.7603,-62.3009,-61.842,-61.536, -61.2297,-60.9243,-60.6182,-60.301, -60.1425,-60.1143,-60.094,-60.0593, -60.0586,-60.0592,-60.3754,-60.6854, -60.9919,-61.2965,-61.6019,-61.9072, -62.2131,-62.5185,-62.8242,-63.1285, -63.4315,-63.8723,-64.1665,-64.4598, -64.7542,-65.1931,-65.4853,-65.7785, -66.0709,-66.3639,-66.6561,-66.948, -67.2395,-67.5318,-67.9701,-68.3976, -68.6783,-68.9599,-69.2401,-69.5212, -69.8014,-70.2218,-70.502,-70.7799, -71.1979,-71.6164,-71.8946,-72.3108, -72.5876,-73.0021,-73.4155,-73.6908, -73.9659,-74.3777,-74.5191,-74.6189)
FOOTPRINT_POINT_LONGITUDE = (38.4086,39.4707,40.5529,42.0028, 42.0378,42.281,42.5038,42.8357,43.0235, 43.144,43.2565,43.3713,43.4796,43.5902, 43.6954,43.7951,43.8927,44.032,44.1616, 44.2877,44.371,44.4521,44.5296,44.6401, 44.713,44.7844,44.8577,44.9253,45.021, 45.1167,45.1758,45.2355,45.2915,45.3506 ,45.4345,45.4882,45.5662,45.6165, 45.6668,45.7163,45.7649,45.8351,45.902, 45.9452,45.9881,46.0284,46.0688,46.1101 ,46.1304,46.1338,45.2323,43.9304, 43.9101,43.9031,43.8514,43.7989,43.7459 ,43.6914,43.6352,43.5774,43.5178, 43.4565,43.3933,43.3284,43.2618,43.1614 ,43.0919,43.0206,42.947,42.8327,42.7538 ,42.6724,42.5886,42.5022,42.4133, 42.3217,42.2273,42.1299,41.9779,41.8227 ,41.7166,41.6071,41.4944,41.3779, 41.2578,41.0704,40.9404,40.8067,40.5973 ,40.377,40.224,39.9849,39.8186,39.5582, 39.2838,39.0925,38.894,38.5824,38.4711, 38.4086)
ORBIT_NUMBER = 4496
ORBITAL_ECCENTRICITY = 0.57
ORBITAL_INCLINATION = 86.69
ORBITAL_SEMIMAJOR_AXIS = 8538.24
PERIAPSIS_ALTITUDE = 292.62
PERIAPSIS_ARGUMENT_ANGLE = 286.48
PERIAPSIS_TIME = 2007-07-05T14:47:28.000Z
SPACECRAFT_ORIENTATION = (0.0,-1.0,0.0)
^MEX_ORIENTATION_DESC = "MEX_ORIENTATION_DESC.TXT"
SPACECRAFT_POINTING_MODE = ACROSSTRACK
^MEX_POINTING_DESC = "MEX_POINTING_DESC.TXT"
RIGHT_ASCENSION = -1e+32
DECLINATION = -1e+32
OFFSET_ANGLE = -0.4
SPACECRAFT_SOLAR_DISTANCE = 2.077e+08
TARGET_NAME = MARS
/* CAMERA DATA ELEMENTS */
DETECTOR_TEMPERATURE = 17.7588
FOCAL_PLANE_TEMPERATURE = 8.9911
INST_CMPRS_NAME = "DISCRETE COSINE TRANSFORMATION (DCT)"
INST_CMPRS_RATIO = 11.3907
INST_CMPRS_QUALITY = 0
INST_CMPRS_QUANTZ_TBL_ID = 0
INSTRUMENT_TEMPERATURE = 11.234
LENS_TEMPERATURE = 9.195
MACROPIXEL_SIZE = 4
MISSING_FRAMES = 0
PIXEL_SUBSAMPLING_FLAG = N
SIGNAL_CHAIN_ID = 2
/* RADIOMETRIC DATA ELEMENTS */
BANDWIDTH = 81.0
CENTER_FILTER_WAVELENGTH = 955.5
RADIANCE_OFFSET = 2.2929
RADIANCE_SCALING_FACTOR = 0.00528004
REFLECTANCE_SCALING_FACTOR = 0.000491403
MEX:REFLECTANCE_OFFSET = 0.213395
/* IMAGE OBJECT DEFINITIONS */
OBJECT = IMAGE
  INTERCHANGE_FORMAT = BINARY
  LINES = 17387
  LINE_SAMPLES = 3300
  SAMPLE_TYPE = UNSIGNED_INTEGER
  SAMPLE_BITS = 8
  BANDS = 1
  BAND_STORAGE_TYPE = BAND_SEQUENTIAL
  MAXIMUM = 255
  MEAN = 150.874
  MINIMUM = 1
  STANDARD_DEVIATION = 37.5102
END_OBJECT = IMAGE
/* MAP OBJECT DEFINITIONS */
OBJECT = IMAGE_MAP_PROJECTION
  ^DATA_SET_MAP_PROJECTION_CATALOG= "DSMAP.CAT"
  A_AXIS_RADIUS = 3396.0
  B_AXIS_RADIUS = 3396.0
  C_AXIS_RADIUS = 3396.0
  CENTER_LATITUDE = 0.0
  CENTER_LONGITUDE = 43.0
  COORDINATE_SYSTEM_NAME = PLANETOGRAPHIC
  COORDINATE_SYSTEM_TYPE = "BODY-FIXED ROTATING"
  EASTERNMOST_LONGITUDE = 46.1338
  FIRST_STANDARD_PARALLEL = "N/A"
  LINE_FIRST_PIXEL = 1
  LINE_LAST_PIXEL = 17387
  LINE_PROJECTION_OFFSET = -71166.625
  MAP_PROJECTION_ROTATION = 0.0
  MAP_PROJECTION_TYPE = SINUSOIDAL
  MAP_RESOLUTION = 1185.42760773333
  MAP_SCALE = 0.05
  MAXIMUM_LATITUDE = -60.0586
  MINIMUM_LATITUDE = -74.7681
  POSITIVE_LONGITUDE_DIRECTION = EAST
  REFERENCE_LATITUDE = "N/A"
  REFERENCE_LONGITUDE = "N/A"
  SAMPLE_FIRST_PIXEL = 1
  SAMPLE_LAST_PIXEL = 3300
  SAMPLE_PROJECTION_OFFSET = 1433.125
  SECOND_STANDARD_PARALLEL = "N/A"
  WESTERNMOST_LONGITUDE = 38.4086
END_OBJECT = IMAGE_MAP_PROJECTION
END
