PDS_VERSION_ID = PDS3
/* FILE DATA ELEMENTS */
RECORD_TYPE = UNDEFINED
/* POINTERS TO DATA OBJECTS */
^IMAGE = ("H4491_0000_S24.TIF")
/* IDENTIFICATION DATA ELEMENTS */
DATA_SET_ID = "MEX-M-HRSC-4-REFDR-MAPPROJECT-EXT1-V4.0"
DATA_SET_NAME = "MARS EXPRESS HRSC MAP PROJECTED REFDR EXTENSION1 V4.0"
DETECTOR_ID = MEX_HRSC_S2
EVENT_TYPE = "MARS-REGIONAL-MAPPING-Im-Eo"
INSTRUMENT_HOST_ID = MEX
INSTRUMENT_HOST_NAME = "MARS EXPRESS"
INSTRUMENT_ID = HRSC
INSTRUMENT_NAME = "HIGH RESOLUTION STEREO CAMERA"
MISSION_NAME = "MARS EXPRESS"
MISSION_PHASE_NAME = ME_Phase_8
PROCESSING_LEVEL_ID = 4
PRODUCT_CREATION_TIME = 2023-02-10T03:49:22.000Z
PRODUCT_ID = "H4491_0000_S24.TIF"
RELEASE_ID = 0006
REVISION_ID = 0000
/* QUALITY DATA ELEMENTS */
DATA_QUALITY_ID = 1
DATA_QUALITY_DESC = "Data calculated based on original SPICE kernels"
/* TIME DATA ELEMENTS */
SPACECRAFT_CLOCK_START_COUNT = "1/0131605931.08359"
SPACECRAFT_CLOCK_STOP_COUNT = "1/0131606214.65209"
START_TIME = 2007-07-04T05:12:15.176Z
STOP_TIME = 2007-07-04T05:15:50.556Z
/* ORBITAL DATA ELEMENTS */
ASCENDING_NODE_LONGITUDE = 134.34
MAXIMUM_RESOLUTION = 0.0247
FOOTPRINT_POINT_LATITUDE = (-67.969,-67.9253,-67.8407,-67.8392, -67.7494,-67.0938,-66.6989,-66.4354, -66.1637,-65.8899,-65.6153,-65.3409, -65.066,-64.6539,-64.2416,-63.9667, -63.6911,-63.416,-63.1402,-62.8649, -62.5886,-62.1749,-61.8976,-61.6115, -61.3252,-61.0387,-60.7509,-60.3207, -60.0338,-59.7479,-59.3186,-59.0273, -58.7312,-58.4345,-58.1387,-57.842, -57.3972,-57.0993,-56.7964,-56.49, -56.03,-55.7159,-55.4065,-55.1066, -54.7872,-54.4692,-53.9925,-53.5161, -53.3576,-53.3516,-53.3812,-53.3992, -53.4255,-53.4261,-53.4267,-53.7437, -54.0626,-54.381,-54.6997,-55.1779, -55.4866,-55.949,-56.2573,-56.5661, -56.8748,-57.1791,-57.4767,-57.9233, -58.2214,-58.519,-58.8169,-59.2632, -59.5496,-59.9812,-60.2689,-60.557, -60.8445,-61.2754,-61.5636,-61.8515, -62.1359,-62.413,-62.6905,-62.9684, -63.3842,-63.6612,-64.0777,-64.4912, -64.7673,-65.0436,-65.3202,-65.7343, -66.0102,-66.2863,-66.5563,-66.8216, -67.3511,-67.7474,-67.8803,-67.969)
FOOTPRINT_POINT_LONGITUDE = (174.902,173.931,172.372,172.347, 172.308,172.562,172.707,172.8,172.892, 172.984,173.073,173.159,173.244,173.367 ,173.485,173.561,173.635,173.707, 173.778,173.847,173.913,174.011,174.074 ,174.137,174.199,174.259,174.318, 174.403,174.458,174.512,174.59,174.641, 174.692,174.742,174.79,174.837,174.906, 174.949,174.993,175.036,175.098,175.136 ,175.174,175.214,175.252,175.288, 175.341,175.392,175.409,175.409,176.119 ,176.613,177.424,177.444,177.451, 177.421,177.39,177.358,177.325,177.274, 177.241,177.19,177.155,177.118,177.082, 177.045,177.008,176.952,176.913,176.873 ,176.833,176.771,176.731,176.667, 176.623,176.578,176.533,176.463,176.414 ,176.364,176.314,176.264,176.213,176.16 ,176.08,176.024,175.938,175.851,175.791 ,175.729,175.665,175.567,175.5,175.431, 175.363,175.293,175.149,175.037,174.998 ,174.902)
ORBIT_NUMBER = 4491
ORBITAL_ECCENTRICITY = 0.57
ORBITAL_INCLINATION = 86.69
ORBITAL_SEMIMAJOR_AXIS = 8538.24
PERIAPSIS_ALTITUDE = 292.98
PERIAPSIS_ARGUMENT_ANGLE = 287.35
PERIAPSIS_TIME = 2007-07-04T05:11:32.000Z
SPACECRAFT_ORIENTATION = (0.0,1.0,0.0)
^MEX_ORIENTATION_DESC = "MEX_ORIENTATION_DESC.TXT"
SPACECRAFT_POINTING_MODE = NADIR
^MEX_POINTING_DESC = "MEX_POINTING_DESC.TXT"
RIGHT_ASCENSION = -1e+32
DECLINATION = -1e+32
OFFSET_ANGLE = -1e+32
SPACECRAFT_SOLAR_DISTANCE = 2.0761e+08
TARGET_NAME = MARS
/* CAMERA DATA ELEMENTS */
DETECTOR_TEMPERATURE = 18.7783
FOCAL_PLANE_TEMPERATURE = 8.7872
INST_CMPRS_NAME = "DISCRETE COSINE TRANSFORMATION (DCT)"
INST_CMPRS_RATIO = 21.4128
INST_CMPRS_QUALITY = 0
INST_CMPRS_QUANTZ_TBL_ID = 0
INSTRUMENT_TEMPERATURE = 11.6418
LENS_TEMPERATURE = 9.195
MACROPIXEL_SIZE = 2
MISSING_FRAMES = 0
PIXEL_SUBSAMPLING_FLAG = N
SIGNAL_CHAIN_ID = 1
/* RADIOMETRIC DATA ELEMENTS */
BANDWIDTH = 178.0
CENTER_FILTER_WAVELENGTH = 679.0
RADIANCE_OFFSET = 12.3813
RADIANCE_SCALING_FACTOR = 0.00799718
REFLECTANCE_SCALING_FACTOR = 0.000182542
MEX:REFLECTANCE_OFFSET = 0.282614
/* IMAGE OBJECT DEFINITIONS */
OBJECT = IMAGE
  INTERCHANGE_FORMAT = BINARY
  LINES = 34402
  LINE_SAMPLES = 5929
  SAMPLE_TYPE = UNSIGNED_INTEGER
  SAMPLE_BITS = 8
  BANDS = 1
  BAND_STORAGE_TYPE = BAND_SEQUENTIAL
  MAXIMUM = 255
  MEAN = 126.819
  MINIMUM = 6
  STANDARD_DEVIATION = 63.187
END_OBJECT = IMAGE
/* MAP OBJECT DEFINITIONS */
OBJECT = IMAGE_MAP_PROJECTION
  ^DATA_SET_MAP_PROJECTION_CATALOG= "DSMAP.CAT"
  A_AXIS_RADIUS = 3396.0
  B_AXIS_RADIUS = 3396.0
  C_AXIS_RADIUS = 3396.0
  CENTER_LATITUDE = 0.0
  CENTER_LONGITUDE = 175.0
  COORDINATE_SYSTEM_NAME = PLANETOGRAPHIC
  COORDINATE_SYSTEM_TYPE = "BODY-FIXED ROTATING"
  EASTERNMOST_LONGITUDE = 177.451
  FIRST_STANDARD_PARALLEL = "N/A"
  LINE_FIRST_PIXEL = 1
  LINE_LAST_PIXEL = 34402
  LINE_PROJECTION_OFFSET = -126486.25
  MAP_PROJECTION_ROTATION = 0.0
  MAP_PROJECTION_TYPE = SINUSOIDAL
  MAP_RESOLUTION = 2370.85521546667
  MAP_SCALE = 0.025
  MAXIMUM_LATITUDE = -53.3516
  MINIMUM_LATITUDE = -67.96899999999999
  POSITIVE_LONGITUDE_DIRECTION = EAST
  REFERENCE_LATITUDE = "N/A"
  REFERENCE_LONGITUDE = "N/A"
  SAMPLE_FIRST_PIXEL = 1
  SAMPLE_LAST_PIXEL = 5929
  SAMPLE_PROJECTION_OFFSET = 2418.75
  SECOND_STANDARD_PARALLEL = "N/A"
  WESTERNMOST_LONGITUDE = 172.308
END_OBJECT = IMAGE_MAP_PROJECTION
END
