PDS_VERSION_ID = PDS3
/* FILE DATA ELEMENTS */
RECORD_TYPE = UNDEFINED
/* POINTERS TO DATA OBJECTS */
^IMAGE = ("H4485_0000_ND4.TIF")
/* IDENTIFICATION DATA ELEMENTS */
DATA_SET_ID = "MEX-M-HRSC-4-REFDR-MAPPROJECT-EXT1-V4.0"
DATA_SET_NAME = "MARS EXPRESS HRSC MAP PROJECTED REFDR EXTENSION1 V4.0"
DETECTOR_ID = MEX_HRSC_NADIR
EVENT_TYPE = "MARS-REGIONAL-MAPPING-Gl-Eo-La"
INSTRUMENT_HOST_ID = MEX
INSTRUMENT_HOST_NAME = "MARS EXPRESS"
INSTRUMENT_ID = HRSC
INSTRUMENT_NAME = "HIGH RESOLUTION STEREO CAMERA"
MISSION_NAME = "MARS EXPRESS"
MISSION_PHASE_NAME = ME_Phase_8
PROCESSING_LEVEL_ID = 4
PRODUCT_CREATION_TIME = 2023-02-10T03:49:22.000Z
PRODUCT_ID = "H4485_0000_ND4.TIF"
RELEASE_ID = 0006
REVISION_ID = 0000
/* QUALITY DATA ELEMENTS */
DATA_QUALITY_ID = 1
DATA_QUALITY_DESC = "Data calculated based on original SPICE kernels"
/* TIME DATA ELEMENTS */
SPACECRAFT_CLOCK_START_COUNT = "1/0131460394.09051"
SPACECRAFT_CLOCK_STOP_COUNT = "1/0131460598.50325"
START_TIME = 2007-07-02T12:47:15.215Z
STOP_TIME = 2007-07-02T12:49:33.194Z
/* ORBITAL DATA ELEMENTS */
ASCENDING_NODE_LONGITUDE = 134.46
MAXIMUM_RESOLUTION = 0.0122
FOOTPRINT_POINT_LATITUDE = (-86.9011,-86.5443,-86.2561,-86.0652, -85.7923,-85.7808,-85.7503,-85.8252, -85.8918,-85.9477,-85.9935,-86.0417, -86.0577,-86.0676,-86.0686,-86.0613, -86.046,-86.023,-85.9923,-85.954, -85.9082,-85.8553,-85.7955,-85.729, -85.6559,-85.5771,-85.4924,-85.4023, -85.3071,-85.2067,-85.1004,-84.9933, -84.8806,-84.7638,-84.6436,-84.5198, -84.3947,-84.1404,-83.8778,-83.6071, -83.4688,-83.3288,-83.187,-82.9736, -82.6911,-82.4038,-82.1121,-81.7421, -81.6674,-81.6606,-81.8227,-81.8942, -82.0281,-82.0977,-82.1015,-82.1035, -82.5793,-82.8937,-83.2055,-83.5144, -83.7494,-83.9063,-84.0624,-84.2173, -84.371,-84.5233,-84.6743,-84.8239, -85.1177,-85.3382,-85.4837,-85.6267, -85.767,-85.9707,-86.1025,-86.2302, -86.3534,-86.4721,-86.5875,-86.6931, -86.7945,-86.8889,-86.9757,-87.0544, -87.1242,-87.1851,-87.2351,-87.2749, -87.3036,-87.3206,-87.3259,-87.3199, -87.3022,-87.2672,-87.2163,-87.1511, -87.0719,-86.9805,-86.9304,-86.9011)
FOOTPRINT_POINT_LONGITUDE = (292.682,296.082,298.298,299.57,301.172 ,301.234,301.425,304.076,306.817, 309.648,312.554,316.992,319.532,322.088 ,324.655,327.218,329.77,332.298,334.794 ,337.249,339.655,342.005,344.293, 346.515,348.665,350.743,352.746,354.674 ,356.527,358.302,359.993,361.638, 363.201,364.694,366.122,367.483,368.771 ,371.121,373.285,375.273,376.203, 377.095,377.949,379.157,380.618,381.97, 383.222,384.66,384.933,384.957,387.273, 388.393,390.695,392.023,392.098,392.134 ,390.818,389.841,388.777,387.608, 386.634,385.933,385.199,384.424,383.607 ,382.744,381.832,380.87,378.768,376.977 ,375.677,374.292,372.818,370.403, 368.664,366.802,364.812,362.691,360.456 ,358.012,355.441,352.711,349.819, 346.766,343.558,340.208,336.72,333.122, 329.435,325.686,321.908,318.135,314.398 ,310.106,305.873,301.815,297.963, 294.332,292.603,292.682)
ORBIT_NUMBER = 4485
ORBITAL_ECCENTRICITY = 0.57
ORBITAL_INCLINATION = 86.69
ORBITAL_SEMIMAJOR_AXIS = 8540.16
PERIAPSIS_ALTITUDE = 292.47
PERIAPSIS_ARGUMENT_ANGLE = 288.39
PERIAPSIS_TIME = 2007-07-02T12:52:19.000Z
SPACECRAFT_ORIENTATION = (0.0,1.0,0.0)
^MEX_ORIENTATION_DESC = "MEX_ORIENTATION_DESC.TXT"
SPACECRAFT_POINTING_MODE = NADIR
^MEX_POINTING_DESC = "MEX_POINTING_DESC.TXT"
RIGHT_ASCENSION = -1e+32
DECLINATION = -1e+32
OFFSET_ANGLE = -1e+32
SPACECRAFT_SOLAR_DISTANCE = 2.07507e+08
TARGET_NAME = MARS
/* CAMERA DATA ELEMENTS */
DETECTOR_TEMPERATURE = 18.1666
FOCAL_PLANE_TEMPERATURE = 8.7872
INST_CMPRS_NAME = "DISCRETE COSINE TRANSFORMATION (DCT)"
INST_CMPRS_RATIO = 7.53573
INST_CMPRS_QUALITY = 0
INST_CMPRS_QUANTZ_TBL_ID = 0
INSTRUMENT_TEMPERATURE = 12.8652
LENS_TEMPERATURE = 9.3989
MACROPIXEL_SIZE = 1
MISSING_FRAMES = 0
PIXEL_SUBSAMPLING_FLAG = N
SIGNAL_CHAIN_ID = 0
/* RADIOMETRIC DATA ELEMENTS */
BANDWIDTH = 177.0
CENTER_FILTER_WAVELENGTH = 677.5
RADIANCE_OFFSET = 7.98238
RADIANCE_SCALING_FACTOR = 0.0277338
REFLECTANCE_SCALING_FACTOR = 0.000634395
MEX:REFLECTANCE_OFFSET = 0.182593
/* IMAGE OBJECT DEFINITIONS */
OBJECT = IMAGE
  INTERCHANGE_FORMAT = BINARY
  LINES = 30347
  LINE_SAMPLES = 37153
  SAMPLE_TYPE = UNSIGNED_INTEGER
  SAMPLE_BITS = 8
  BANDS = 1
  BAND_STORAGE_TYPE = BAND_SEQUENTIAL
  MAXIMUM = 254
  MEAN = 134.247
  MINIMUM = 1
  STANDARD_DEVIATION = 60.7343
END_OBJECT = IMAGE
/* MAP OBJECT DEFINITIONS */
OBJECT = IMAGE_MAP_PROJECTION
  ^DATA_SET_MAP_PROJECTION_CATALOG= "DSMAP.CAT"
  A_AXIS_RADIUS = 3396.0
  B_AXIS_RADIUS = 3396.0
  C_AXIS_RADIUS = 3396.0
  CENTER_LATITUDE = -90.0
  CENTER_LONGITUDE = 0.0
  COORDINATE_SYSTEM_NAME = PLANETOGRAPHIC
  COORDINATE_SYSTEM_TYPE = "BODY-FIXED ROTATING"
  EASTERNMOST_LONGITUDE = 32.134
  FIRST_STANDARD_PARALLEL = "N/A"
  LINE_FIRST_PIXEL = 1
  LINE_LAST_PIXEL = 30347
  LINE_PROJECTION_OFFSET = 35913.0
  MAP_PROJECTION_ROTATION = 0.0
  MAP_PROJECTION_TYPE = STEREOGRAPHIC
  MAP_RESOLUTION = 4741.71043093333
  MAP_SCALE = 0.0125
  MAXIMUM_LATITUDE = -81.6606
  MINIMUM_LATITUDE = -87.3259
  POSITIVE_LONGITUDE_DIRECTION = EAST
  REFERENCE_LATITUDE = "N/A"
  REFERENCE_LONGITUDE = "N/A"
  SAMPLE_FIRST_PIXEL = 1
  SAMPLE_LAST_PIXEL = 37153
  SAMPLE_PROJECTION_OFFSET = 17204.0
  SECOND_STANDARD_PARALLEL = "N/A"
  WESTERNMOST_LONGITUDE = -67.39700000000001
END_OBJECT = IMAGE_MAP_PROJECTION
END
