PDS_VERSION_ID = PDS3
/* FILE DATA ELEMENTS */
RECORD_TYPE = UNDEFINED
/* POINTERS TO DATA OBJECTS */
^IMAGE = ("H4477_0002_GR4.TIF")
/* IDENTIFICATION DATA ELEMENTS */
DATA_SET_ID = "MEX-M-HRSC-4-REFDR-MAPPROJECT-EXT1-V4.0"
DATA_SET_NAME = "MARS EXPRESS HRSC MAP PROJECTED REFDR EXTENSION1 V4.0"
DETECTOR_ID = MEX_HRSC_GREEN
EVENT_TYPE = "MARS-LOCAL-STEREO-Im-Fl-Gl"
INSTRUMENT_HOST_ID = MEX
INSTRUMENT_HOST_NAME = "MARS EXPRESS"
INSTRUMENT_ID = HRSC
INSTRUMENT_NAME = "HIGH RESOLUTION STEREO CAMERA"
MISSION_NAME = "MARS EXPRESS"
MISSION_PHASE_NAME = ME_Phase_8
PROCESSING_LEVEL_ID = 4
PRODUCT_CREATION_TIME = 2023-02-10T03:49:22.000Z
PRODUCT_ID = "H4477_0002_GR4.TIF"
RELEASE_ID = 0006
REVISION_ID = 0000
/* QUALITY DATA ELEMENTS */
DATA_QUALITY_ID = 1
DATA_QUALITY_DESC = "Data calculated based on original SPICE kernels"
/* TIME DATA ELEMENTS */
SPACECRAFT_CLOCK_START_COUNT = "1/0131267614.09084"
SPACECRAFT_CLOCK_STOP_COUNT = "1/0131267777.31849"
START_TIME = 2007-06-30T07:14:27.919Z
STOP_TIME = 2007-06-30T07:15:31.878Z
/* ORBITAL DATA ELEMENTS */
ASCENDING_NODE_LONGITUDE = 134.63
MAXIMUM_RESOLUTION = 0.15
FOOTPRINT_POINT_LATITUDE = (-40.723,-40.7197,-40.7175,-40.715, -40.7123,-40.7083,-40.7052,-40.7018, -40.6983,-40.6945,-40.6905,-40.6863, -40.6814,-40.6808,-40.6847,-40.5058, -40.3983,-40.2913,-40.1822,-40.0001, -39.8546,-39.7455,-39.6363,-39.4523, -39.304,-39.1565,-39.0085,-38.8609, -38.7854,-38.6348,-38.4843,-38.3715, -38.1838,-38.0693,-37.993,-37.9165, -37.8018,-37.7254,-37.6108,-37.4963, -37.3822,-37.2681,-37.1921,-37.1161, -37.0021,-36.9642,-36.9309,-36.9351, -36.9382,-36.9416,-36.9449,-36.9482, -36.9512,-36.9536,-36.9558,-36.9574, -36.9592,-36.9608,-36.9619,-36.9626, -36.9634,-36.9636,-36.966,-37.0802, -37.1564,-37.2327,-37.3089,-37.3853, -37.4616,-37.5381,-37.6145,-37.691, -37.7676,-37.8442,-37.9208,-37.9975, -38.0743,-38.151,-38.2273,-38.3778, -38.4532,-38.5286,-38.604,-38.6795, -38.755,-38.8306,-38.906,-39.0541, -39.2025,-39.388,-39.5366,-39.7565, -39.9753,-40.1214,-40.231,-40.376, -40.5541,-40.6625,-40.6984,-40.723)
FOOTPRINT_POINT_LONGITUDE = (113.936,113.68,113.523,113.365,113.208 ,112.99,112.833,112.675,112.516,112.358 ,112.2,112.041,111.862,111.842,111.81, 111.815,111.819,111.821,111.822,111.826 ,111.829,111.831,111.834,111.838, 111.841,111.842,111.845,111.847,111.849 ,111.851,111.853,111.855,111.857, 111.859,111.859,111.86,111.862,111.863, 111.864,111.866,111.867,111.868,111.868 ,111.869,111.87,111.87,111.871,112.059, 112.208,112.378,112.547,112.738,112.928 ,113.097,113.266,113.393,113.562,113.73 ,113.857,113.962,114.088,114.109, 114.123,114.118,114.115,114.112,114.109 ,114.106,114.102,114.099,114.096, 114.092,114.089,114.086,114.082,114.079 ,114.075,114.072,114.069,114.062, 114.058,114.055,114.051,114.048,114.044 ,114.041,114.037,114.03,114.024,114.015 ,114.008,113.997,113.986,113.979, 113.974,113.966,113.955,113.951,113.949 ,113.936)
ORBIT_NUMBER = 4477
ORBITAL_ECCENTRICITY = 0.57
ORBITAL_INCLINATION = 86.69
ORBITAL_SEMIMAJOR_AXIS = 8542.23
PERIAPSIS_ALTITUDE = 292.03
PERIAPSIS_ARGUMENT_ANGLE = 289.76
PERIAPSIS_TIME = 2007-06-30T07:06:46.000Z
SPACECRAFT_ORIENTATION = (0.0,1.0,0.0)
^MEX_ORIENTATION_DESC = "MEX_ORIENTATION_DESC.TXT"
SPACECRAFT_POINTING_MODE = ACROSSTRACK
^MEX_POINTING_DESC = "MEX_POINTING_DESC.TXT"
RIGHT_ASCENSION = -1e+32
DECLINATION = -1e+32
OFFSET_ANGLE = 0.2
SPACECRAFT_SOLAR_DISTANCE = 2.07379e+08
TARGET_NAME = MARS
/* CAMERA DATA ELEMENTS */
DETECTOR_TEMPERATURE = 20.2056
FOCAL_PLANE_TEMPERATURE = 8.9911
INST_CMPRS_NAME = "DISCRETE COSINE TRANSFORMATION (DCT)"
INST_CMPRS_RATIO = 25.0359
INST_CMPRS_QUALITY = 0
INST_CMPRS_QUANTZ_TBL_ID = 0
INSTRUMENT_TEMPERATURE = 13.6808
LENS_TEMPERATURE = 9.195
MACROPIXEL_SIZE = 8
MISSING_FRAMES = 0
PIXEL_SUBSAMPLING_FLAG = N
SIGNAL_CHAIN_ID = 2
/* RADIOMETRIC DATA ELEMENTS */
BANDWIDTH = 88.0
CENTER_FILTER_WAVELENGTH = 538.0
RADIANCE_OFFSET = 3.52458
RADIANCE_SCALING_FACTOR = 0.00379838
REFLECTANCE_SCALING_FACTOR = 0.000140643
MEX:REFLECTANCE_OFFSET = 0.130505
/* IMAGE OBJECT DEFINITIONS */
OBJECT = IMAGE
  INTERCHANGE_FORMAT = BINARY
  LINES = 2259
  LINE_SAMPLES = 1065
  SAMPLE_TYPE = UNSIGNED_INTEGER
  SAMPLE_BITS = 8
  BANDS = 1
  BAND_STORAGE_TYPE = BAND_SEQUENTIAL
  MAXIMUM = 255
  MEAN = 132.898
  MINIMUM = 3
  STANDARD_DEVIATION = 42.6576
END_OBJECT = IMAGE
/* MAP OBJECT DEFINITIONS */
OBJECT = IMAGE_MAP_PROJECTION
  ^DATA_SET_MAP_PROJECTION_CATALOG= "DSMAP.CAT"
  A_AXIS_RADIUS = 3396.0
  B_AXIS_RADIUS = 3396.0
  C_AXIS_RADIUS = 3396.0
  CENTER_LATITUDE = 0.0
  CENTER_LONGITUDE = 113.0
  COORDINATE_SYSTEM_NAME = PLANETOGRAPHIC
  COORDINATE_SYSTEM_TYPE = "BODY-FIXED ROTATING"
  EASTERNMOST_LONGITUDE = 114.123
  FIRST_STANDARD_PARALLEL = "N/A"
  LINE_FIRST_PIXEL = 1
  LINE_LAST_PIXEL = 2259
  LINE_PROJECTION_OFFSET = -21895.8125
  MAP_PROJECTION_ROTATION = 0.0
  MAP_PROJECTION_TYPE = SINUSOIDAL
  MAP_RESOLUTION = 592.713803866667
  MAP_SCALE = 0.1
  MAXIMUM_LATITUDE = -36.9309
  MINIMUM_LATITUDE = -40.723
  POSITIVE_LONGITUDE_DIRECTION = EAST
  REFERENCE_LATITUDE = "N/A"
  REFERENCE_LONGITUDE = "N/A"
  SAMPLE_FIRST_PIXEL = 1
  SAMPLE_LAST_PIXEL = 1065
  SAMPLE_PROJECTION_OFFSET = 539.9375
  SECOND_STANDARD_PARALLEL = "N/A"
  WESTERNMOST_LONGITUDE = 111.81
END_OBJECT = IMAGE_MAP_PROJECTION
END
