PDS_VERSION_ID = PDS3
/* FILE DATA ELEMENTS */
RECORD_TYPE = UNDEFINED
/* POINTERS TO DATA OBJECTS */
^IMAGE = ("H4475_0000_GR4.TIF")
/* IDENTIFICATION DATA ELEMENTS */
DATA_SET_ID = "MEX-M-HRSC-4-REFDR-MAPPROJECT-EXT1-V4.0"
DATA_SET_NAME = "MARS EXPRESS HRSC MAP PROJECTED REFDR EXTENSION1 V4.0"
DETECTOR_ID = MEX_HRSC_GREEN
EVENT_TYPE = "MARS-REGIONAL-MAPPING-Gl-Pf-La"
INSTRUMENT_HOST_ID = MEX
INSTRUMENT_HOST_NAME = "MARS EXPRESS"
INSTRUMENT_ID = HRSC
INSTRUMENT_NAME = "HIGH RESOLUTION STEREO CAMERA"
MISSION_NAME = "MARS EXPRESS"
MISSION_PHASE_NAME = ME_Phase_8
PROCESSING_LEVEL_ID = 4
PRODUCT_CREATION_TIME = 2023-02-10T03:49:22.000Z
PRODUCT_ID = "H4475_0000_GR4.TIF"
RELEASE_ID = 0006
REVISION_ID = 0000
/* QUALITY DATA ELEMENTS */
DATA_QUALITY_ID = 1
DATA_QUALITY_DESC = "Data calculated based on original SPICE kernels"
/* TIME DATA ELEMENTS */
SPACECRAFT_CLOCK_START_COUNT = "1/0131218565.07304"
SPACECRAFT_CLOCK_STOP_COUNT = "1/0131218836.48947"
START_TIME = 2007-06-29T17:36:46.319Z
STOP_TIME = 2007-06-29T17:40:17.479Z
/* ORBITAL DATA ELEMENTS */
ASCENDING_NODE_LONGITUDE = 134.67
MAXIMUM_RESOLUTION = 0.0464
FOOTPRINT_POINT_LATITUDE = (-83.7872,-83.6618,-83.517,-83.2229, -83.2169,-83.2075,-82.9636,-82.7153, -82.3353,-82.0775,-81.6885,-81.303, -81.0429,-80.7809,-80.5169,-80.251, -79.8495,-79.589,-79.1956,-78.7998, -78.5345,-78.2684,-78.0011,-77.5984, -77.1986,-76.9379,-76.6766,-76.4145, -76.1519,-75.757,-75.493,-75.2286, -74.9637,-74.6985,-74.2998,-73.9002, -73.6335,-73.3664,-73.1027,-72.5869, -71.9408,-71.423,-71.0341,-70.7746, -70.5149,-70.2552,-70.1253,-70.0948, -70.1705,-70.2491,-70.2504,-70.2515, -70.514,-70.7763,-71.1694,-71.5628, -71.8249,-72.2178,-72.4798,-72.7415, -73.0031,-73.2645,-73.5308,-73.802, -74.0731,-74.3438,-74.6145,-74.8849, -75.1551,-75.425,-75.6945,-75.964, -76.2333,-76.5022,-76.7707,-77.1727, -77.5738,-77.8499,-78.2645,-78.5406, -78.8157,-79.0891,-79.3645,-79.6382, -79.912,-80.1835,-80.6034,-80.882, -81.1601,-81.4369,-81.7132,-81.9885, -82.2612,-82.542,-82.8213,-83.0983, -83.3733,-83.6453,-83.7804,-83.7872)
FOOTPRINT_POINT_LONGITUDE = (288.096,285.943,283.715,279.829, 279.757,279.425,280.871,282.217,284.068 ,285.202,286.76,288.141,288.977,289.789 ,290.541,291.267,292.269,292.872, 293.734,294.518,295.018,295.48,295.934, 296.58,297.174,297.537,297.882,298.217, 298.54,298.998,299.29,299.571,299.842, 300.102,300.475,300.829,301.055,301.272 ,301.48,301.866,302.315,302.65,302.889, 303.042,303.191,303.335,303.405,303.421 ,304.736,306.333,306.361,306.37,306.267 ,306.16,305.994,305.821,305.702,305.515 ,305.387,305.254,305.117,304.975, 304.825,304.668,304.505,304.337,304.162 ,303.981,303.793,303.598,303.395, 303.185,302.967,302.739,302.502,302.127 ,301.726,301.436,300.973,300.647, 300.303,299.936,299.562,299.163,298.746 ,298.299,297.561,297.023,296.454, 295.847,295.204,294.519,293.778,292.96, 292.077,291.123,290.091,288.968,288.371 ,288.096)
ORBIT_NUMBER = 4475
ORBITAL_ECCENTRICITY = 0.57
ORBITAL_INCLINATION = 86.69
ORBITAL_SEMIMAJOR_AXIS = 8539.58
PERIAPSIS_ALTITUDE = 292.59
PERIAPSIS_ARGUMENT_ANGLE = 290.14
PERIAPSIS_TIME = 2007-06-29T17:40:22.000Z
SPACECRAFT_ORIENTATION = (0.0,1.0,0.0)
^MEX_ORIENTATION_DESC = "MEX_ORIENTATION_DESC.TXT"
SPACECRAFT_POINTING_MODE = ACROSSTRACK
^MEX_POINTING_DESC = "MEX_POINTING_DESC.TXT"
RIGHT_ASCENSION = -1e+32
DECLINATION = -1e+32
OFFSET_ANGLE = 0.1
SPACECRAFT_SOLAR_DISTANCE = 2.07349e+08
TARGET_NAME = MARS
/* CAMERA DATA ELEMENTS */
DETECTOR_TEMPERATURE = 17.9627
FOCAL_PLANE_TEMPERATURE = 8.3794
INST_CMPRS_NAME = "DISCRETE COSINE TRANSFORMATION (DCT)"
INST_CMPRS_RATIO = 16.2211
INST_CMPRS_QUALITY = 0
INST_CMPRS_QUANTZ_TBL_ID = 0
INSTRUMENT_TEMPERATURE = 11.234
LENS_TEMPERATURE = 9.3989
MACROPIXEL_SIZE = 4
MISSING_FRAMES = 0
PIXEL_SUBSAMPLING_FLAG = N
SIGNAL_CHAIN_ID = 2
/* RADIOMETRIC DATA ELEMENTS */
BANDWIDTH = 88.0
CENTER_FILTER_WAVELENGTH = 538.0
RADIANCE_OFFSET = 2.85084
RADIANCE_SCALING_FACTOR = 0.00443641
REFLECTANCE_SCALING_FACTOR = 0.000164219
MEX:REFLECTANCE_OFFSET = 0.105527
/* IMAGE OBJECT DEFINITIONS */
OBJECT = IMAGE
  INTERCHANGE_FORMAT = BINARY
  LINES = 16271
  LINE_SAMPLES = 5451
  SAMPLE_TYPE = UNSIGNED_INTEGER
  SAMPLE_BITS = 8
  BANDS = 1
  BAND_STORAGE_TYPE = BAND_SEQUENTIAL
  MAXIMUM = 255
  MEAN = 130.345
  MINIMUM = 1
  STANDARD_DEVIATION = 59.7271
END_OBJECT = IMAGE
/* MAP OBJECT DEFINITIONS */
OBJECT = IMAGE_MAP_PROJECTION
  ^DATA_SET_MAP_PROJECTION_CATALOG= "DSMAP.CAT"
  A_AXIS_RADIUS = 3396.0
  B_AXIS_RADIUS = 3396.0
  C_AXIS_RADIUS = 3396.0
  CENTER_LATITUDE = 0.0
  CENTER_LONGITUDE = 300.0
  COORDINATE_SYSTEM_NAME = PLANETOGRAPHIC
  COORDINATE_SYSTEM_TYPE = "BODY-FIXED ROTATING"
  EASTERNMOST_LONGITUDE = 306.37
  FIRST_STANDARD_PARALLEL = "N/A"
  LINE_FIRST_PIXEL = 1
  LINE_LAST_PIXEL = 16271
  LINE_PROJECTION_OFFSET = -83089.625
  MAP_PROJECTION_ROTATION = 0.0
  MAP_PROJECTION_TYPE = SINUSOIDAL
  MAP_RESOLUTION = 1185.42760773333
  MAP_SCALE = 0.05
  MAXIMUM_LATITUDE = -70.09480000000001
  MINIMUM_LATITUDE = -83.7872
  POSITIVE_LONGITUDE_DIRECTION = EAST
  REFERENCE_LATITUDE = "N/A"
  REFERENCE_LONGITUDE = "N/A"
  SAMPLE_FIRST_PIXEL = 1
  SAMPLE_LAST_PIXEL = 5451
  SAMPLE_PROJECTION_OFFSET = 2897.375
  SECOND_STANDARD_PARALLEL = "N/A"
  WESTERNMOST_LONGITUDE = 279.425
END_OBJECT = IMAGE_MAP_PROJECTION
END
