PDS_VERSION_ID = PDS3
/* FILE DATA ELEMENTS */
RECORD_TYPE = UNDEFINED
/* POINTERS TO DATA OBJECTS */
^IMAGE = ("H4472_0000_ND4.TIF")
/* IDENTIFICATION DATA ELEMENTS */
DATA_SET_ID = "MEX-M-HRSC-4-REFDR-MAPPROJECT-EXT1-V4.0"
DATA_SET_NAME = "MARS EXPRESS HRSC MAP PROJECTED REFDR EXTENSION1 V4.0"
DETECTOR_ID = MEX_HRSC_NADIR
EVENT_TYPE = "MARS-REGIONAL-MAPPING-Im"
INSTRUMENT_HOST_ID = MEX
INSTRUMENT_HOST_NAME = "MARS EXPRESS"
INSTRUMENT_ID = HRSC
INSTRUMENT_NAME = "HIGH RESOLUTION STEREO CAMERA"
MISSION_NAME = "MARS EXPRESS"
MISSION_PHASE_NAME = ME_Phase_8
PROCESSING_LEVEL_ID = 4
PRODUCT_CREATION_TIME = 2023-02-10T03:49:22.000Z
PRODUCT_ID = "H4472_0000_ND4.TIF"
RELEASE_ID = 0006
REVISION_ID = 0000
/* QUALITY DATA ELEMENTS */
DATA_QUALITY_ID = 1
DATA_QUALITY_DESC = "Data calculated based on original SPICE kernels"
/* TIME DATA ELEMENTS */
SPACECRAFT_CLOCK_START_COUNT = "1/0131146123.08412"
SPACECRAFT_CLOCK_STOP_COUNT = "1/0131146403.55931"
START_TIME = 2007-06-28T21:29:14.186Z
STOP_TIME = 2007-06-28T21:32:58.206Z
/* ORBITAL DATA ELEMENTS */
ASCENDING_NODE_LONGITUDE = 134.73
MAXIMUM_RESOLUTION = 0.0115
FOOTPRINT_POINT_LATITUDE = (-75.0415,-74.9342,-74.8326,-74.8302, -74.8188,-74.5251,-74.2303,-73.9356, -73.641,-73.3453,-72.9024,-72.3306, -71.7575,-71.1831,-70.6077,-70.3197, -70.0314,-69.7426,-69.3091,-69.0207, -68.7319,-68.4427,-68.0085,-67.719, -67.4294,-67.1396,-66.8498,-66.5598, -65.9794,-65.3993,-64.8188,-64.2384, -63.9394,-63.638,-63.3366,-63.0353, -62.7339,-62.4327,-62.1315,-61.8303, -61.5293,-61.2282,-60.9273,-60.6266, -60.3259,-60.1747,-60.1634,-60.2216, -60.2581,-60.2589,-60.2594,-60.7135, -61.0155,-61.3176,-61.6199,-61.9222, -62.2247,-62.5273,-62.83,-63.1327, -63.4356,-63.7385,-64.0415,-64.3425, -64.6344,-64.9263,-65.2182,-65.5102, -65.8022,-66.2403,-66.6782,-66.9702, -67.2622,-67.5542,-67.992,-68.2839, -68.5757,-68.8675,-69.1592,-69.5965, -69.888,-70.1794,-70.4707,-70.7618, -71.0528,-71.3437,-71.6344,-71.9249, -72.2153,-72.5055,-72.7956,-73.0854, -73.3842,-73.6847,-73.9849,-74.2848, -74.5845,-74.8838,-75.0334,-75.0415)
FOOTPRINT_POINT_LONGITUDE = (238.492,236.479,234.843,234.806, 234.653,234.94,235.207,235.472,235.735, 235.979,236.329,236.751,237.144,237.511 ,237.855,238.018,238.177,238.325, 238.541,238.69,238.831,238.964,239.156, 239.28,239.4,239.517,239.631,239.74, 239.945,240.146,240.331,240.509,240.596 ,240.681,240.763,240.844,240.922, 240.998,241.072,241.143,241.213,241.28, 241.345,241.41,241.473,241.504,241.506, 242.705,243.607,243.628,243.638,243.563 ,243.511,243.459,243.405,243.35,243.293 ,243.235,243.175,243.114,243.051, 242.987,242.921,242.854,242.788,242.721 ,242.651,242.579,242.505,242.395, 242.273,242.19,242.106,242.02,241.886, 241.794,241.699,241.602,241.501,241.344 ,241.236,241.124,241.009,240.89,240.767 ,240.64,240.509,240.374,240.234,240.089 ,239.94,239.785,239.619,239.445,239.265 ,239.078,238.884,238.682,238.578, 238.492)
ORBIT_NUMBER = 4472
ORBITAL_ECCENTRICITY = 0.57
ORBITAL_INCLINATION = 86.7
ORBITAL_SEMIMAJOR_AXIS = 8540.38
PERIAPSIS_ALTITUDE = 291.69
PERIAPSIS_ARGUMENT_ANGLE = 290.63
PERIAPSIS_TIME = 2007-06-28T21:30:44.000Z
SPACECRAFT_ORIENTATION = (0.0,1.0,0.0)
^MEX_ORIENTATION_DESC = "MEX_ORIENTATION_DESC.TXT"
SPACECRAFT_POINTING_MODE = ACROSSTRACK
^MEX_POINTING_DESC = "MEX_POINTING_DESC.TXT"
RIGHT_ASCENSION = -1e+32
DECLINATION = -1e+32
OFFSET_ANGLE = 0.14
SPACECRAFT_SOLAR_DISTANCE = 2.07304e+08
TARGET_NAME = MARS
/* CAMERA DATA ELEMENTS */
DETECTOR_TEMPERATURE = 19.39
FOCAL_PLANE_TEMPERATURE = 7.3599
INST_CMPRS_NAME = "DISCRETE COSINE TRANSFORMATION (DCT)"
INST_CMPRS_RATIO = 6.95436
INST_CMPRS_QUALITY = 0
INST_CMPRS_QUANTZ_TBL_ID = 0
INSTRUMENT_TEMPERATURE = 11.4379
LENS_TEMPERATURE = 9.3989
MACROPIXEL_SIZE = 1
MISSING_FRAMES = 0
PIXEL_SUBSAMPLING_FLAG = N
SIGNAL_CHAIN_ID = 0
/* RADIOMETRIC DATA ELEMENTS */
BANDWIDTH = 177.0
CENTER_FILTER_WAVELENGTH = 677.5
RADIANCE_OFFSET = 8.02965
RADIANCE_SCALING_FACTOR = 0.0155345
REFLECTANCE_SCALING_FACTOR = 0.000354649
MEX:REFLECTANCE_OFFSET = 0.183315
/* IMAGE OBJECT DEFINITIONS */
OBJECT = IMAGE
  INTERCHANGE_FORMAT = BINARY
  LINES = 70561
  LINE_SAMPLES = 14087
  SAMPLE_TYPE = UNSIGNED_INTEGER
  SAMPLE_BITS = 8
  BANDS = 1
  BAND_STORAGE_TYPE = BAND_SEQUENTIAL
  MAXIMUM = 255
  MEAN = 119.096
  MINIMUM = 1
  STANDARD_DEVIATION = 39.5717
END_OBJECT = IMAGE
/* MAP OBJECT DEFINITIONS */
OBJECT = IMAGE_MAP_PROJECTION
  ^DATA_SET_MAP_PROJECTION_CATALOG= "DSMAP.CAT"
  A_AXIS_RADIUS = 3396.0
  B_AXIS_RADIUS = 3396.0
  C_AXIS_RADIUS = 3396.0
  CENTER_LATITUDE = 0.0
  CENTER_LONGITUDE = 241.0
  COORDINATE_SYSTEM_NAME = PLANETOGRAPHIC
  COORDINATE_SYSTEM_TYPE = "BODY-FIXED ROTATING"
  EASTERNMOST_LONGITUDE = 243.638
  FIRST_STANDARD_PARALLEL = "N/A"
  LINE_FIRST_PIXEL = 1
  LINE_LAST_PIXEL = 70561
  LINE_PROJECTION_OFFSET = -285279.0
  MAP_PROJECTION_ROTATION = 0.0
  MAP_PROJECTION_TYPE = SINUSOIDAL
  MAP_RESOLUTION = 4741.71043093333
  MAP_SCALE = 0.0125
  MAXIMUM_LATITUDE = -60.1634
  MINIMUM_LATITUDE = -75.0415
  POSITIVE_LONGITUDE_DIRECTION = EAST
  REFERENCE_LATITUDE = "N/A"
  REFERENCE_LONGITUDE = "N/A"
  SAMPLE_FIRST_PIXEL = 1
  SAMPLE_LAST_PIXEL = 14087
  SAMPLE_PROJECTION_OFFSET = 7881.0
  SECOND_STANDARD_PARALLEL = "N/A"
  WESTERNMOST_LONGITUDE = 234.653
END_OBJECT = IMAGE_MAP_PROJECTION
END
