PDS_VERSION_ID = PDS3
/* FILE DATA ELEMENTS */
RECORD_TYPE = UNDEFINED
/* POINTERS TO DATA OBJECTS */
^IMAGE = ("H4471_0000_BL4.TIF")
/* IDENTIFICATION DATA ELEMENTS */
DATA_SET_ID = "MEX-M-HRSC-4-REFDR-MAPPROJECT-EXT1-V4.0"
DATA_SET_NAME = "MARS EXPRESS HRSC MAP PROJECTED REFDR EXTENSION1 V4.0"
DETECTOR_ID = MEX_HRSC_BLUE
EVENT_TYPE = "MARS-REGIONAL-MAPPING-Im-Gl-Pf"
INSTRUMENT_HOST_ID = MEX
INSTRUMENT_HOST_NAME = "MARS EXPRESS"
INSTRUMENT_ID = HRSC
INSTRUMENT_NAME = "HIGH RESOLUTION STEREO CAMERA"
MISSION_NAME = "MARS EXPRESS"
MISSION_PHASE_NAME = ME_Phase_8
PROCESSING_LEVEL_ID = 4
PRODUCT_CREATION_TIME = 2023-02-10T03:49:22.000Z
PRODUCT_ID = "H4471_0000_BL4.TIF"
RELEASE_ID = 0006
REVISION_ID = 0000
/* QUALITY DATA ELEMENTS */
DATA_QUALITY_ID = 1
DATA_QUALITY_DESC = "Data calculated based on original SPICE kernels"
/* TIME DATA ELEMENTS */
SPACECRAFT_CLOCK_START_COUNT = "1/0131121870.09104"
SPACECRAFT_CLOCK_STOP_COUNT = "1/0131122072.42753"
START_TIME = 2007-06-28T14:44:58.305Z
STOP_TIME = 2007-06-28T14:47:24.583Z
/* ORBITAL DATA ELEMENTS */
ASCENDING_NODE_LONGITUDE = 134.75
MAXIMUM_RESOLUTION = 0.0926
FOOTPRINT_POINT_LATITUDE = (-78.7946,-78.7069,-78.5951,-78.5116, -78.5085,-78.4791,-78.2929,-78.1063, -77.9193,-77.7316,-77.4495,-77.261, -77.072,-76.8826,-76.6932,-76.5019, -76.312,-76.0364,-75.8522,-75.6677, -75.4828,-75.2978,-75.1124,-74.9267, -74.7406,-74.5545,-74.368,-74.1818, -73.9952,-73.808,-73.621,-73.4335, -73.2459,-73.0581,-72.7762,-72.588, -72.3997,-72.2127,-71.85,-71.486, -71.2129,-70.8482,-70.5742,-70.2998, -70.1168,-69.8423,-69.4769,-69.2021, -69.1104,-69.0944,-69.1256,-69.1563, -69.1955,-69.2332,-69.2343,-69.2365, -69.5137,-69.7908,-70.068,-70.3452, -70.53,-70.7146,-70.9913,-71.2678, -71.452,-71.6361,-71.8202,-72.0963, -72.2803,-72.4657,-72.6562,-72.8469, -73.1328,-73.3233,-73.5136,-73.7038, -73.8937,-74.0839,-74.3688,-74.6533, -74.9374,-75.1267,-75.3158,-75.5048, -75.6936,-75.8821,-76.0706,-76.3531, -76.5411,-76.7358,-77.0275,-77.3188, -77.5128,-77.7065,-77.9966,-78.2862, -78.4789,-78.6714,-78.7675,-78.7946)
FOOTPRINT_POINT_LONGITUDE = (333.954,332.238,330.319,329.029, 328.983,328.854,329.173,329.482,329.782 ,330.072,330.491,330.759,331.02,331.272 ,331.519,331.752,331.985,332.311,332.52 ,332.722,332.919,333.112,333.299,333.48 ,333.657,333.83,333.997,334.163,334.324 ,334.479,334.632,334.781,334.925, 335.067,335.273,335.407,335.538,335.665 ,335.905,336.132,336.297,336.508,336.66 ,336.807,336.902,337.043,337.226, 337.358,337.4,337.408,337.95,338.523, 339.308,340.148,340.175,340.192,340.099 ,340.005,339.905,339.802,339.732,339.66 ,339.551,339.439,339.362,339.285, 339.204,339.081,338.996,338.91,338.821, 338.728,338.583,338.483,338.382,338.279 ,338.174,338.063,337.894,337.718, 337.537,337.412,337.283,337.151,337.016 ,336.878,336.735,336.513,336.361, 336.198,335.945,335.681,335.496,335.307 ,335.011,334.7,334.484,334.26,334.146, 333.954)
ORBIT_NUMBER = 4471
ORBITAL_ECCENTRICITY = 0.57
ORBITAL_INCLINATION = 86.7
ORBITAL_SEMIMAJOR_AXIS = 8540.38
PERIAPSIS_ALTITUDE = 292.46
PERIAPSIS_ARGUMENT_ANGLE = 290.81
PERIAPSIS_TIME = 2007-06-28T14:47:33.000Z
SPACECRAFT_ORIENTATION = (0.0,1.0,0.0)
^MEX_ORIENTATION_DESC = "MEX_ORIENTATION_DESC.TXT"
SPACECRAFT_POINTING_MODE = NADIR
^MEX_POINTING_DESC = "MEX_POINTING_DESC.TXT"
RIGHT_ASCENSION = -1e+32
DECLINATION = -1e+32
OFFSET_ANGLE = -1e+32
SPACECRAFT_SOLAR_DISTANCE = 2.0729e+08
TARGET_NAME = MARS
/* CAMERA DATA ELEMENTS */
DETECTOR_TEMPERATURE = 18.3705
FOCAL_PLANE_TEMPERATURE = 8.5833
INST_CMPRS_NAME = "DISCRETE COSINE TRANSFORMATION (DCT)"
INST_CMPRS_RATIO = 9.86087
INST_CMPRS_QUALITY = 0
INST_CMPRS_QUANTZ_TBL_ID = 0
INSTRUMENT_TEMPERATURE = 11.0301
LENS_TEMPERATURE = 8.5833
MACROPIXEL_SIZE = 8
MISSING_FRAMES = 0
PIXEL_SUBSAMPLING_FLAG = N
SIGNAL_CHAIN_ID = 2
/* RADIOMETRIC DATA ELEMENTS */
BANDWIDTH = 76.0
CENTER_FILTER_WAVELENGTH = 444.0
RADIANCE_OFFSET = 0.939288
RADIANCE_SCALING_FACTOR = 0.00732558
REFLECTANCE_SCALING_FACTOR = 0.00032341
MEX:REFLECTANCE_OFFSET = 0.0414678
/* IMAGE OBJECT DEFINITIONS */
OBJECT = IMAGE
  INTERCHANGE_FORMAT = BINARY
  LINES = 5750
  LINE_SAMPLES = 1736
  SAMPLE_TYPE = UNSIGNED_INTEGER
  SAMPLE_BITS = 8
  BANDS = 1
  BAND_STORAGE_TYPE = BAND_SEQUENTIAL
  MAXIMUM = 255
  MEAN = 139.803
  MINIMUM = 1
  STANDARD_DEVIATION = 87.8949
END_OBJECT = IMAGE
/* MAP OBJECT DEFINITIONS */
OBJECT = IMAGE_MAP_PROJECTION
  ^DATA_SET_MAP_PROJECTION_CATALOG= "DSMAP.CAT"
  A_AXIS_RADIUS = 3396.0
  B_AXIS_RADIUS = 3396.0
  C_AXIS_RADIUS = 3396.0
  CENTER_LATITUDE = 0.0
  CENTER_LONGITUDE = 336.0
  COORDINATE_SYSTEM_NAME = PLANETOGRAPHIC
  COORDINATE_SYSTEM_TYPE = "BODY-FIXED ROTATING"
  EASTERNMOST_LONGITUDE = 340.192
  FIRST_STANDARD_PARALLEL = "N/A"
  LINE_FIRST_PIXEL = 1
  LINE_LAST_PIXEL = 5750
  LINE_PROJECTION_OFFSET = -40949.4375
  MAP_PROJECTION_ROTATION = 0.0
  MAP_PROJECTION_TYPE = SINUSOIDAL
  MAP_RESOLUTION = 592.713803866667
  MAP_SCALE = 0.1
  MAXIMUM_LATITUDE = -69.09439999999999
  MINIMUM_LATITUDE = -78.7946
  POSITIVE_LONGITUDE_DIRECTION = EAST
  REFERENCE_LATITUDE = "N/A"
  REFERENCE_LONGITUDE = "N/A"
  SAMPLE_FIRST_PIXEL = 1
  SAMPLE_LAST_PIXEL = 1736
  SAMPLE_PROJECTION_OFFSET = 853.1875
  SECOND_STANDARD_PARALLEL = "N/A"
  WESTERNMOST_LONGITUDE = 328.854
END_OBJECT = IMAGE_MAP_PROJECTION
END
