PDS_VERSION_ID = PDS3
/* FILE DATA ELEMENTS */
RECORD_TYPE = UNDEFINED
/* POINTERS TO DATA OBJECTS */
^IMAGE = ("H4469_0000_S24.TIF")
/* IDENTIFICATION DATA ELEMENTS */
DATA_SET_ID = "MEX-M-HRSC-4-REFDR-MAPPROJECT-EXT1-V4.0"
DATA_SET_NAME = "MARS EXPRESS HRSC MAP PROJECTED REFDR EXTENSION1 V4.0"
DETECTOR_ID = MEX_HRSC_S2
EVENT_TYPE = "MARS-REGIONAL-MAPPING-Gl-Pf"
INSTRUMENT_HOST_ID = MEX
INSTRUMENT_HOST_NAME = "MARS EXPRESS"
INSTRUMENT_ID = HRSC
INSTRUMENT_NAME = "HIGH RESOLUTION STEREO CAMERA"
MISSION_NAME = "MARS EXPRESS"
MISSION_PHASE_NAME = ME_Phase_8
PROCESSING_LEVEL_ID = 4
PRODUCT_CREATION_TIME = 2023-02-10T03:49:22.000Z
PRODUCT_ID = "H4469_0000_S24.TIF"
RELEASE_ID = 0006
REVISION_ID = 0000
/* QUALITY DATA ELEMENTS */
DATA_QUALITY_ID = 1
DATA_QUALITY_DESC = "Data calculated based on original SPICE kernels"
/* TIME DATA ELEMENTS */
SPACECRAFT_CLOCK_START_COUNT = "1/0131073538.09072"
SPACECRAFT_CLOCK_STOP_COUNT = "1/0131073660.16430"
START_TIME = 2007-06-28T01:19:02.200Z
STOP_TIME = 2007-06-28T01:20:10.717Z
/* ORBITAL DATA ELEMENTS */
ASCENDING_NODE_LONGITUDE = 134.78
MAXIMUM_RESOLUTION = 0.025
FOOTPRINT_POINT_LATITUDE = (-75.3822,-75.3486,-75.3132,-75.2759, -75.2368,-75.1958,-75.1363,-75.1335, -75.0323,-74.9445,-74.8566,-74.7247, -74.637,-74.5487,-74.4599,-74.3714, -74.2831,-74.1535,-74.0256,-73.8546, -73.598,-73.3837,-73.2976,-73.211, -73.0811,-72.9949,-72.8658,-72.6927, -72.6062,-72.5196,-72.3472,-72.2175, -72.131,-72.0443,-71.9133,-71.8262, -71.7393,-71.6521,-71.565,-71.4343, -71.3031,-71.1719,-71.0844,-70.9971, -70.9099,-70.7363,-70.6926,-70.6874, -70.7108,-70.7294,-70.7537,-70.7905, -70.8248,-70.8522,-70.8783,-70.8799, -70.8808,-70.9699,-71.0574,-71.2299, -71.3206,-71.412,-71.5002,-71.5886, -71.6772,-71.7655,-71.8974,-71.9855, -72.0739,-72.162,-72.2497,-72.3378, -72.4259,-72.558,-72.6459,-72.7774, -72.8651,-72.9525,-73.0401,-73.1278, -73.2153,-73.3027,-73.39,-73.4774, -73.5647,-73.6962,-73.8711,-74.0452, -74.219,-74.3494,-74.5249,-74.6149, -74.7049,-74.7949,-74.93,-75.02, -75.1098,-75.2442,-75.289,-75.3822)
FOOTPRINT_POINT_LONGITUDE = (172.879,172.272,171.666,171.061, 170.457,169.856,169.029,168.992,168.929 ,169.021,169.113,169.247,169.336, 169.423,169.509,169.594,169.679,169.801 ,169.919,170.074,170.3,170.483,170.554, 170.625,170.73,170.799,170.901,171.034, 171.1,171.165,171.294,171.389,171.451, 171.512,171.603,171.663,171.722,171.781 ,171.839,171.926,172.01,172.094,172.149 ,172.203,172.257,172.365,172.391, 172.394,172.723,172.993,173.352,173.921 ,174.49,174.97,175.448,175.478,175.489, 175.451,175.413,175.341,175.299,175.256 ,175.216,175.176,175.135,175.093, 175.031,174.989,174.946,174.903,174.859 ,174.815,174.771,174.703,174.657, 174.588,174.542,174.495,174.447,174.399 ,174.35,174.301,174.252,174.202,174.151 ,174.073,173.968,173.861,173.752, 173.668,173.553,173.493,173.433,173.371 ,173.277,173.214,173.15,173.052,173.02, 172.879)
ORBIT_NUMBER = 4469
ORBITAL_ECCENTRICITY = 0.57
ORBITAL_INCLINATION = 86.69
ORBITAL_SEMIMAJOR_AXIS = 8541.9
PERIAPSIS_ALTITUDE = 292.7
PERIAPSIS_ARGUMENT_ANGLE = 291.17
PERIAPSIS_TIME = 2007-06-28T01:21:11.000Z
SPACECRAFT_ORIENTATION = (0.0,1.0,0.0)
^MEX_ORIENTATION_DESC = "MEX_ORIENTATION_DESC.TXT"
SPACECRAFT_POINTING_MODE = ACROSSTRACK
^MEX_POINTING_DESC = "MEX_POINTING_DESC.TXT"
RIGHT_ASCENSION = -1e+32
DECLINATION = -1e+32
OFFSET_ANGLE = 0.2
SPACECRAFT_SOLAR_DISTANCE = 2.07261e+08
TARGET_NAME = MARS
/* CAMERA DATA ELEMENTS */
DETECTOR_TEMPERATURE = 19.1861
FOCAL_PLANE_TEMPERATURE = 9.195
INST_CMPRS_NAME = "DISCRETE COSINE TRANSFORMATION (DCT)"
INST_CMPRS_RATIO = 10.0387
INST_CMPRS_QUALITY = 0
INST_CMPRS_QUANTZ_TBL_ID = 0
INSTRUMENT_TEMPERATURE = 11.6418
LENS_TEMPERATURE = 9.3989
MACROPIXEL_SIZE = 2
MISSING_FRAMES = 0
PIXEL_SUBSAMPLING_FLAG = N
SIGNAL_CHAIN_ID = 1
/* RADIOMETRIC DATA ELEMENTS */
BANDWIDTH = 178.0
CENTER_FILTER_WAVELENGTH = 679.0
RADIANCE_OFFSET = 7.15348
RADIANCE_SCALING_FACTOR = 0.0131311
REFLECTANCE_SCALING_FACTOR = 0.000298724
MEX:REFLECTANCE_OFFSET = 0.162737
/* IMAGE OBJECT DEFINITIONS */
OBJECT = IMAGE
  INTERCHANGE_FORMAT = BINARY
  LINES = 10818
  LINE_SAMPLES = 4381
  SAMPLE_TYPE = UNSIGNED_INTEGER
  SAMPLE_BITS = 8
  BANDS = 1
  BAND_STORAGE_TYPE = BAND_SEQUENTIAL
  MAXIMUM = 255
  MEAN = 127.512
  MINIMUM = 1
  STANDARD_DEVIATION = 24.0309
END_OBJECT = IMAGE
/* MAP OBJECT DEFINITIONS */
OBJECT = IMAGE_MAP_PROJECTION
  ^DATA_SET_MAP_PROJECTION_CATALOG= "DSMAP.CAT"
  A_AXIS_RADIUS = 3396.0
  B_AXIS_RADIUS = 3396.0
  C_AXIS_RADIUS = 3396.0
  CENTER_LATITUDE = 0.0
  CENTER_LONGITUDE = 173.0
  COORDINATE_SYSTEM_NAME = PLANETOGRAPHIC
  COORDINATE_SYSTEM_TYPE = "BODY-FIXED ROTATING"
  EASTERNMOST_LONGITUDE = 175.489
  FIRST_STANDARD_PARALLEL = "N/A"
  LINE_FIRST_PIXEL = 1
  LINE_LAST_PIXEL = 10818
  LINE_PROJECTION_OFFSET = -167594.75
  MAP_PROJECTION_ROTATION = 0.0
  MAP_PROJECTION_TYPE = SINUSOIDAL
  MAP_RESOLUTION = 2370.85521546667
  MAP_SCALE = 0.025
  MAXIMUM_LATITUDE = -70.6874
  MINIMUM_LATITUDE = -75.3822
  POSITIVE_LONGITUDE_DIRECTION = EAST
  REFERENCE_LATITUDE = "N/A"
  REFERENCE_LONGITUDE = "N/A"
  SAMPLE_FIRST_PIXEL = 1
  SAMPLE_LAST_PIXEL = 4381
  SAMPLE_PROJECTION_OFFSET = 2456.25
  SECOND_STANDARD_PARALLEL = "N/A"
  WESTERNMOST_LONGITUDE = 168.929
END_OBJECT = IMAGE_MAP_PROJECTION
END
