PDS_VERSION_ID = PDS3
/* FILE DATA ELEMENTS */
RECORD_TYPE = UNDEFINED
/* POINTERS TO DATA OBJECTS */
^IMAGE = ("H4467_0000_P24.TIF")
/* IDENTIFICATION DATA ELEMENTS */
DATA_SET_ID = "MEX-M-HRSC-4-REFDR-MAPPROJECT-EXT1-V4.0"
DATA_SET_NAME = "MARS EXPRESS HRSC MAP PROJECTED REFDR EXTENSION1 V4.0"
DETECTOR_ID = MEX_HRSC_P2
EVENT_TYPE = "MARS-REGIONAL-MAPPING-Vo-Gl-La"
INSTRUMENT_HOST_ID = MEX
INSTRUMENT_HOST_NAME = "MARS EXPRESS"
INSTRUMENT_ID = HRSC
INSTRUMENT_NAME = "HIGH RESOLUTION STEREO CAMERA"
MISSION_NAME = "MARS EXPRESS"
MISSION_PHASE_NAME = ME_Phase_8
PROCESSING_LEVEL_ID = 4
PRODUCT_CREATION_TIME = 2023-02-10T03:49:22.000Z
PRODUCT_ID = "H4467_0000_P24.TIF"
RELEASE_ID = 0006
REVISION_ID = 0000
/* QUALITY DATA ELEMENTS */
DATA_QUALITY_ID = 1
DATA_QUALITY_DESC = "Data calculated based on original SPICE kernels"
/* TIME DATA ELEMENTS */
SPACECRAFT_CLOCK_START_COUNT = "1/0131025284.08224"
SPACECRAFT_CLOCK_STOP_COUNT = "1/0131025505.57281"
START_TIME = 2007-06-27T11:54:56.989Z
STOP_TIME = 2007-06-27T11:57:39.330Z
/* ORBITAL DATA ELEMENTS */
ASCENDING_NODE_LONGITUDE = 134.83
MAXIMUM_RESOLUTION = 0.0477
FOOTPRINT_POINT_LATITUDE = (-66.4221,-66.3916,-66.3642,-66.3335, -66.3325,-66.2726,-65.8592,-65.6522, -65.3416,-64.8242,-64.6167,-64.4092, -63.9949,-63.7875,-63.4761,-63.2683, -63.0607,-62.74,-62.416,-62.1999, -61.9837,-61.7673,-61.5509,-61.2269, -61.0126,-60.7953,-60.4706,-60.2541, -60.0373,-59.8207,-59.6041,-59.2791, -59.0642,-58.8472,-58.6308,-58.4105, -58.1858,-57.849,-57.6244,-57.3996, -57.1747,-56.9496,-56.7257,-56.5011, -56.2766,-56.0522,-55.8274,-55.5968, -55.4805,-55.4788,-55.4981,-55.5195, -55.5292,-55.5295,-55.5305,-55.8779, -56.103,-56.3286,-56.5517,-56.7797, -57.0033,-57.2284,-57.567,-57.7936, -58.1306,-58.3557,-58.6902,-58.906, -59.121,-59.3393,-59.6669,-59.9921, -60.2097,-60.426,-60.6436,-60.861, -61.187,-61.512,-61.7291,-61.9459, -62.1628,-62.4882,-62.7052,-62.9222, -63.1362,-63.3452,-63.5534,-63.7621, -63.9711,-64.1801,-64.3887,-64.8044, -65.0136,-65.4292,-65.6375,-65.846, -66.0543,-66.2622,-66.3661,-66.4221)
FOOTPRINT_POINT_LONGITUDE = (14.8135,13.8614,13.1457,12.4375, 12.4155,12.4051,12.533,12.595,12.6856, 12.8308,12.8869,12.9418,13.0485,13.1003 ,13.1761,13.2253,13.2737,13.3464, 13.4176,13.4639,13.5093,13.5537,13.5973 ,13.6611,13.7029,13.7434,13.8029, 13.8415,13.8794,13.9165,13.953,14.0062, 14.0412,14.0751,14.1085,14.1419,14.1751 ,14.2236,14.2552,14.286,14.3163,14.3458 ,14.375,14.4034,14.4313,14.4586,14.4853 ,14.5121,14.5254,14.5256,15.1176, 15.9349,16.4493,16.4678,16.4739,16.4413 ,16.4197,16.3974,16.3782,16.3516, 16.3311,16.3081,16.2715,16.2454,16.2098 ,16.1849,16.1463,16.1233,16.1012, 16.0735,16.0308,15.9909,15.9626,15.9357 ,15.9064,15.8768,15.8316,15.7867, 15.7554,15.7242,15.692,15.6426,15.6087, 15.574,15.5391,15.5044,15.4705,15.435, 15.3983,15.3606,15.323,15.2486,15.2075, 15.1284,15.0864,15.0431,14.9992,14.9554 ,14.933,14.8135)
ORBIT_NUMBER = 4467
ORBITAL_ECCENTRICITY = 0.57
ORBITAL_INCLINATION = 86.69
ORBITAL_SEMIMAJOR_AXIS = 8543.01
PERIAPSIS_ALTITUDE = 292.62
PERIAPSIS_ARGUMENT_ANGLE = 291.49
PERIAPSIS_TIME = 2007-06-27T11:54:44.000Z
SPACECRAFT_ORIENTATION = (0.0,1.0,0.0)
^MEX_ORIENTATION_DESC = "MEX_ORIENTATION_DESC.TXT"
SPACECRAFT_POINTING_MODE = ACROSSTRACK
^MEX_POINTING_DESC = "MEX_POINTING_DESC.TXT"
RIGHT_ASCENSION = -1e+32
DECLINATION = -1e+32
OFFSET_ANGLE = -0.3
SPACECRAFT_SOLAR_DISTANCE = 2.07234e+08
TARGET_NAME = MARS
/* CAMERA DATA ELEMENTS */
DETECTOR_TEMPERATURE = 18.3705
FOCAL_PLANE_TEMPERATURE = 8.3794
INST_CMPRS_NAME = "DISCRETE COSINE TRANSFORMATION (DCT)"
INST_CMPRS_RATIO = 13.0171
INST_CMPRS_QUALITY = 0
INST_CMPRS_QUANTZ_TBL_ID = 0
INSTRUMENT_TEMPERATURE = 11.234
LENS_TEMPERATURE = 8.7872
MACROPIXEL_SIZE = 4
MISSING_FRAMES = 0
PIXEL_SUBSAMPLING_FLAG = N
SIGNAL_CHAIN_ID = 3
/* RADIOMETRIC DATA ELEMENTS */
BANDWIDTH = 177.0
CENTER_FILTER_WAVELENGTH = 676.5
RADIANCE_OFFSET = 7.03862
RADIANCE_SCALING_FACTOR = 0.0213368
REFLECTANCE_SCALING_FACTOR = 0.000485856
MEX:REFLECTANCE_OFFSET = 0.160275
/* IMAGE OBJECT DEFINITIONS */
OBJECT = IMAGE
  INTERCHANGE_FORMAT = BINARY
  LINES = 12924
  LINE_SAMPLES = 2240
  SAMPLE_TYPE = UNSIGNED_INTEGER
  SAMPLE_BITS = 8
  BANDS = 1
  BAND_STORAGE_TYPE = BAND_SEQUENTIAL
  MAXIMUM = 255
  MEAN = 144.416
  MINIMUM = 1
  STANDARD_DEVIATION = 70.0497
END_OBJECT = IMAGE
/* MAP OBJECT DEFINITIONS */
OBJECT = IMAGE_MAP_PROJECTION
  ^DATA_SET_MAP_PROJECTION_CATALOG= "DSMAP.CAT"
  A_AXIS_RADIUS = 3396.0
  B_AXIS_RADIUS = 3396.0
  C_AXIS_RADIUS = 3396.0
  CENTER_LATITUDE = 0.0
  CENTER_LONGITUDE = 15.0
  COORDINATE_SYSTEM_NAME = PLANETOGRAPHIC
  COORDINATE_SYSTEM_TYPE = "BODY-FIXED ROTATING"
  EASTERNMOST_LONGITUDE = 16.4739
  FIRST_STANDARD_PARALLEL = "N/A"
  LINE_FIRST_PIXEL = 1
  LINE_LAST_PIXEL = 12924
  LINE_PROJECTION_OFFSET = -65743.875
  MAP_PROJECTION_ROTATION = 0.0
  MAP_PROJECTION_TYPE = SINUSOIDAL
  MAP_RESOLUTION = 1185.42760773333
  MAP_SCALE = 0.05
  MAXIMUM_LATITUDE = -55.4788
  MINIMUM_LATITUDE = -66.4221
  POSITIVE_LONGITUDE_DIRECTION = EAST
  REFERENCE_LATITUDE = "N/A"
  REFERENCE_LONGITUDE = "N/A"
  SAMPLE_FIRST_PIXEL = 1
  SAMPLE_LAST_PIXEL = 2240
  SAMPLE_PROJECTION_OFFSET = 1240.125
  SECOND_STANDARD_PARALLEL = "N/A"
  WESTERNMOST_LONGITUDE = 12.4051
END_OBJECT = IMAGE_MAP_PROJECTION
END
