PDS_VERSION_ID = PDS3
/* FILE DATA ELEMENTS */
RECORD_TYPE = UNDEFINED
/* POINTERS TO DATA OBJECTS */
^IMAGE = ("H4467_0000_IR4.TIF")
/* IDENTIFICATION DATA ELEMENTS */
DATA_SET_ID = "MEX-M-HRSC-4-REFDR-MAPPROJECT-EXT1-V4.0"
DATA_SET_NAME = "MARS EXPRESS HRSC MAP PROJECTED REFDR EXTENSION1 V4.0"
DETECTOR_ID = MEX_HRSC_IR
EVENT_TYPE = "MARS-REGIONAL-MAPPING-Vo-Gl-La"
INSTRUMENT_HOST_ID = MEX
INSTRUMENT_HOST_NAME = "MARS EXPRESS"
INSTRUMENT_ID = HRSC
INSTRUMENT_NAME = "HIGH RESOLUTION STEREO CAMERA"
MISSION_NAME = "MARS EXPRESS"
MISSION_PHASE_NAME = ME_Phase_8
PROCESSING_LEVEL_ID = 4
PRODUCT_CREATION_TIME = 2023-02-10T03:49:22.000Z
PRODUCT_ID = "H4467_0000_IR4.TIF"
RELEASE_ID = 0006
REVISION_ID = 0000
/* QUALITY DATA ELEMENTS */
DATA_QUALITY_ID = 1
DATA_QUALITY_DESC = "Data calculated based on original SPICE kernels"
/* TIME DATA ELEMENTS */
SPACECRAFT_CLOCK_START_COUNT = "1/0131025284.08224"
SPACECRAFT_CLOCK_STOP_COUNT = "1/0131025505.57281"
START_TIME = 2007-06-27T11:55:35.502Z
STOP_TIME = 2007-06-27T11:58:22.461Z
/* ORBITAL DATA ELEMENTS */
ASCENDING_NODE_LONGITUDE = 134.83
MAXIMUM_RESOLUTION = 0.0975
FOOTPRINT_POINT_LATITUDE = (-66.2772,-66.2346,-66.1982,-66.1594, -66.1581,-66.2255,-65.6148,-65.1969, -64.9855,-64.7742,-64.5637,-64.3529, -64.1412,-63.8253,-63.5095,-63.1941, -62.9838,-62.7739,-62.5642,-62.3545, -62.1451,-61.8312,-61.6222,-61.4135, -61.2041,-60.9877,-60.6649,-60.4485, -60.2327,-60.0173,-59.8019,-59.5867, -59.372,-59.0475,-58.7258,-58.5112, -58.2909,-58.0693,-57.7372,-57.4057, -57.1855,-56.8552,-56.6345,-56.4146, -56.0754,-55.8487,-55.6228,-55.5095, -55.4481,-55.4871,-55.5117,-55.5309, -55.5316,-55.5336,-55.7606,-55.988, -56.3286,-56.5555,-56.8842,-57.1064, -57.3275,-57.5483,-57.7676,-57.9907, -58.2134,-58.4358,-58.7624,-58.9831, -59.1986,-59.409,-59.6256,-59.842, -60.1664,-60.3841,-60.6003,-60.8169, -61.0332,-61.2505,-61.4609,-61.6706, -61.881,-62.0912,-62.3015,-62.5123, -62.7226,-62.9332,-63.1438,-63.3545, -63.6721,-63.9887,-64.1997,-64.518, -64.7301,-65.0478,-65.2601,-65.4735, -65.8871,-66.1939,-66.2967,-66.2772)
FOOTPRINT_POINT_LONGITUDE = (14.86,13.9317,13.2168,12.5098,12.4878, 12.4327,12.6157,12.7346,12.793,12.8502, 12.9057,12.9603,13.0143,13.0924,13.1682 ,13.2415,13.2893,13.3359,13.3815, 13.4263,13.47,13.534,13.5756,13.6162, 13.6564,13.6978,13.7563,13.795,13.8327, 13.8694,13.9055,13.9409,13.9754,14.027, 14.076,14.108,14.1402,14.1718,14.218, 14.2627,14.2915,14.3337,14.3614,14.3883 ,14.4288,14.455,14.4804,14.4931,14.4999 ,15.3639,15.9737,16.4925,16.5118, 16.5244,16.5025,16.4804,16.4456,16.4251 ,16.3887,16.3665,16.3428,16.318,16.2913 ,16.2676,16.2429,16.2172,16.1788, 16.1584,16.1322,16.1003,16.0739,16.0466 ,16.0043,15.9767,15.947,15.9168,15.8858 ,15.8556,15.8262,15.7952,15.7644, 15.7326,15.7002,15.6676,15.6338,15.5994 ,15.5643,15.5286,15.4751,15.4187, 15.3799,15.3222,15.2825,15.2208,15.1791 ,15.1378,15.0511,14.985,14.9631,14.86)
ORBIT_NUMBER = 4467
ORBITAL_ECCENTRICITY = 0.57
ORBITAL_INCLINATION = 86.69
ORBITAL_SEMIMAJOR_AXIS = 8543.01
PERIAPSIS_ALTITUDE = 292.62
PERIAPSIS_ARGUMENT_ANGLE = 291.49
PERIAPSIS_TIME = 2007-06-27T11:54:44.000Z
SPACECRAFT_ORIENTATION = (0.0,1.0,0.0)
^MEX_ORIENTATION_DESC = "MEX_ORIENTATION_DESC.TXT"
SPACECRAFT_POINTING_MODE = ACROSSTRACK
^MEX_POINTING_DESC = "MEX_POINTING_DESC.TXT"
RIGHT_ASCENSION = -1e+32
DECLINATION = -1e+32
OFFSET_ANGLE = -0.3
SPACECRAFT_SOLAR_DISTANCE = 2.07234e+08
TARGET_NAME = MARS
/* CAMERA DATA ELEMENTS */
DETECTOR_TEMPERATURE = 17.5549
FOCAL_PLANE_TEMPERATURE = 8.3794
INST_CMPRS_NAME = "DISCRETE COSINE TRANSFORMATION (DCT)"
INST_CMPRS_RATIO = 20.693
INST_CMPRS_QUALITY = 0
INST_CMPRS_QUANTZ_TBL_ID = 0
INSTRUMENT_TEMPERATURE = 11.234
LENS_TEMPERATURE = 8.7872
MACROPIXEL_SIZE = 8
MISSING_FRAMES = 0
PIXEL_SUBSAMPLING_FLAG = N
SIGNAL_CHAIN_ID = 2
/* RADIOMETRIC DATA ELEMENTS */
BANDWIDTH = 81.0
CENTER_FILTER_WAVELENGTH = 955.5
RADIANCE_OFFSET = 1.86561
RADIANCE_SCALING_FACTOR = 0.00680449
REFLECTANCE_SCALING_FACTOR = 0.000630441
MEX:REFLECTANCE_OFFSET = 0.17285
/* IMAGE OBJECT DEFINITIONS */
OBJECT = IMAGE
  INTERCHANGE_FORMAT = BINARY
  LINES = 6462
  LINE_SAMPLES = 1120
  SAMPLE_TYPE = UNSIGNED_INTEGER
  SAMPLE_BITS = 8
  BANDS = 1
  BAND_STORAGE_TYPE = BAND_SEQUENTIAL
  MAXIMUM = 255
  MEAN = 115.821
  MINIMUM = 1
  STANDARD_DEVIATION = 70.137
END_OBJECT = IMAGE
/* MAP OBJECT DEFINITIONS */
OBJECT = IMAGE_MAP_PROJECTION
  ^DATA_SET_MAP_PROJECTION_CATALOG= "DSMAP.CAT"
  A_AXIS_RADIUS = 3396.0
  B_AXIS_RADIUS = 3396.0
  C_AXIS_RADIUS = 3396.0
  CENTER_LATITUDE = 0.0
  CENTER_LONGITUDE = 15.0
  COORDINATE_SYSTEM_NAME = PLANETOGRAPHIC
  COORDINATE_SYSTEM_TYPE = "BODY-FIXED ROTATING"
  EASTERNMOST_LONGITUDE = 16.5244
  FIRST_STANDARD_PARALLEL = "N/A"
  LINE_FIRST_PIXEL = 1
  LINE_LAST_PIXEL = 6462
  LINE_PROJECTION_OFFSET = -32872.1875
  MAP_PROJECTION_ROTATION = 0.0
  MAP_PROJECTION_TYPE = SINUSOIDAL
  MAP_RESOLUTION = 592.713803866667
  MAP_SCALE = 0.1
  MAXIMUM_LATITUDE = -55.4481
  MINIMUM_LATITUDE = -66.2967
  POSITIVE_LONGITUDE_DIRECTION = EAST
  REFERENCE_LATITUDE = "N/A"
  REFERENCE_LONGITUDE = "N/A"
  SAMPLE_FIRST_PIXEL = 1
  SAMPLE_LAST_PIXEL = 1120
  SAMPLE_PROJECTION_OFFSET = 619.8125
  SECOND_STANDARD_PARALLEL = "N/A"
  WESTERNMOST_LONGITUDE = 12.4327
END_OBJECT = IMAGE_MAP_PROJECTION
END
