PDS_VERSION_ID = PDS3
/* FILE DATA ELEMENTS */
RECORD_TYPE = UNDEFINED
/* POINTERS TO DATA OBJECTS */
^IMAGE = ("H4464_0000_ND4.TIF")
/* IDENTIFICATION DATA ELEMENTS */
DATA_SET_ID = "MEX-M-HRSC-4-REFDR-MAPPROJECT-EXT1-V4.0"
DATA_SET_NAME = "MARS EXPRESS HRSC MAP PROJECTED REFDR EXTENSION1 V4.0"
DETECTOR_ID = MEX_HRSC_NADIR
EVENT_TYPE = "MARS-REGIONAL-MAPPING-Im-Fl-Pf"
INSTRUMENT_HOST_ID = MEX
INSTRUMENT_HOST_NAME = "MARS EXPRESS"
INSTRUMENT_ID = HRSC
INSTRUMENT_NAME = "HIGH RESOLUTION STEREO CAMERA"
MISSION_NAME = "MARS EXPRESS"
MISSION_PHASE_NAME = ME_Phase_8
PROCESSING_LEVEL_ID = 4
PRODUCT_CREATION_TIME = 2023-02-10T03:49:22.000Z
PRODUCT_ID = "H4464_0000_ND4.TIF"
RELEASE_ID = 0006
REVISION_ID = 0000
/* QUALITY DATA ELEMENTS */
DATA_QUALITY_ID = 1
DATA_QUALITY_DESC = "Data calculated based on original SPICE kernels"
/* TIME DATA ELEMENTS */
SPACECRAFT_CLOCK_START_COUNT = "1/0130952622.09072"
SPACECRAFT_CLOCK_STOP_COUNT = "1/0130952813.09828"
START_TIME = 2007-06-26T15:44:12.700Z
STOP_TIME = 2007-06-26T15:46:28.725Z
/* ORBITAL DATA ELEMENTS */
ASCENDING_NODE_LONGITUDE = 134.89
MAXIMUM_RESOLUTION = 0.0116
FOOTPRINT_POINT_LATITUDE = (-71.4901,-71.4426,-71.3884,-71.319, -71.317,-71.3053,-71.1233,-70.9411, -70.7588,-70.5796,-70.228,-69.8757, -69.5232,-69.1704,-68.9939,-68.8173, -68.6407,-68.4639,-68.2872,-68.1103, -67.8448,-67.6678,-67.4022,-67.2251, -67.0479,-66.8706,-66.6933,-66.516, -66.3387,-66.1612,-65.9838,-65.8062, -65.6287,-65.1848,-64.8295,-64.4742, -64.1187,-63.7634,-63.4081,-63.2246, -63.04,-62.8555,-62.671,-62.4864, -62.3942,-62.3923,-62.4269,-62.4713, -62.5027,-62.5036,-62.5042,-62.6897, -62.8753,-63.0608,-63.2464,-63.5237, -63.7024,-63.8811,-64.0599,-64.2386, -64.4174,-64.5962,-64.775,-64.9537, -65.1325,-65.3113,-65.49,-65.7582, -65.9369,-66.1157,-66.2944,-66.4732, -66.6519,-66.9199,-67.0986,-67.2772, -67.4558,-67.6344,-67.813,-68.0808, -68.2593,-68.4378,-68.6162,-68.7946, -68.9729,-69.1512,-69.3295,-69.5077, -69.6859,-69.8641,-70.0421,-70.2202, -70.3981,-70.576,-70.7539,-71.0275, -71.212,-71.3965,-71.4887,-71.4901)
FOOTPRINT_POINT_LONGITUDE = (306.245,305.327,304.376,303.271, 303.241,303.086,303.206,303.323,303.438 ,303.549,303.758,303.957,304.149, 304.336,304.426,304.515,304.603,304.688 ,304.772,304.855,304.975,305.053, 305.169,305.245,305.319,305.392,305.462 ,305.533,305.603,305.67,305.737,305.801 ,305.865,306.021,306.14,306.256,306.367 ,306.477,306.582,306.635,306.687, 306.738,306.789,306.839,306.864,306.864 ,307.483,308.364,309.065,309.087, 309.097,309.059,309.02,308.981,308.941, 308.88,308.839,308.799,308.758,308.716, 308.673,308.63,308.586,308.541,308.496, 308.45,308.404,308.333,308.285,308.235, 308.185,308.134,308.083,308.004,307.95, 307.896,307.84,307.784,307.726,307.638, 307.578,307.517,307.455,307.392,307.327 ,307.262,307.195,307.128,307.058, 306.988,306.916,306.843,306.769,306.693 ,306.616,306.493,306.409,306.323, 306.279,306.245)
ORBIT_NUMBER = 4464
ORBITAL_ECCENTRICITY = 0.57
ORBITAL_INCLINATION = 86.69
ORBITAL_SEMIMAJOR_AXIS = 8541.6
PERIAPSIS_ALTITUDE = 292.51
PERIAPSIS_ARGUMENT_ANGLE = 292.05
PERIAPSIS_TIME = 2007-06-26T15:45:10.000Z
SPACECRAFT_ORIENTATION = (0.0,1.0,0.0)
^MEX_ORIENTATION_DESC = "MEX_ORIENTATION_DESC.TXT"
SPACECRAFT_POINTING_MODE = ACROSSTRACK
^MEX_POINTING_DESC = "MEX_POINTING_DESC.TXT"
RIGHT_ASCENSION = -1e+32
DECLINATION = -1e+32
OFFSET_ANGLE = 0.3
SPACECRAFT_SOLAR_DISTANCE = 2.07193e+08
TARGET_NAME = MARS
/* CAMERA DATA ELEMENTS */
DETECTOR_TEMPERATURE = 18.3705
FOCAL_PLANE_TEMPERATURE = 8.7872
INST_CMPRS_NAME = "DISCRETE COSINE TRANSFORMATION (DCT)"
INST_CMPRS_RATIO = 7.71475
INST_CMPRS_QUALITY = 0
INST_CMPRS_QUANTZ_TBL_ID = 0
INSTRUMENT_TEMPERATURE = 11.4379
LENS_TEMPERATURE = 8.1755
MACROPIXEL_SIZE = 1
MISSING_FRAMES = 0
PIXEL_SUBSAMPLING_FLAG = N
SIGNAL_CHAIN_ID = 0
/* RADIOMETRIC DATA ELEMENTS */
BANDWIDTH = 177.0
CENTER_FILTER_WAVELENGTH = 677.5
RADIANCE_OFFSET = 5.86868
RADIANCE_SCALING_FACTOR = 0.0170244
REFLECTANCE_SCALING_FACTOR = 0.000388245
MEX:REFLECTANCE_OFFSET = 0.133837
/* IMAGE OBJECT DEFINITIONS */
OBJECT = IMAGE
  INTERCHANGE_FORMAT = BINARY
  LINES = 43142
  LINE_SAMPLES = 10542
  SAMPLE_TYPE = UNSIGNED_INTEGER
  SAMPLE_BITS = 8
  BANDS = 1
  BAND_STORAGE_TYPE = BAND_SEQUENTIAL
  MAXIMUM = 255
  MEAN = 97.7036
  MINIMUM = 1
  STANDARD_DEVIATION = 20.8719
END_OBJECT = IMAGE
/* MAP OBJECT DEFINITIONS */
OBJECT = IMAGE_MAP_PROJECTION
  ^DATA_SET_MAP_PROJECTION_CATALOG= "DSMAP.CAT"
  A_AXIS_RADIUS = 3396.0
  B_AXIS_RADIUS = 3396.0
  C_AXIS_RADIUS = 3396.0
  CENTER_LATITUDE = 0.0
  CENTER_LONGITUDE = 307.0
  COORDINATE_SYSTEM_NAME = PLANETOGRAPHIC
  COORDINATE_SYSTEM_TYPE = "BODY-FIXED ROTATING"
  EASTERNMOST_LONGITUDE = 309.097
  FIRST_STANDARD_PARALLEL = "N/A"
  LINE_FIRST_PIXEL = 1
  LINE_LAST_PIXEL = 43142
  LINE_PROJECTION_OFFSET = -295847.0
  MAP_PROJECTION_ROTATION = 0.0
  MAP_PROJECTION_TYPE = SINUSOIDAL
  MAP_RESOLUTION = 4741.71043093333
  MAP_SCALE = 0.0125
  MAXIMUM_LATITUDE = -62.3923
  MINIMUM_LATITUDE = -71.4901
  POSITIVE_LONGITUDE_DIRECTION = EAST
  REFERENCE_LATITUDE = "N/A"
  REFERENCE_LONGITUDE = "N/A"
  SAMPLE_FIRST_PIXEL = 1
  SAMPLE_LAST_PIXEL = 10542
  SAMPLE_PROJECTION_OFFSET = 5949.0
  SECOND_STANDARD_PARALLEL = "N/A"
  WESTERNMOST_LONGITUDE = 303.086
END_OBJECT = IMAGE_MAP_PROJECTION
END
