PDS_VERSION_ID = PDS3
/* FILE DATA ELEMENTS */
RECORD_TYPE = UNDEFINED
/* POINTERS TO DATA OBJECTS */
^IMAGE = ("H4464_0000_BL4.TIF")
/* IDENTIFICATION DATA ELEMENTS */
DATA_SET_ID = "MEX-M-HRSC-4-REFDR-MAPPROJECT-EXT1-V4.0"
DATA_SET_NAME = "MARS EXPRESS HRSC MAP PROJECTED REFDR EXTENSION1 V4.0"
DETECTOR_ID = MEX_HRSC_BLUE
EVENT_TYPE = "MARS-REGIONAL-MAPPING-Im-Fl-Pf"
INSTRUMENT_HOST_ID = MEX
INSTRUMENT_HOST_NAME = "MARS EXPRESS"
INSTRUMENT_ID = HRSC
INSTRUMENT_NAME = "HIGH RESOLUTION STEREO CAMERA"
MISSION_NAME = "MARS EXPRESS"
MISSION_PHASE_NAME = ME_Phase_8
PROCESSING_LEVEL_ID = 4
PRODUCT_CREATION_TIME = 2023-02-10T03:49:22.000Z
PRODUCT_ID = "H4464_0000_BL4.TIF"
RELEASE_ID = 0006
REVISION_ID = 0000
/* QUALITY DATA ELEMENTS */
DATA_QUALITY_ID = 1
DATA_QUALITY_DESC = "Data calculated based on original SPICE kernels"
/* TIME DATA ELEMENTS */
SPACECRAFT_CLOCK_START_COUNT = "1/0130952622.09072"
SPACECRAFT_CLOCK_STOP_COUNT = "1/0130952813.09828"
START_TIME = 2007-06-26T15:44:08.409Z
STOP_TIME = 2007-06-26T15:46:24.219Z
/* ORBITAL DATA ELEMENTS */
ASCENDING_NODE_LONGITUDE = 134.89
MAXIMUM_RESOLUTION = 0.0464
FOOTPRINT_POINT_LATITUDE = (-71.5017,-71.462,-71.4105,-71.3263, -71.3244,-71.2968,-71.0261,-70.7549, -70.574,-70.3051,-69.868,-69.693, -69.343,-69.1678,-68.8173,-68.4663, -68.2029,-68.0272,-67.8513,-67.6754, -67.4995,-67.2357,-67.0595,-66.7953, -66.619,-66.4428,-66.2666,-66.002, -65.737,-65.4722,-65.2955,-65.1189, -64.9421,-64.7654,-64.5887,-64.3233, -64.1463,-63.9697,-63.7045,-63.5276, -63.3509,-63.1739,-62.9933,-62.8095, -62.534,-62.4422,-62.3982,-62.4383, -62.4791,-62.5118,-62.5127,-62.5138, -62.7913,-62.9758,-63.2513,-63.4294, -63.6076,-63.7856,-63.9634,-64.2303, -64.4082,-64.586,-64.7642,-64.9422, -65.12,-65.2979,-65.5645,-65.7423, -65.9199,-66.0979,-66.2754,-66.4532, -66.6307,-66.8083,-66.986,-67.1635, -67.3408,-67.5185,-67.696,-67.8732, -68.0506,-68.2279,-68.4052,-68.671, -68.8481,-69.0252,-69.2022,-69.3792, -69.5561,-69.8214,-70.0865,-70.2632, -70.4397,-70.6186,-70.8019,-70.9852, -71.1683,-71.3513,-71.4428,-71.5017)
FOOTPRINT_POINT_LONGITUDE = (306.242,305.49,304.595,303.275,303.247 ,303.111,303.288,303.459,303.57,303.731 ,303.98,304.075,304.264,304.355,304.533 ,304.705,304.829,304.91,304.989,305.067 ,305.144,305.258,305.331,305.439, 305.509,305.579,305.647,305.747,305.843 ,305.938,306.0,306.06,306.12,306.179, 306.236,306.32,306.375,306.431,306.511, 306.563,306.616,306.666,306.717,306.768 ,306.843,306.868,306.88,307.583,308.368 ,309.066,309.087,309.093,309.036, 308.997,308.938,308.899,308.859,308.819 ,308.779,308.716,308.674,308.632, 308.588,308.543,308.499,308.453,308.384 ,308.337,308.289,308.24,308.191,308.14, 308.089,308.037,307.984,307.931,307.877 ,307.821,307.764,307.707,307.649,307.59 ,307.529,307.437,307.374,307.31,307.245 ,307.178,307.111,307.007,306.9,306.828, 306.754,306.677,306.597,306.515,306.432 ,306.347,306.304,306.242)
ORBIT_NUMBER = 4464
ORBITAL_ECCENTRICITY = 0.57
ORBITAL_INCLINATION = 86.69
ORBITAL_SEMIMAJOR_AXIS = 8541.6
PERIAPSIS_ALTITUDE = 292.51
PERIAPSIS_ARGUMENT_ANGLE = 292.05
PERIAPSIS_TIME = 2007-06-26T15:45:10.000Z
SPACECRAFT_ORIENTATION = (0.0,1.0,0.0)
^MEX_ORIENTATION_DESC = "MEX_ORIENTATION_DESC.TXT"
SPACECRAFT_POINTING_MODE = ACROSSTRACK
^MEX_POINTING_DESC = "MEX_POINTING_DESC.TXT"
RIGHT_ASCENSION = -1e+32
DECLINATION = -1e+32
OFFSET_ANGLE = 0.3
SPACECRAFT_SOLAR_DISTANCE = 2.07193e+08
TARGET_NAME = MARS
/* CAMERA DATA ELEMENTS */
DETECTOR_TEMPERATURE = 18.3705
FOCAL_PLANE_TEMPERATURE = 8.7872
INST_CMPRS_NAME = "DISCRETE COSINE TRANSFORMATION (DCT)"
INST_CMPRS_RATIO = 11.8333
INST_CMPRS_QUALITY = 0
INST_CMPRS_QUANTZ_TBL_ID = 0
INSTRUMENT_TEMPERATURE = 11.4379
LENS_TEMPERATURE = 8.1755
MACROPIXEL_SIZE = 4
MISSING_FRAMES = 0
PIXEL_SUBSAMPLING_FLAG = N
SIGNAL_CHAIN_ID = 2
/* RADIOMETRIC DATA ELEMENTS */
BANDWIDTH = 76.0
CENTER_FILTER_WAVELENGTH = 444.0
RADIANCE_OFFSET = 0.886469
RADIANCE_SCALING_FACTOR = 0.00139902
REFLECTANCE_SCALING_FACTOR = 6.17066e-05
MEX:REFLECTANCE_OFFSET = 0.0390996
/* IMAGE OBJECT DEFINITIONS */
OBJECT = IMAGE
  INTERCHANGE_FORMAT = BINARY
  LINES = 10786
  LINE_SAMPLES = 2636
  SAMPLE_TYPE = UNSIGNED_INTEGER
  SAMPLE_BITS = 8
  BANDS = 1
  BAND_STORAGE_TYPE = BAND_SEQUENTIAL
  MAXIMUM = 255
  MEAN = 93.7142
  MINIMUM = 1
  STANDARD_DEVIATION = 23.1211
END_OBJECT = IMAGE
/* MAP OBJECT DEFINITIONS */
OBJECT = IMAGE_MAP_PROJECTION
  ^DATA_SET_MAP_PROJECTION_CATALOG= "DSMAP.CAT"
  A_AXIS_RADIUS = 3396.0
  B_AXIS_RADIUS = 3396.0
  C_AXIS_RADIUS = 3396.0
  CENTER_LATITUDE = 0.0
  CENTER_LONGITUDE = 307.0
  COORDINATE_SYSTEM_NAME = PLANETOGRAPHIC
  COORDINATE_SYSTEM_TYPE = "BODY-FIXED ROTATING"
  EASTERNMOST_LONGITUDE = 309.093
  FIRST_STANDARD_PARALLEL = "N/A"
  LINE_FIRST_PIXEL = 1
  LINE_LAST_PIXEL = 10786
  LINE_PROJECTION_OFFSET = -73962.125
  MAP_PROJECTION_ROTATION = 0.0
  MAP_PROJECTION_TYPE = SINUSOIDAL
  MAP_RESOLUTION = 1185.42760773333
  MAP_SCALE = 0.05
  MAXIMUM_LATITUDE = -62.3982
  MINIMUM_LATITUDE = -71.5017
  POSITIVE_LONGITUDE_DIRECTION = EAST
  REFERENCE_LATITUDE = "N/A"
  REFERENCE_LONGITUDE = "N/A"
  SAMPLE_FIRST_PIXEL = 1
  SAMPLE_LAST_PIXEL = 2636
  SAMPLE_PROJECTION_OFFSET = 1486.875
  SECOND_STANDARD_PARALLEL = "N/A"
  WESTERNMOST_LONGITUDE = 303.111
END_OBJECT = IMAGE_MAP_PROJECTION
END
