PDS_VERSION_ID = PDS3
/* FILE DATA ELEMENTS */
RECORD_TYPE = UNDEFINED
/* POINTERS TO DATA OBJECTS */
^IMAGE = ("H4463_0000_RE4.TIF")
/* IDENTIFICATION DATA ELEMENTS */
DATA_SET_ID = "MEX-M-HRSC-4-REFDR-MAPPROJECT-EXT1-V4.0"
DATA_SET_NAME = "MARS EXPRESS HRSC MAP PROJECTED REFDR EXTENSION1 V4.0"
DETECTOR_ID = MEX_HRSC_RED
EVENT_TYPE = "MARS-REGIONAL-MAPPING-Vo-Gl-Pf"
INSTRUMENT_HOST_ID = MEX
INSTRUMENT_HOST_NAME = "MARS EXPRESS"
INSTRUMENT_ID = HRSC
INSTRUMENT_NAME = "HIGH RESOLUTION STEREO CAMERA"
MISSION_NAME = "MARS EXPRESS"
MISSION_PHASE_NAME = ME_Phase_8
PROCESSING_LEVEL_ID = 4
PRODUCT_CREATION_TIME = 2023-02-10T03:49:22.000Z
PRODUCT_ID = "H4463_0000_RE4.TIF"
RELEASE_ID = 0006
REVISION_ID = 0000
/* QUALITY DATA ELEMENTS */
DATA_QUALITY_ID = 1
DATA_QUALITY_DESC = "Data calculated based on original SPICE kernels"
/* TIME DATA ELEMENTS */
SPACECRAFT_CLOCK_START_COUNT = "1/0130928319.08401"
SPACECRAFT_CLOCK_STOP_COUNT = "1/0130928628.00151"
START_TIME = 2007-06-26T08:58:48.359Z
STOP_TIME = 2007-06-26T09:03:02.019Z
/* ORBITAL DATA ELEMENTS */
ASCENDING_NODE_LONGITUDE = 134.91
MAXIMUM_RESOLUTION = 0.0482
FOOTPRINT_POINT_LATITUDE = (-78.3924,-78.3273,-78.2283,-78.1021, -78.0989,-78.0091,-77.6789,-77.347, -77.0159,-76.5109,-76.1733,-75.8471, -75.5199,-75.0263,-74.5304,-74.1987, -73.8656,-73.5375,-73.2157,-72.8886, -72.5694,-72.2437,-71.9157,-71.5895, -71.2606,-70.7676,-70.4388,-70.1114, -69.6188,-69.2996,-68.8206,-68.5004, -68.1808,-67.8606,-67.5388,-67.2178, -66.8972,-66.5754,-66.0929,-65.7704, -65.4477,-65.1236,-64.7999,-64.3125, -63.8253,-63.5001,-63.1746,-62.8484, -62.3598,-61.8708,-61.7074,-61.6941, -61.744,-61.7885,-61.7892,-61.7902, -62.2818,-62.6088,-62.9368,-63.2639, -63.591,-64.0829,-64.4105,-64.7331, -65.2258,-65.7145,-66.2029,-66.6894, -67.0137,-67.4999,-67.8233,-68.1459, -68.6302,-69.1135,-69.4363,-69.7584, -70.0885,-70.4208,-70.7536,-71.2514, -71.5828,-71.9152,-72.4099,-72.7396, -73.0737,-73.4003,-73.8912,-74.3996, -74.7377,-75.0752,-75.5812,-76.0822, -76.4164,-76.7607,-77.1058,-77.4509, -77.7914,-78.133,-78.3051,-78.3924)
FOOTPRINT_POINT_LONGITUDE = (40.7573,39.4562,37.699,35.7417,35.6954 ,35.6758,36.1991,36.6946,37.165,37.8248 ,38.237,38.6167,38.9789,39.4913,39.97, 40.2718,40.5605,40.8337,41.09,41.3342, 41.5726,41.7994,42.0167,42.2269,42.4283 ,42.7172,42.9014,43.0799,43.3329, 43.4891,43.7139,43.8574,43.9968,44.1316 ,44.2614,44.3877,44.5104,44.6288, 44.8001,44.9096,45.016,45.1185,45.2182, 45.3616,45.4989,45.5871,45.6726,45.7554 ,45.8755,45.9906,46.0276,46.0306, 47.0328,48.1632,48.1834,48.19,48.1056, 48.048,47.9877,47.9265,47.8636,47.7643, 47.6958,47.6307,47.5194,47.4072,47.29, 47.169,47.0851,46.954,46.8638,46.7715, 46.6261,46.4741,46.3672,46.2574,46.1415 ,46.0217,45.8961,45.7,45.5631,45.4188, 45.1971,45.0412,44.8699,44.705,44.4421, 44.1495,43.9436,43.728,43.3835,43.0222, 42.7638,42.4835,42.1853,41.8681,41.544, 41.1951,41.0077,40.7573)
ORBIT_NUMBER = 4463
ORBITAL_ECCENTRICITY = 0.57
ORBITAL_INCLINATION = 86.69
ORBITAL_SEMIMAJOR_AXIS = 8544.53
PERIAPSIS_ALTITUDE = 292.24
PERIAPSIS_ARGUMENT_ANGLE = 292.21
PERIAPSIS_TIME = 2007-06-26T09:01:56.000Z
SPACECRAFT_ORIENTATION = (0.0,1.0,0.0)
^MEX_ORIENTATION_DESC = "MEX_ORIENTATION_DESC.TXT"
SPACECRAFT_POINTING_MODE = NADIR
^MEX_POINTING_DESC = "MEX_POINTING_DESC.TXT"
RIGHT_ASCENSION = -1e+32
DECLINATION = -1e+32
OFFSET_ANGLE = -1e+32
SPACECRAFT_SOLAR_DISTANCE = 2.0718e+08
TARGET_NAME = MARS
/* CAMERA DATA ELEMENTS */
DETECTOR_TEMPERATURE = 18.7783
FOCAL_PLANE_TEMPERATURE = 8.5833
INST_CMPRS_NAME = "DISCRETE COSINE TRANSFORMATION (DCT)"
INST_CMPRS_RATIO = 16.6076
INST_CMPRS_QUALITY = 0
INST_CMPRS_QUANTZ_TBL_ID = 0
INSTRUMENT_TEMPERATURE = 11.4379
LENS_TEMPERATURE = 9.195
MACROPIXEL_SIZE = 4
MISSING_FRAMES = 0
PIXEL_SUBSAMPLING_FLAG = N
SIGNAL_CHAIN_ID = 2
/* RADIOMETRIC DATA ELEMENTS */
BANDWIDTH = 48.0
CENTER_FILTER_WAVELENGTH = 748.0
RADIANCE_OFFSET = 1.57196
RADIANCE_SCALING_FACTOR = 0.0153303
REFLECTANCE_SCALING_FACTOR = 0.00150166
MEX:REFLECTANCE_OFFSET = 0.15398
/* IMAGE OBJECT DEFINITIONS */
OBJECT = IMAGE
  INTERCHANGE_FORMAT = BINARY
  LINES = 19694
  LINE_SAMPLES = 4073
  SAMPLE_TYPE = UNSIGNED_INTEGER
  SAMPLE_BITS = 8
  BANDS = 1
  BAND_STORAGE_TYPE = BAND_SEQUENTIAL
  MAXIMUM = 255
  MEAN = 60.5572
  MINIMUM = 1
  STANDARD_DEVIATION = 46.8396
END_OBJECT = IMAGE
/* MAP OBJECT DEFINITIONS */
OBJECT = IMAGE_MAP_PROJECTION
  ^DATA_SET_MAP_PROJECTION_CATALOG= "DSMAP.CAT"
  A_AXIS_RADIUS = 3396.0
  B_AXIS_RADIUS = 3396.0
  C_AXIS_RADIUS = 3396.0
  CENTER_LATITUDE = 0.0
  CENTER_LONGITUDE = 45.0
  COORDINATE_SYSTEM_NAME = PLANETOGRAPHIC
  COORDINATE_SYSTEM_TYPE = "BODY-FIXED ROTATING"
  EASTERNMOST_LONGITUDE = 48.19
  FIRST_STANDARD_PARALLEL = "N/A"
  LINE_FIRST_PIXEL = 1
  LINE_LAST_PIXEL = 19694
  LINE_PROJECTION_OFFSET = -73126.625
  MAP_PROJECTION_ROTATION = 0.0
  MAP_PROJECTION_TYPE = SINUSOIDAL
  MAP_RESOLUTION = 1185.42760773333
  MAP_SCALE = 0.05
  MAXIMUM_LATITUDE = -61.6941
  MINIMUM_LATITUDE = -78.39239999999999
  POSITIVE_LONGITUDE_DIRECTION = EAST
  REFERENCE_LATITUDE = "N/A"
  REFERENCE_LONGITUDE = "N/A"
  SAMPLE_FIRST_PIXEL = 1
  SAMPLE_LAST_PIXEL = 4073
  SAMPLE_PROJECTION_OFFSET = 2280.375
  SECOND_STANDARD_PARALLEL = "N/A"
  WESTERNMOST_LONGITUDE = 35.6758
END_OBJECT = IMAGE_MAP_PROJECTION
END
