PDS_VERSION_ID = PDS3
/* FILE DATA ELEMENTS */
RECORD_TYPE = UNDEFINED
/* POINTERS TO DATA OBJECTS */
^IMAGE = ("H4449_0000_RE4.TIF")
/* IDENTIFICATION DATA ELEMENTS */
DATA_SET_ID = "MEX-M-HRSC-4-REFDR-MAPPROJECT-EXT1-V4.0"
DATA_SET_NAME = "MARS EXPRESS HRSC MAP PROJECTED REFDR EXTENSION1 V4.0"
DETECTOR_ID = MEX_HRSC_RED
EVENT_TYPE = "MARS-REGIONAL-MAPPING-Gl-La"
INSTRUMENT_HOST_ID = MEX
INSTRUMENT_HOST_NAME = "MARS EXPRESS"
INSTRUMENT_ID = HRSC
INSTRUMENT_NAME = "HIGH RESOLUTION STEREO CAMERA"
MISSION_NAME = "MARS EXPRESS"
MISSION_PHASE_NAME = ME_Phase_8
PROCESSING_LEVEL_ID = 4
PRODUCT_CREATION_TIME = 2023-02-10T03:49:22.000Z
PRODUCT_ID = "H4449_0000_RE4.TIF"
RELEASE_ID = 0006
REVISION_ID = 0000
/* QUALITY DATA ELEMENTS */
DATA_QUALITY_ID = 1
DATA_QUALITY_DESC = "Data calculated based on original SPICE kernels"
/* TIME DATA ELEMENTS */
SPACECRAFT_CLOCK_START_COUNT = "1/0130589486.09087"
SPACECRAFT_CLOCK_STOP_COUNT = "1/0130589657.16021"
START_TIME = 2007-06-22T10:51:36.709Z
STOP_TIME = 2007-06-22T10:53:25.700Z
/* ORBITAL DATA ELEMENTS */
ASCENDING_NODE_LONGITUDE = 135.2
MAXIMUM_RESOLUTION = 0.0562
FOOTPRINT_POINT_LATITUDE = (-84.4532,-84.3885,-84.2902,-84.1602, -84.044,-83.9518,-83.8343,-83.7357, -83.7281,-83.6421,-83.4715,-83.3559, -83.2408,-83.124,-83.0053,-82.884, -82.7008,-82.5816,-82.4585,-82.3325, -82.2064,-82.0813,-81.9565,-81.7646, -81.6356,-81.5067,-81.3767,-81.2611, -81.04,-80.8737,-80.6495,-80.4803, -80.2537,-80.0825,-79.8533,-79.623, -79.4493,-79.3332,-79.2168,-79.0998, -78.9241,-78.8065,-78.6296,-78.5114, -78.3929,-78.2741,-78.1552,-77.9765, -77.7374,-77.6774,-77.6694,-77.7644, -77.834,-77.8822,-77.9429,-77.9774, -77.9798,-77.9814,-78.1674,-78.3537, -78.4767,-78.5999,-78.7847,-78.9078, -79.0306,-79.1534,-79.2763,-79.3992, -79.5821,-79.704,-79.8257,-79.9473, -80.1295,-80.2506,-80.4318,-80.5523, -80.7326,-80.9726,-81.0928,-81.3312, -81.509,-81.6863,-81.9385,-82.0786, -82.2193,-82.4284,-82.635,-82.7726, -82.9093,-83.0463,-83.2506,-83.454, -83.5891,-83.7238,-83.8569,-83.9909, -84.1242,-84.3212,-84.3869,-84.4532)
FOOTPRINT_POINT_LONGITUDE = (322.325,321.117,319.412,317.366, 315.701,314.473,313.012,311.863,311.777 ,312.026,313.239,314.014,314.758, 315.479,316.177,316.855,317.829,318.444 ,319.045,319.63,320.195,320.739,321.266 ,322.029,322.519,322.993,323.453, 323.849,324.572,325.091,325.755,326.232 ,326.843,327.282,327.846,328.384, 328.773,329.025,329.271,329.512,329.865 ,330.093,330.427,330.645,330.857, 331.065,331.269,331.568,331.952,332.046 ,332.058,333.487,334.637,335.496, 336.668,337.388,337.439,337.456,337.266 ,337.069,336.937,336.801,336.591, 336.447,336.301,336.15,335.995,335.835, 335.594,335.427,335.257,335.082,334.812 ,334.626,334.34,334.143,333.839,333.413 ,333.189,332.73,332.37,331.996,331.431, 331.102,330.754,330.216,329.658,329.265 ,328.861,328.435,327.766,327.052,326.55 ,326.023,325.483,324.905,324.299, 323.353,323.018,322.325)
ORBIT_NUMBER = 4449
ORBITAL_ECCENTRICITY = 0.57
ORBITAL_INCLINATION = 86.7
ORBITAL_SEMIMAJOR_AXIS = 8544.95
PERIAPSIS_ALTITUDE = 292.26
PERIAPSIS_ARGUMENT_ANGLE = 294.63
PERIAPSIS_TIME = 2007-06-22T10:57:06.000Z
SPACECRAFT_ORIENTATION = (0.0,1.0,0.0)
^MEX_ORIENTATION_DESC = "MEX_ORIENTATION_DESC.TXT"
SPACECRAFT_POINTING_MODE = NADIR
^MEX_POINTING_DESC = "MEX_POINTING_DESC.TXT"
RIGHT_ASCENSION = -1e+32
DECLINATION = -1e+32
OFFSET_ANGLE = -1e+32
SPACECRAFT_SOLAR_DISTANCE = 2.07013e+08
TARGET_NAME = MARS
/* CAMERA DATA ELEMENTS */
DETECTOR_TEMPERATURE = 18.7783
FOCAL_PLANE_TEMPERATURE = 8.3794
INST_CMPRS_NAME = "DISCRETE COSINE TRANSFORMATION (DCT)"
INST_CMPRS_RATIO = 23.3395
INST_CMPRS_QUALITY = 0
INST_CMPRS_QUANTZ_TBL_ID = 0
INSTRUMENT_TEMPERATURE = 11.4379
LENS_TEMPERATURE = 8.5833
MACROPIXEL_SIZE = 4
MISSING_FRAMES = 0
PIXEL_SUBSAMPLING_FLAG = N
SIGNAL_CHAIN_ID = 2
/* RADIOMETRIC DATA ELEMENTS */
BANDWIDTH = 48.0
CENTER_FILTER_WAVELENGTH = 748.0
RADIANCE_OFFSET = 2.35398
RADIANCE_SCALING_FACTOR = 0.00495012
REFLECTANCE_SCALING_FACTOR = 0.000484104
MEX:REFLECTANCE_OFFSET = 0.230211
/* IMAGE OBJECT DEFINITIONS */
OBJECT = IMAGE
  INTERCHANGE_FORMAT = BINARY
  LINES = 7924
  LINE_SAMPLES = 4257
  SAMPLE_TYPE = UNSIGNED_INTEGER
  SAMPLE_BITS = 8
  BANDS = 1
  BAND_STORAGE_TYPE = BAND_SEQUENTIAL
  MAXIMUM = 255
  MEAN = 198.642
  MINIMUM = 1
  STANDARD_DEVIATION = 61.7151
END_OBJECT = IMAGE
/* MAP OBJECT DEFINITIONS */
OBJECT = IMAGE_MAP_PROJECTION
  ^DATA_SET_MAP_PROJECTION_CATALOG= "DSMAP.CAT"
  A_AXIS_RADIUS = 3396.0
  B_AXIS_RADIUS = 3396.0
  C_AXIS_RADIUS = 3396.0
  CENTER_LATITUDE = 0.0
  CENTER_LONGITUDE = 329.0
  COORDINATE_SYSTEM_NAME = PLANETOGRAPHIC
  COORDINATE_SYSTEM_TYPE = "BODY-FIXED ROTATING"
  EASTERNMOST_LONGITUDE = 337.456
  FIRST_STANDARD_PARALLEL = "N/A"
  LINE_FIRST_PIXEL = 1
  LINE_LAST_PIXEL = 7924
  LINE_PROJECTION_OFFSET = -92071.125
  MAP_PROJECTION_ROTATION = 0.0
  MAP_PROJECTION_TYPE = SINUSOIDAL
  MAP_RESOLUTION = 1185.42760773333
  MAP_SCALE = 0.05
  MAXIMUM_LATITUDE = -77.6694
  MINIMUM_LATITUDE = -84.4532
  POSITIVE_LONGITUDE_DIRECTION = EAST
  REFERENCE_LATITUDE = "N/A"
  REFERENCE_LONGITUDE = "N/A"
  SAMPLE_FIRST_PIXEL = 1
  SAMPLE_LAST_PIXEL = 4257
  SAMPLE_PROJECTION_OFFSET = 2187.875
  SECOND_STANDARD_PARALLEL = "N/A"
  WESTERNMOST_LONGITUDE = 311.777
END_OBJECT = IMAGE_MAP_PROJECTION
END
