PDS_VERSION_ID = PDS3
/* FILE DATA ELEMENTS */
RECORD_TYPE = UNDEFINED
/* POINTERS TO DATA OBJECTS */
^IMAGE = ("H4447_0009_P24.TIF")
/* IDENTIFICATION DATA ELEMENTS */
DATA_SET_ID = "MEX-M-HRSC-4-REFDR-MAPPROJECT-EXT1-V4.0"
DATA_SET_NAME = "MARS EXPRESS HRSC MAP PROJECTED REFDR EXTENSION1 V4.0"
DETECTOR_ID = MEX_HRSC_P2
EVENT_TYPE = "MARS-REGIONAL-VARIABLE-Gl-La-At"
INSTRUMENT_HOST_ID = MEX
INSTRUMENT_HOST_NAME = "MARS EXPRESS"
INSTRUMENT_ID = HRSC
INSTRUMENT_NAME = "HIGH RESOLUTION STEREO CAMERA"
MISSION_NAME = "MARS EXPRESS"
MISSION_PHASE_NAME = ME_Phase_8
PROCESSING_LEVEL_ID = 4
PRODUCT_CREATION_TIME = 2023-02-10T03:49:22.000Z
PRODUCT_ID = "H4447_0009_P24.TIF"
RELEASE_ID = 0006
REVISION_ID = 0000
/* QUALITY DATA ELEMENTS */
DATA_QUALITY_ID = 1
DATA_QUALITY_DESC = "Data calculated based on original SPICE kernels"
/* TIME DATA ELEMENTS */
SPACECRAFT_CLOCK_START_COUNT = "1/0130540990.09086"
SPACECRAFT_CLOCK_STOP_COUNT = "1/0130541211.31316"
START_TIME = 2007-06-21T21:23:31.111Z
STOP_TIME = 2007-06-21T21:25:59.823Z
/* ORBITAL DATA ELEMENTS */
ASCENDING_NODE_LONGITUDE = 135.23
MAXIMUM_RESOLUTION = 0.0299
FOOTPRINT_POINT_LATITUDE = (-87.7424,-87.4527,-87.2373,-87.0189, -86.7989,-86.5775,-86.3551,-86.3412, -86.3554,-86.4209,-86.4772,-86.5234, -86.5592,-86.5848,-86.6036,-86.603, -86.5925,-86.5717,-86.5411,-86.5008, -86.4522,-86.3951,-86.3297,-86.2561, -86.1758,-86.0899,-85.9978,-85.8484, -85.7418,-85.6324,-85.5196,-85.4025, -85.2823,-85.0327,-84.7754,-84.4367, -84.1567,-83.8744,-83.5831,-83.2845, -83.1329,-82.9799,-82.8255,-82.6697, -82.5114,-82.3513,-82.193,-81.8795, -81.7187,-81.6379,-81.6316,-81.7003, -81.7655,-81.8341,-81.8942,-81.946, -82.0016,-82.0043,-82.0058,-82.2634, -82.4346,-82.6054,-82.7756,-82.9453, -83.1992,-83.3679,-83.536,-83.7037, -83.8707,-84.2023,-84.531,-84.8565, -85.0983,-85.4175,-85.8097,-86.0446, -86.1998,-86.3526,-86.5782,-86.7259, -86.8739,-87.0181,-87.1577,-87.2925, -87.4858,-87.6077,-87.7742,-87.8727, -87.96,-88.0355,-88.1192,-88.1541, -88.17,-88.1583,-88.1256,-88.0745, -88.0058,-87.8749,-87.8239,-87.7424)
FOOTPRINT_POINT_LONGITUDE = (62.8593,67.0698,69.5532,71.6666, 73.4821,75.0578,76.4383,76.5189,77.5074 ,80.3653,83.33,86.3674,89.4397,92.5888, 97.3386,100.467,103.559,106.65,109.685, 112.66,115.514,118.275,120.948,123.532, 125.996,128.319,130.54,133.685,135.661, 137.505,139.242,140.896,142.46,145.346, 147.91,150.799,152.861,154.702,156.394, 157.945,158.672,159.367,160.034,160.674 ,161.293,161.89,162.452,163.492,163.991 ,164.233,164.252,165.52,166.82,168.319, 169.771,171.17,172.871,172.962,172.994, 172.55,172.237,171.91,171.569,171.213, 170.644,170.239,169.813,169.364,168.891 ,167.874,166.737,165.458,164.388, 162.775,160.414,158.755,157.538,156.239 ,154.035,152.387,150.529,148.481, 146.254,143.808,139.607,136.408,130.973 ,126.933,122.493,117.643,109.717, 104.138,98.3394,89.4774,83.71,78.1989, 72.9513,65.7887,63.6035,62.8593)
ORBIT_NUMBER = 4447
ORBITAL_ECCENTRICITY = 0.57
ORBITAL_INCLINATION = 86.69
ORBITAL_SEMIMAJOR_AXIS = 8546.18
PERIAPSIS_ALTITUDE = 292.44
PERIAPSIS_ARGUMENT_ANGLE = 294.99
PERIAPSIS_TIME = 2007-06-21T21:30:44.000Z
SPACECRAFT_ORIENTATION = (0.0,1.0,0.0)
^MEX_ORIENTATION_DESC = "MEX_ORIENTATION_DESC.TXT"
SPACECRAFT_POINTING_MODE = ACROSSTRACK
^MEX_POINTING_DESC = "MEX_POINTING_DESC.TXT"
RIGHT_ASCENSION = -1e+32
DECLINATION = -1e+32
OFFSET_ANGLE = -0.65
SPACECRAFT_SOLAR_DISTANCE = 2.06992e+08
TARGET_NAME = MARS
/* CAMERA DATA ELEMENTS */
DETECTOR_TEMPERATURE = 19.5939
FOCAL_PLANE_TEMPERATURE = 9.3989
INST_CMPRS_NAME = "DISCRETE COSINE TRANSFORMATION (DCT)"
INST_CMPRS_RATIO = 7.22593
INST_CMPRS_QUALITY = 0
INST_CMPRS_QUANTZ_TBL_ID = 0
INSTRUMENT_TEMPERATURE = 13.8847
LENS_TEMPERATURE = 9.6028
MACROPIXEL_SIZE = 2
MISSING_FRAMES = 0
PIXEL_SUBSAMPLING_FLAG = N
SIGNAL_CHAIN_ID = 3
/* RADIOMETRIC DATA ELEMENTS */
BANDWIDTH = 177.0
CENTER_FILTER_WAVELENGTH = 676.5
RADIANCE_OFFSET = 5.06753
RADIANCE_SCALING_FACTOR = 0.0308369
REFLECTANCE_SCALING_FACTOR = 0.000700539
MEX:REFLECTANCE_OFFSET = 0.115122
/* IMAGE OBJECT DEFINITIONS */
OBJECT = IMAGE
  INTERCHANGE_FORMAT = BINARY
  LINES = 21515
  LINE_SAMPLES = 5976
  SAMPLE_TYPE = UNSIGNED_INTEGER
  SAMPLE_BITS = 8
  BANDS = 1
  BAND_STORAGE_TYPE = BAND_SEQUENTIAL
  MAXIMUM = 255
  MEAN = 53.4972
  MINIMUM = 1
  STANDARD_DEVIATION = 45.5924
END_OBJECT = IMAGE
/* MAP OBJECT DEFINITIONS */
OBJECT = IMAGE_MAP_PROJECTION
  ^DATA_SET_MAP_PROJECTION_CATALOG= "DSMAP.CAT"
  A_AXIS_RADIUS = 3396.0
  B_AXIS_RADIUS = 3396.0
  C_AXIS_RADIUS = 3396.0
  CENTER_LATITUDE = -90.0
  CENTER_LONGITUDE = 0.0
  COORDINATE_SYSTEM_NAME = PLANETOGRAPHIC
  COORDINATE_SYSTEM_TYPE = "BODY-FIXED ROTATING"
  EASTERNMOST_LONGITUDE = 172.994
  FIRST_STANDARD_PARALLEL = "N/A"
  LINE_FIRST_PIXEL = 1
  LINE_LAST_PIXEL = 21515
  LINE_PROJECTION_OFFSET = 2282.25
  MAP_PROJECTION_ROTATION = 0.0
  MAP_PROJECTION_TYPE = STEREOGRAPHIC
  MAP_RESOLUTION = 2370.85521546667
  MAP_SCALE = 0.025
  MAXIMUM_LATITUDE = -81.63160000000001
  MINIMUM_LATITUDE = -88.17
  POSITIVE_LONGITUDE_DIRECTION = EAST
  REFERENCE_LATITUDE = "N/A"
  REFERENCE_LONGITUDE = "N/A"
  SAMPLE_FIRST_PIXEL = 1
  SAMPLE_LAST_PIXEL = 5976
  SAMPLE_PROJECTION_OFFSET = -2369.75
  SECOND_STANDARD_PARALLEL = "N/A"
  WESTERNMOST_LONGITUDE = 62.8593
END_OBJECT = IMAGE_MAP_PROJECTION
END
