PDS_VERSION_ID = PDS3
/* FILE DATA ELEMENTS */
RECORD_TYPE = UNDEFINED
/* POINTERS TO DATA OBJECTS */
^IMAGE = ("H4447_0009_GR4.TIF")
/* IDENTIFICATION DATA ELEMENTS */
DATA_SET_ID = "MEX-M-HRSC-4-REFDR-MAPPROJECT-EXT1-V4.0"
DATA_SET_NAME = "MARS EXPRESS HRSC MAP PROJECTED REFDR EXTENSION1 V4.0"
DETECTOR_ID = MEX_HRSC_GREEN
EVENT_TYPE = "MARS-REGIONAL-VARIABLE-Gl-La-At"
INSTRUMENT_HOST_ID = MEX
INSTRUMENT_HOST_NAME = "MARS EXPRESS"
INSTRUMENT_ID = HRSC
INSTRUMENT_NAME = "HIGH RESOLUTION STEREO CAMERA"
MISSION_NAME = "MARS EXPRESS"
MISSION_PHASE_NAME = ME_Phase_8
PROCESSING_LEVEL_ID = 4
PRODUCT_CREATION_TIME = 2023-02-10T03:49:22.000Z
PRODUCT_ID = "H4447_0009_GR4.TIF"
RELEASE_ID = 0006
REVISION_ID = 0000
/* QUALITY DATA ELEMENTS */
DATA_QUALITY_ID = 1
DATA_QUALITY_DESC = "Data calculated based on original SPICE kernels"
/* TIME DATA ELEMENTS */
SPACECRAFT_CLOCK_START_COUNT = "1/0130540990.09086"
SPACECRAFT_CLOCK_STOP_COUNT = "1/0130541211.31316"
START_TIME = 2007-06-21T21:24:07.442Z
STOP_TIME = 2007-06-21T21:26:27.678Z
/* ORBITAL DATA ELEMENTS */
ASCENDING_NODE_LONGITUDE = 135.23
MAXIMUM_RESOLUTION = 0.1119
FOOTPRINT_POINT_LATITUDE = (-87.7502,-87.451,-87.2554,-87.058, -86.8593,-86.6597,-86.4592,-86.4466, -86.4345,-86.4975,-86.5509,-86.5943, -86.6272,-86.6493,-86.6603,-86.6569, -86.6412,-86.5982,-86.5578,-86.5082, -86.4495,-86.3822,-86.2667,-86.0915, -85.9437,-85.8382,-85.7276,-85.6121, -85.4921,-85.3679,-85.2399,-85.1083, -84.9736,-84.8358,-84.6955,-84.5525, -84.4074,-84.1851,-84.0336,-83.8807, -83.7259,-83.5697,-83.412,-83.2529, -83.0926,-82.7186,-82.4439,-82.1646, -81.8828,-81.6704,-81.5993,-81.5962, -81.7511,-81.8369,-81.9258,-81.9819, -81.9849,-81.9886,-82.4391,-82.7382, -83.0364,-83.3328,-83.5906,-83.7659, -83.9406,-84.1149,-84.2887,-84.4615, -84.6335,-84.8047,-84.9748,-85.1439, -85.3115,-85.4779,-85.6427,-85.8061, -85.9679,-86.2075,-86.3652,-86.5195, -86.6704,-86.8179,-87.0319,-87.1691, -87.3014,-87.4274,-87.6074,-87.7167, -87.8618,-87.9435,-88.0409,-88.0861, -88.12,-88.1112,-88.0805,-88.0312, -87.965,-87.8383,-87.7887,-87.7502)
FOOTPRINT_POINT_LONGITUDE = (65.667,69.8274,71.9891,73.8477,75.4596 ,76.8699,78.1139,78.1867,78.0581, 80.9943,84.0329,87.16,90.3614,93.6073, 96.8203,101.666,104.875,109.605,112.61, 115.537,118.381,121.128,125.033,129.751 ,133.009,135.048,136.985,138.824, 140.568,142.222,143.789,145.274,146.679 ,148.011,149.272,150.468,151.6,153.196, 154.196,155.145,156.048,156.906,157.724 ,158.502,159.245,160.83,161.882,162.862 ,163.774,164.417,164.623,164.633,167.4, 169.155,171.211,172.676,172.758,172.81, 171.995,171.396,170.751,170.042,169.367 ,168.874,168.354,167.807,167.228, 166.611,165.954,165.256,164.509,163.709 ,162.849,161.924,160.928,159.856, 158.701,156.795,155.397,153.86,152.177, 150.332,147.232,144.913,142.368,139.565 ,134.721,131.07,124.948,120.427,112.909 ,107.477,98.9767,90.378,84.6657,79.1751 ,73.999,66.9077,64.7565,65.667)
ORBIT_NUMBER = 4447
ORBITAL_ECCENTRICITY = 0.57
ORBITAL_INCLINATION = 86.69
ORBITAL_SEMIMAJOR_AXIS = 8546.18
PERIAPSIS_ALTITUDE = 292.44
PERIAPSIS_ARGUMENT_ANGLE = 294.99
PERIAPSIS_TIME = 2007-06-21T21:30:44.000Z
SPACECRAFT_ORIENTATION = (0.0,1.0,0.0)
^MEX_ORIENTATION_DESC = "MEX_ORIENTATION_DESC.TXT"
SPACECRAFT_POINTING_MODE = ACROSSTRACK
^MEX_POINTING_DESC = "MEX_POINTING_DESC.TXT"
RIGHT_ASCENSION = -1e+32
DECLINATION = -1e+32
OFFSET_ANGLE = -0.65
SPACECRAFT_SOLAR_DISTANCE = 2.06992e+08
TARGET_NAME = MARS
/* CAMERA DATA ELEMENTS */
DETECTOR_TEMPERATURE = 18.7783
FOCAL_PLANE_TEMPERATURE = 9.3989
INST_CMPRS_NAME = "DISCRETE COSINE TRANSFORMATION (DCT)"
INST_CMPRS_RATIO = 7.3978
INST_CMPRS_QUALITY = 0
INST_CMPRS_QUANTZ_TBL_ID = 0
INSTRUMENT_TEMPERATURE = 13.8847
LENS_TEMPERATURE = 9.6028
MACROPIXEL_SIZE = 8
MISSING_FRAMES = 0
PIXEL_SUBSAMPLING_FLAG = N
SIGNAL_CHAIN_ID = 2
/* RADIOMETRIC DATA ELEMENTS */
BANDWIDTH = 88.0
CENTER_FILTER_WAVELENGTH = 538.0
RADIANCE_OFFSET = 1.75214
RADIANCE_SCALING_FACTOR = 0.0155652
REFLECTANCE_SCALING_FACTOR = 0.000574182
MEX:REFLECTANCE_OFFSET = 0.0646343
/* IMAGE OBJECT DEFINITIONS */
OBJECT = IMAGE
  INTERCHANGE_FORMAT = BINARY
  LINES = 5379
  LINE_SAMPLES = 1494
  SAMPLE_TYPE = UNSIGNED_INTEGER
  SAMPLE_BITS = 8
  BANDS = 1
  BAND_STORAGE_TYPE = BAND_SEQUENTIAL
  MAXIMUM = 255
  MEAN = 44.4208
  MINIMUM = 1
  STANDARD_DEVIATION = 46.8613
END_OBJECT = IMAGE
/* MAP OBJECT DEFINITIONS */
OBJECT = IMAGE_MAP_PROJECTION
  ^DATA_SET_MAP_PROJECTION_CATALOG= "DSMAP.CAT"
  A_AXIS_RADIUS = 3396.0
  B_AXIS_RADIUS = 3396.0
  C_AXIS_RADIUS = 3396.0
  CENTER_LATITUDE = -90.0
  CENTER_LONGITUDE = 0.0
  COORDINATE_SYSTEM_NAME = PLANETOGRAPHIC
  COORDINATE_SYSTEM_TYPE = "BODY-FIXED ROTATING"
  EASTERNMOST_LONGITUDE = 172.81
  FIRST_STANDARD_PARALLEL = "N/A"
  LINE_FIRST_PIXEL = 1
  LINE_LAST_PIXEL = 5379
  LINE_PROJECTION_OFFSET = 570.1875
  MAP_PROJECTION_ROTATION = 0.0
  MAP_PROJECTION_TYPE = STEREOGRAPHIC
  MAP_RESOLUTION = 592.713803866667
  MAP_SCALE = 0.1
  MAXIMUM_LATITUDE = -81.5962
  MINIMUM_LATITUDE = -88.12
  POSITIVE_LONGITUDE_DIRECTION = EAST
  REFERENCE_LATITUDE = "N/A"
  REFERENCE_LONGITUDE = "N/A"
  SAMPLE_FIRST_PIXEL = 1
  SAMPLE_LAST_PIXEL = 1494
  SAMPLE_PROJECTION_OFFSET = -592.8125
  SECOND_STANDARD_PARALLEL = "N/A"
  WESTERNMOST_LONGITUDE = 64.7565
END_OBJECT = IMAGE_MAP_PROJECTION
END
