PDS_VERSION_ID = PDS3
/* FILE DATA ELEMENTS */
RECORD_TYPE = UNDEFINED
/* POINTERS TO DATA OBJECTS */
^IMAGE = ("H4443_0000_IR4.TIF")
/* IDENTIFICATION DATA ELEMENTS */
DATA_SET_ID = "MEX-M-HRSC-4-REFDR-MAPPROJECT-EXT1-V4.0"
DATA_SET_NAME = "MARS EXPRESS HRSC MAP PROJECTED REFDR EXTENSION1 V4.0"
DETECTOR_ID = MEX_HRSC_IR
EVENT_TYPE = "MARS-REGIONAL-MAPPING-Gl-Pf-La"
INSTRUMENT_HOST_ID = MEX
INSTRUMENT_HOST_NAME = "MARS EXPRESS"
INSTRUMENT_ID = HRSC
INSTRUMENT_NAME = "HIGH RESOLUTION STEREO CAMERA"
MISSION_NAME = "MARS EXPRESS"
MISSION_PHASE_NAME = ME_Phase_8
PROCESSING_LEVEL_ID = 4
PRODUCT_CREATION_TIME = 2023-02-10T03:49:22.000Z
PRODUCT_ID = "H4443_0000_IR4.TIF"
RELEASE_ID = 0006
REVISION_ID = 0000
/* QUALITY DATA ELEMENTS */
DATA_QUALITY_ID = 1
DATA_QUALITY_DESC = "Data calculated based on original SPICE kernels"
/* TIME DATA ELEMENTS */
SPACECRAFT_CLOCK_START_COUNT = "1/0130444555.08426"
SPACECRAFT_CLOCK_STOP_COUNT = "1/0130444857.42050"
START_TIME = 2007-06-20T18:36:47.988Z
STOP_TIME = 2007-06-20T18:40:54.735Z
/* ORBITAL DATA ELEMENTS */
ASCENDING_NODE_LONGITUDE = 135.32
MAXIMUM_RESOLUTION = 0.0483
FOOTPRINT_POINT_LATITUDE = (-69.6243,-69.5521,-69.4884,-69.487, -69.5504,-69.0646,-68.7478,-68.271, -67.9488,-67.6308,-67.3136,-66.9953, -66.6776,-66.2028,-65.8818,-65.5658, -65.2493,-64.9321,-64.6144,-64.1383, -63.8208,-63.3459,-63.0288,-62.7111, -62.3935,-61.9187,-61.6011,-61.1276, -60.8117,-60.4964,-60.1812,-59.8563, -59.5271,-59.2008,-58.7122,-58.2238, -57.736,-57.251,-56.9238,-56.6003, -56.2773,-55.7761,-55.4416,-55.1122, -54.7794,-54.4465,-54.1105,-53.6077, -53.4354,-53.421,-53.4596,-53.4855, -53.486,-53.487,-53.8298,-54.1619, -54.4965,-54.8309,-55.1648,-55.4996, -56.0016,-56.5064,-56.8242,-57.1509, -57.6393,-57.9651,-58.2915,-58.6181, -58.9448,-59.2719,-59.5986,-59.9266, -60.4138,-60.7303,-61.047,-61.3639, -61.6825,-62.1598,-62.4778,-62.7966, -63.1151,-63.4341,-63.9121,-64.2304, -64.5492,-64.8685,-65.3474,-65.827, -66.3057,-66.6241,-66.9446,-67.2654, -67.5859,-68.0649,-68.5441,-68.8651, -69.1843,-69.5135,-69.68,-69.6243)
FOOTPRINT_POINT_LONGITUDE = (211.893,210.344,209.165,209.139, 209.028,209.256,209.402,209.613,209.754 ,209.885,210.01,210.132,210.25,210.417, 210.53,210.634,210.734,210.833,210.929, 211.068,211.157,211.285,211.368,211.449 ,211.528,211.64,211.714,211.818,211.885 ,211.95,212.013,212.075,212.139,212.199 ,212.286,212.369,212.448,212.523, 212.574,212.621,212.667,212.735,212.779 ,212.818,212.859,212.899,212.941, 212.998,213.017,213.019,214.054,214.851 ,214.868,214.874,214.841,214.808, 214.776,214.743,214.709,214.674,214.619 ,214.567,214.525,214.488,214.43,214.389 ,214.348,214.306,214.262,214.217, 214.171,214.124,214.053,214.005,213.955 ,213.905,213.854,213.774,213.719, 213.663,213.604,213.545,213.452,213.388 ,213.322,213.254,213.148,213.039, 212.923,212.843,212.761,212.677,212.59, 212.454,212.311,212.212,212.109,212.002 ,211.946,211.893)
ORBIT_NUMBER = 4443
ORBITAL_ECCENTRICITY = 0.57
ORBITAL_INCLINATION = 86.7
ORBITAL_SEMIMAJOR_AXIS = 8546.0
PERIAPSIS_ALTITUDE = 291.67
PERIAPSIS_ARGUMENT_ANGLE = 295.68
PERIAPSIS_TIME = 2007-06-20T18:37:51.000Z
SPACECRAFT_ORIENTATION = (0.0,1.0,0.0)
^MEX_ORIENTATION_DESC = "MEX_ORIENTATION_DESC.TXT"
SPACECRAFT_POINTING_MODE = NADIR
^MEX_POINTING_DESC = "MEX_POINTING_DESC.TXT"
RIGHT_ASCENSION = -1e+32
DECLINATION = -1e+32
OFFSET_ANGLE = -1e+32
SPACECRAFT_SOLAR_DISTANCE = 2.06951e+08
TARGET_NAME = MARS
/* CAMERA DATA ELEMENTS */
DETECTOR_TEMPERATURE = 17.9627
FOCAL_PLANE_TEMPERATURE = 9.195
INST_CMPRS_NAME = "DISCRETE COSINE TRANSFORMATION (DCT)"
INST_CMPRS_RATIO = 11.2977
INST_CMPRS_QUALITY = 0
INST_CMPRS_QUANTZ_TBL_ID = 0
INSTRUMENT_TEMPERATURE = 11.4379
LENS_TEMPERATURE = 9.3989
MACROPIXEL_SIZE = 4
MISSING_FRAMES = 0
PIXEL_SUBSAMPLING_FLAG = N
SIGNAL_CHAIN_ID = 2
/* RADIOMETRIC DATA ELEMENTS */
BANDWIDTH = 81.0
CENTER_FILTER_WAVELENGTH = 955.5
RADIANCE_OFFSET = 1.31975
RADIANCE_SCALING_FACTOR = 0.00522777
REFLECTANCE_SCALING_FACTOR = 0.000483035
MEX:REFLECTANCE_OFFSET = 0.121942
/* IMAGE OBJECT DEFINITIONS */
OBJECT = IMAGE
  INTERCHANGE_FORMAT = BINARY
  LINES = 19310
  LINE_SAMPLES = 2963
  SAMPLE_TYPE = UNSIGNED_INTEGER
  SAMPLE_BITS = 8
  BANDS = 1
  BAND_STORAGE_TYPE = BAND_SEQUENTIAL
  MAXIMUM = 255
  MEAN = 137.128
  MINIMUM = 1
  STANDARD_DEVIATION = 26.4081
END_OBJECT = IMAGE
/* MAP OBJECT DEFINITIONS */
OBJECT = IMAGE_MAP_PROJECTION
  ^DATA_SET_MAP_PROJECTION_CATALOG= "DSMAP.CAT"
  A_AXIS_RADIUS = 3396.0
  B_AXIS_RADIUS = 3396.0
  C_AXIS_RADIUS = 3396.0
  CENTER_LATITUDE = 0.0
  CENTER_LONGITUDE = 213.0
  COORDINATE_SYSTEM_NAME = PLANETOGRAPHIC
  COORDINATE_SYSTEM_TYPE = "BODY-FIXED ROTATING"
  EASTERNMOST_LONGITUDE = 214.874
  FIRST_STANDARD_PARALLEL = "N/A"
  LINE_FIRST_PIXEL = 1
  LINE_LAST_PIXEL = 19310
  LINE_PROJECTION_OFFSET = -63345.375
  MAP_PROJECTION_ROTATION = 0.0
  MAP_PROJECTION_TYPE = SINUSOIDAL
  MAP_RESOLUTION = 1185.42760773333
  MAP_SCALE = 0.05
  MAXIMUM_LATITUDE = -53.421
  MINIMUM_LATITUDE = -69.68000000000001
  POSITIVE_LONGITUDE_DIRECTION = EAST
  REFERENCE_LATITUDE = "N/A"
  REFERENCE_LONGITUDE = "N/A"
  SAMPLE_FIRST_PIXEL = 1
  SAMPLE_LAST_PIXEL = 2963
  SAMPLE_PROJECTION_OFFSET = 1659.625
  SECOND_STANDARD_PARALLEL = "N/A"
  WESTERNMOST_LONGITUDE = 209.028
END_OBJECT = IMAGE_MAP_PROJECTION
END
