PDS_VERSION_ID = PDS3
/* FILE DATA ELEMENTS */
RECORD_TYPE = UNDEFINED
/* POINTERS TO DATA OBJECTS */
^IMAGE = ("H4442_0000_BL4.TIF")
/* IDENTIFICATION DATA ELEMENTS */
DATA_SET_ID = "MEX-M-HRSC-4-REFDR-MAPPROJECT-EXT1-V4.0"
DATA_SET_NAME = "MARS EXPRESS HRSC MAP PROJECTED REFDR EXTENSION1 V4.0"
DETECTOR_ID = MEX_HRSC_BLUE
EVENT_TYPE = "MARS-REGIONAL-MAPPING-Gl-Pf-La"
INSTRUMENT_HOST_ID = MEX
INSTRUMENT_HOST_NAME = "MARS EXPRESS"
INSTRUMENT_ID = HRSC
INSTRUMENT_NAME = "HIGH RESOLUTION STEREO CAMERA"
MISSION_NAME = "MARS EXPRESS"
MISSION_PHASE_NAME = ME_Phase_8
PROCESSING_LEVEL_ID = 4
PRODUCT_CREATION_TIME = 2023-02-10T03:49:22.000Z
PRODUCT_ID = "H4442_0000_BL4.TIF"
RELEASE_ID = 0006
REVISION_ID = 0000
/* QUALITY DATA ELEMENTS */
DATA_QUALITY_ID = 1
DATA_QUALITY_DESC = "Data calculated based on original SPICE kernels"
/* TIME DATA ELEMENTS */
SPACECRAFT_CLOCK_START_COUNT = "1/0130420131.08418"
SPACECRAFT_CLOCK_STOP_COUNT = "1/0130420410.07204"
START_TIME = 2007-06-20T11:49:26.854Z
STOP_TIME = 2007-06-20T11:53:01.463Z
/* ORBITAL DATA ELEMENTS */
ASCENDING_NODE_LONGITUDE = 135.34
MAXIMUM_RESOLUTION = 0.0481
FOOTPRINT_POINT_LATITUDE = (-83.736,-83.5555,-83.3576,-83.0733, -83.0662,-83.0251,-82.7623,-82.4939, -82.2203,-81.9407,-81.6577,-81.3731, -80.9804,-80.7336,-80.487,-80.2365, -79.857,-79.4749,-79.2187,-78.9593, -78.6981,-78.4377,-78.1754,-77.9124, -77.6474,-77.3816,-77.1174,-76.8582, -76.5968,-76.337,-76.0754,-75.8127, -75.4198,-75.1645,-74.9087,-74.6521, -74.3951,-74.1375,-73.8793,-73.6207, -73.3642,-72.8625,-72.3591,-71.8544, -71.6014,-71.3483,-71.0948,-70.5951, -70.2268,-70.1039,-70.1024,-70.1746, -70.2725,-70.2739,-70.2751,-70.7725, -71.1496,-71.5352,-71.7922,-72.0493, -72.306,-72.8177,-73.0734,-73.584, -73.8452,-74.1088,-74.3721,-74.635, -74.8977,-75.1599,-75.4217,-75.6832, -76.0859,-76.3551,-76.6241,-76.8925, -77.1607,-77.4282,-77.7007,-77.976, -78.2503,-78.5244,-78.7975,-79.0694, -79.3409,-79.6114,-79.8815,-80.1504, -80.4194,-80.6863,-81.0848,-81.4809, -81.9017,-82.2126,-82.5206,-82.9783, -83.2803,-83.5788,-83.7267,-83.736)
FOOTPRINT_POINT_LONGITUDE = (291.459,288.468,285.636,282.156, 282.077,281.895,283.466,284.926,286.285 ,287.545,288.724,289.837,291.201, 291.996,292.761,293.478,294.484,295.424 ,296.015,296.57,297.097,297.61,298.097, 298.564,299.008,299.433,299.834,300.212 ,300.569,300.923,301.259,301.58,302.039 ,302.323,302.598,302.863,303.119, 303.366,303.605,303.836,304.057,304.469 ,304.856,305.221,305.395,305.565,305.73 ,306.036,306.253,306.324,306.325, 307.491,309.343,309.371,309.38,309.182, 309.024,308.856,308.739,308.618,308.494 ,308.238,308.103,307.82,307.668,307.51, 307.346,307.176,307.0,306.818,306.63, 306.435,306.118,305.897,305.666,305.425 ,305.173,304.91,304.632,304.337,304.03, 303.704,303.365,303.015,302.642,302.253 ,301.839,301.405,300.936,300.454, 299.674,298.82,297.811,296.986,296.105, 294.635,293.537,292.345,291.707, 291.459)
ORBIT_NUMBER = 4442
ORBITAL_ECCENTRICITY = 0.57
ORBITAL_INCLINATION = 86.69
ORBITAL_SEMIMAJOR_AXIS = 8546.06
PERIAPSIS_ALTITUDE = 292.33
PERIAPSIS_ARGUMENT_ANGLE = 295.87
PERIAPSIS_TIME = 2007-06-20T11:54:42.000Z
SPACECRAFT_ORIENTATION = (0.0,1.0,0.0)
^MEX_ORIENTATION_DESC = "MEX_ORIENTATION_DESC.TXT"
SPACECRAFT_POINTING_MODE = ACROSSTRACK
^MEX_POINTING_DESC = "MEX_POINTING_DESC.TXT"
RIGHT_ASCENSION = -1e+32
DECLINATION = -1e+32
OFFSET_ANGLE = 0.2
SPACECRAFT_SOLAR_DISTANCE = 2.06942e+08
TARGET_NAME = MARS
/* CAMERA DATA ELEMENTS */
DETECTOR_TEMPERATURE = 19.39
FOCAL_PLANE_TEMPERATURE = 8.5833
INST_CMPRS_NAME = "DISCRETE COSINE TRANSFORMATION (DCT)"
INST_CMPRS_RATIO = 9.07504
INST_CMPRS_QUALITY = 0
INST_CMPRS_QUANTZ_TBL_ID = 0
INSTRUMENT_TEMPERATURE = 11.4379
LENS_TEMPERATURE = 8.9911
MACROPIXEL_SIZE = 4
MISSING_FRAMES = 0
PIXEL_SUBSAMPLING_FLAG = N
SIGNAL_CHAIN_ID = 2
/* RADIOMETRIC DATA ELEMENTS */
BANDWIDTH = 76.0
CENTER_FILTER_WAVELENGTH = 444.0
RADIANCE_OFFSET = 0.909878
RADIANCE_SCALING_FACTOR = 0.00574577
REFLECTANCE_SCALING_FACTOR = 0.000252813
MEX:REFLECTANCE_OFFSET = 0.0400345
/* IMAGE OBJECT DEFINITIONS */
OBJECT = IMAGE
  INTERCHANGE_FORMAT = BINARY
  LINES = 16137
  LINE_SAMPLES = 5591
  SAMPLE_TYPE = UNSIGNED_INTEGER
  SAMPLE_BITS = 8
  BANDS = 1
  BAND_STORAGE_TYPE = BAND_SEQUENTIAL
  MAXIMUM = 255
  MEAN = 140.668
  MINIMUM = 1
  STANDARD_DEVIATION = 95.9923
END_OBJECT = IMAGE
/* MAP OBJECT DEFINITIONS */
OBJECT = IMAGE_MAP_PROJECTION
  ^DATA_SET_MAP_PROJECTION_CATALOG= "DSMAP.CAT"
  A_AXIS_RADIUS = 3396.0
  B_AXIS_RADIUS = 3396.0
  C_AXIS_RADIUS = 3396.0
  CENTER_LATITUDE = 0.0
  CENTER_LONGITUDE = 303.0
  COORDINATE_SYSTEM_NAME = PLANETOGRAPHIC
  COORDINATE_SYSTEM_TYPE = "BODY-FIXED ROTATING"
  EASTERNMOST_LONGITUDE = 309.38
  FIRST_STANDARD_PARALLEL = "N/A"
  LINE_FIRST_PIXEL = 1
  LINE_LAST_PIXEL = 16137
  LINE_PROJECTION_OFFSET = -83101.125
  MAP_PROJECTION_ROTATION = 0.0
  MAP_PROJECTION_TYPE = SINUSOIDAL
  MAP_RESOLUTION = 1185.42760773333
  MAP_SCALE = 0.05
  MAXIMUM_LATITUDE = -70.1024
  MINIMUM_LATITUDE = -83.736
  POSITIVE_LONGITUDE_DIRECTION = EAST
  REFERENCE_LATITUDE = "N/A"
  REFERENCE_LONGITUDE = "N/A"
  SAMPLE_FIRST_PIXEL = 1
  SAMPLE_LAST_PIXEL = 5591
  SAMPLE_PROJECTION_OFFSET = 3038.125
  SECOND_STANDARD_PARALLEL = "N/A"
  WESTERNMOST_LONGITUDE = 281.895
END_OBJECT = IMAGE_MAP_PROJECTION
END
