PDS_VERSION_ID = PDS3
/* FILE DATA ELEMENTS */
RECORD_TYPE = UNDEFINED
/* POINTERS TO DATA OBJECTS */
^IMAGE = ("H4438_0000_BL4.TIF")
/* IDENTIFICATION DATA ELEMENTS */
DATA_SET_ID = "MEX-M-HRSC-4-REFDR-MAPPROJECT-EXT1-V4.0"
DATA_SET_NAME = "MARS EXPRESS HRSC MAP PROJECTED REFDR EXTENSION1 V4.0"
DETECTOR_ID = MEX_HRSC_BLUE
EVENT_TYPE = "MARS-REGIONAL-MAPPING-Im-Gl-Pf"
INSTRUMENT_HOST_ID = MEX
INSTRUMENT_HOST_NAME = "MARS EXPRESS"
INSTRUMENT_ID = HRSC
INSTRUMENT_NAME = "HIGH RESOLUTION STEREO CAMERA"
MISSION_NAME = "MARS EXPRESS"
MISSION_PHASE_NAME = ME_Phase_8
PROCESSING_LEVEL_ID = 4
PRODUCT_CREATION_TIME = 2023-02-10T03:49:22.000Z
PRODUCT_ID = "H4438_0000_BL4.TIF"
RELEASE_ID = 0006
REVISION_ID = 0000
/* QUALITY DATA ELEMENTS */
DATA_QUALITY_ID = 1
DATA_QUALITY_DESC = "Data calculated based on original SPICE kernels"
/* TIME DATA ELEMENTS */
SPACECRAFT_CLOCK_START_COUNT = "1/0130323440.08268"
SPACECRAFT_CLOCK_STOP_COUNT = "1/0130323671.57883"
START_TIME = 2007-06-19T08:57:51.738Z
STOP_TIME = 2007-06-19T09:00:43.521Z
/* ORBITAL DATA ELEMENTS */
ASCENDING_NODE_LONGITUDE = 135.42
MAXIMUM_RESOLUTION = 0.0941
FOOTPRINT_POINT_LATITUDE = (-78.6405,-78.546,-78.424,-78.332, -78.3286,-78.2976,-78.0734,-77.8483, -77.6226,-77.3959,-77.1689,-76.941, -76.713,-76.4915,-76.2693,-76.0466, -75.8232,-75.5994,-75.3753,-75.1505, -74.9273,-74.7092,-74.4907,-74.2718, -74.0525,-73.723,-73.503,-73.1719, -72.9509,-72.7374,-72.5238,-72.2031, -71.9885,-71.6662,-71.3435,-71.1281, -70.9124,-70.6961,-70.4799,-70.1616, -69.6386,-69.22,-68.6951,-68.3801, -67.9594,-67.7488,-67.5379,-67.4324, -67.3871,-67.4305,-67.4594,-67.4895, -67.5152,-67.5162,-67.5184,-67.7313, -67.9437,-68.1561,-68.4747,-68.7929, -69.1106,-69.5336,-69.7458,-70.1689, -70.486,-70.7036,-70.9227,-71.2513, -71.4696,-71.6878,-71.9058,-72.1236, -72.4501,-72.6675,-72.8848,-73.1018, -73.3247,-73.5491,-73.7733,-73.9972, -74.3327,-74.5561,-74.7791,-75.1135, -75.3401,-75.5701,-75.7997,-76.0289, -76.2579,-76.4865,-76.7148,-76.9428, -77.2936,-77.5282,-77.7624,-77.9963, -78.2298,-78.4627,-78.5791,-78.6405)
FOOTPRINT_POINT_LONGITUDE = (337.709,335.834,333.738,332.331, 332.282,332.152,332.535,332.902,333.257 ,333.598,333.927,334.245,334.551, 334.838,335.115,335.383,335.641,335.892 ,336.135,336.37,336.596,336.809,337.016 ,337.218,337.413,337.696,337.878, 338.141,338.31,338.47,338.626,338.854, 339.0,339.211,339.416,339.548,339.676, 339.801,339.923,340.096,340.369,340.578 ,340.824,340.967,341.15,341.238,341.324 ,341.366,341.384,342.168,342.735, 343.379,343.974,343.999,344.015,343.956 ,343.899,343.839,343.747,343.653, 343.557,343.425,343.352,343.207,343.093 ,343.016,342.932,342.8,342.713,342.625, 342.533,342.44,342.295,342.195,342.093, 341.988,341.877,341.762,341.644,341.523 ,341.334,341.203,341.071,340.86,340.712 ,340.556,340.397,340.233,340.062, 339.886,339.705,339.517,339.214,339.002 ,338.781,338.551,338.311,338.063, 337.935,337.709)
ORBIT_NUMBER = 4438
ORBITAL_ECCENTRICITY = 0.57
ORBITAL_INCLINATION = 86.7
ORBITAL_SEMIMAJOR_AXIS = 8547.45
PERIAPSIS_ALTITUDE = 292.15
PERIAPSIS_ARGUMENT_ANGLE = 296.54
PERIAPSIS_TIME = 2007-06-19T09:01:52.000Z
SPACECRAFT_ORIENTATION = (0.0,1.0,0.0)
^MEX_ORIENTATION_DESC = "MEX_ORIENTATION_DESC.TXT"
SPACECRAFT_POINTING_MODE = NADIR
^MEX_POINTING_DESC = "MEX_POINTING_DESC.TXT"
RIGHT_ASCENSION = -1e+32
DECLINATION = -1e+32
OFFSET_ANGLE = -1e+32
SPACECRAFT_SOLAR_DISTANCE = 2.06904e+08
TARGET_NAME = MARS
/* CAMERA DATA ELEMENTS */
DETECTOR_TEMPERATURE = 18.3705
FOCAL_PLANE_TEMPERATURE = 8.5833
INST_CMPRS_NAME = "DISCRETE COSINE TRANSFORMATION (DCT)"
INST_CMPRS_RATIO = 10.8212
INST_CMPRS_QUALITY = 0
INST_CMPRS_QUANTZ_TBL_ID = 0
INSTRUMENT_TEMPERATURE = 11.4379
LENS_TEMPERATURE = 8.9911
MACROPIXEL_SIZE = 8
MISSING_FRAMES = 0
PIXEL_SUBSAMPLING_FLAG = N
SIGNAL_CHAIN_ID = 2
/* RADIOMETRIC DATA ELEMENTS */
BANDWIDTH = 76.0
CENTER_FILTER_WAVELENGTH = 444.0
RADIANCE_OFFSET = 0.882427
RADIANCE_SCALING_FACTOR = 0.0118189
REFLECTANCE_SCALING_FACTOR = 0.000519843
MEX:REFLECTANCE_OFFSET = 0.0388126
/* IMAGE OBJECT DEFINITIONS */
OBJECT = IMAGE
  INTERCHANGE_FORMAT = BINARY
  LINES = 6668
  LINE_SAMPLES = 1861
  SAMPLE_TYPE = UNSIGNED_INTEGER
  SAMPLE_BITS = 8
  BANDS = 1
  BAND_STORAGE_TYPE = BAND_SEQUENTIAL
  MAXIMUM = 255
  MEAN = 150.539
  MINIMUM = 1
  STANDARD_DEVIATION = 105.034
END_OBJECT = IMAGE
/* MAP OBJECT DEFINITIONS */
OBJECT = IMAGE_MAP_PROJECTION
  ^DATA_SET_MAP_PROJECTION_CATALOG= "DSMAP.CAT"
  A_AXIS_RADIUS = 3396.0
  B_AXIS_RADIUS = 3396.0
  C_AXIS_RADIUS = 3396.0
  CENTER_LATITUDE = 0.0
  CENTER_LONGITUDE = 340.0
  COORDINATE_SYSTEM_NAME = PLANETOGRAPHIC
  COORDINATE_SYSTEM_TYPE = "BODY-FIXED ROTATING"
  EASTERNMOST_LONGITUDE = 344.015
  FIRST_STANDARD_PARALLEL = "N/A"
  LINE_FIRST_PIXEL = 1
  LINE_LAST_PIXEL = 6668
  LINE_PROJECTION_OFFSET = -39938.0625
  MAP_PROJECTION_ROTATION = 0.0
  MAP_PROJECTION_TYPE = SINUSOIDAL
  MAP_RESOLUTION = 592.713803866667
  MAP_SCALE = 0.1
  MAXIMUM_LATITUDE = -67.3871
  MINIMUM_LATITUDE = -78.6405
  POSITIVE_LONGITUDE_DIRECTION = EAST
  REFERENCE_LATITUDE = "N/A"
  REFERENCE_LONGITUDE = "N/A"
  SAMPLE_FIRST_PIXEL = 1
  SAMPLE_LAST_PIXEL = 1861
  SAMPLE_PROJECTION_OFFSET = 949.6875
  SECOND_STANDARD_PARALLEL = "N/A"
  WESTERNMOST_LONGITUDE = 332.152
END_OBJECT = IMAGE_MAP_PROJECTION
END
