PDS_VERSION_ID = PDS3
/* FILE DATA ELEMENTS */
RECORD_TYPE = UNDEFINED
/* POINTERS TO DATA OBJECTS */
^IMAGE = ("H4432_0000_IR4.TIF")
/* IDENTIFICATION DATA ELEMENTS */
DATA_SET_ID = "MEX-M-HRSC-4-REFDR-MAPPROJECT-EXT1-V4.0"
DATA_SET_NAME = "MARS EXPRESS HRSC MAP PROJECTED REFDR EXTENSION1 V4.0"
DETECTOR_ID = MEX_HRSC_IR
EVENT_TYPE = "MARS-REGIONAL-MAPPING-Im-Gl-La"
INSTRUMENT_HOST_ID = MEX
INSTRUMENT_HOST_NAME = "MARS EXPRESS"
INSTRUMENT_ID = HRSC
INSTRUMENT_NAME = "HIGH RESOLUTION STEREO CAMERA"
MISSION_NAME = "MARS EXPRESS"
MISSION_PHASE_NAME = ME_Phase_8
PROCESSING_LEVEL_ID = 4
PRODUCT_CREATION_TIME = 2023-02-10T03:49:22.000Z
PRODUCT_ID = "H4432_0000_IR4.TIF"
RELEASE_ID = 0006
REVISION_ID = 0000
/* QUALITY DATA ELEMENTS */
DATA_QUALITY_ID = 1
DATA_QUALITY_DESC = "Data calculated based on original SPICE kernels"
/* TIME DATA ELEMENTS */
SPACECRAFT_CLOCK_START_COUNT = "1/0130178326.09057"
SPACECRAFT_CLOCK_STOP_COUNT = "1/0130178531.40640"
START_TIME = 2007-06-17T16:39:45.778Z
STOP_TIME = 2007-06-17T16:42:09.199Z
/* ORBITAL DATA ELEMENTS */
ASCENDING_NODE_LONGITUDE = 135.54
MAXIMUM_RESOLUTION = 0.0486
FOOTPRINT_POINT_LATITUDE = (-74.75,-74.692,-74.6267,-74.5292, -74.5267,-74.5836,-74.3905,-74.1034, -73.813,-73.6196,-73.3314,-73.0468, -72.8565,-72.6638,-72.4668,-72.1872, -71.9067,-71.7193,-71.5302,-71.3423, -71.0589,-70.777,-70.5889,-70.4012, -70.2129,-70.0241,-69.8355,-69.6468, -69.4592,-69.277,-69.0038,-68.8246, -68.6427,-68.4576,-68.2783,-68.0966, -67.8222,-67.6369,-67.4546,-67.2724, -67.0893,-66.9067,-66.7236,-66.5409, -66.3577,-66.0828,-65.8995,-65.6252, -65.3521,-65.2607,-65.2532,-65.2735, -65.2927,-65.3184,-65.3468,-65.3474, -65.3484,-65.6253,-65.8096,-65.9941, -66.1784,-66.4547,-66.7318,-66.9166, -67.1018,-67.2867,-67.5633,-67.7477, -68.0243,-68.3005,-68.4847,-68.6747, -68.8618,-69.0458,-69.4078,-69.592, -69.8785,-70.0695,-70.3551,-70.5457, -70.7373,-70.928,-71.1194,-71.4063, -71.5984,-71.8862,-72.1743,-72.4589, -72.6501,-72.9451,-73.1421,-73.4374, -73.6343,-73.8309,-74.1251,-74.3214, -74.5172,-74.7145,-74.8121,-74.75)
FOOTPRINT_POINT_LONGITUDE = (207.305,206.124,204.923,203.318, 203.279,202.873,203.114,203.444,203.779 ,203.992,204.286,204.546,204.717, 204.895,205.099,205.343,205.582,205.738 ,205.899,206.049,206.275,206.484, 206.621,206.751,206.882,207.011,207.137 ,207.26,207.378,207.492,207.658,207.753 ,207.857,207.973,208.062,208.159, 208.309,208.415,208.507,208.598,208.689 ,208.778,208.866,208.951,209.037, 209.162,209.244,209.361,209.472,209.509 ,209.512,209.974,210.455,211.138, 212.011,212.034,212.041,211.955,211.897 ,211.838,211.778,211.686,211.591, 211.527,211.461,211.394,211.292,211.222 ,211.116,211.007,210.933,210.85,210.769 ,210.69,210.537,210.453,210.32,210.229, 210.091,209.995,209.897,209.798,209.695 ,209.537,209.428,209.259,209.085, 208.909,208.787,208.592,208.458,208.252 ,208.11,207.965,207.74,207.586,207.427, 207.262,207.179,207.305)
ORBIT_NUMBER = 4432
ORBITAL_ECCENTRICITY = 0.57
ORBITAL_INCLINATION = 86.7
ORBITAL_SEMIMAJOR_AXIS = 8548.48
PERIAPSIS_ALTITUDE = 291.55
PERIAPSIS_ARGUMENT_ANGLE = 297.59
PERIAPSIS_TIME = 2007-06-17T16:42:37.000Z
SPACECRAFT_ORIENTATION = (0.0,1.0,0.0)
^MEX_ORIENTATION_DESC = "MEX_ORIENTATION_DESC.TXT"
SPACECRAFT_POINTING_MODE = ACROSSTRACK
^MEX_POINTING_DESC = "MEX_POINTING_DESC.TXT"
RIGHT_ASCENSION = -1e+32
DECLINATION = -1e+32
OFFSET_ANGLE = 0.87
SPACECRAFT_SOLAR_DISTANCE = 2.06854e+08
TARGET_NAME = MARS
/* CAMERA DATA ELEMENTS */
DETECTOR_TEMPERATURE = 17.5549
FOCAL_PLANE_TEMPERATURE = 8.7872
INST_CMPRS_NAME = "DISCRETE COSINE TRANSFORMATION (DCT)"
INST_CMPRS_RATIO = 11.8669
INST_CMPRS_QUALITY = 0
INST_CMPRS_QUANTZ_TBL_ID = 0
INSTRUMENT_TEMPERATURE = 11.6418
LENS_TEMPERATURE = 9.3989
MACROPIXEL_SIZE = 4
MISSING_FRAMES = 0
PIXEL_SUBSAMPLING_FLAG = N
SIGNAL_CHAIN_ID = 2
/* RADIOMETRIC DATA ELEMENTS */
BANDWIDTH = 81.0
CENTER_FILTER_WAVELENGTH = 955.5
RADIANCE_OFFSET = 1.34641
RADIANCE_SCALING_FACTOR = 0.00663926
REFLECTANCE_SCALING_FACTOR = 0.000612877
MEX:REFLECTANCE_OFFSET = 0.124289
/* IMAGE OBJECT DEFINITIONS */
OBJECT = IMAGE
  INTERCHANGE_FORMAT = BINARY
  LINES = 11439
  LINE_SAMPLES = 3443
  SAMPLE_TYPE = UNSIGNED_INTEGER
  SAMPLE_BITS = 8
  BANDS = 1
  BAND_STORAGE_TYPE = BAND_SEQUENTIAL
  MAXIMUM = 255
  MEAN = 98.1545
  MINIMUM = 1
  STANDARD_DEVIATION = 23.3708
END_OBJECT = IMAGE
/* MAP OBJECT DEFINITIONS */
OBJECT = IMAGE_MAP_PROJECTION
  ^DATA_SET_MAP_PROJECTION_CATALOG= "DSMAP.CAT"
  A_AXIS_RADIUS = 3396.0
  B_AXIS_RADIUS = 3396.0
  C_AXIS_RADIUS = 3396.0
  CENTER_LATITUDE = 0.0
  CENTER_LONGITUDE = 209.0
  COORDINATE_SYSTEM_NAME = PLANETOGRAPHIC
  COORDINATE_SYSTEM_TYPE = "BODY-FIXED ROTATING"
  EASTERNMOST_LONGITUDE = 212.041
  FIRST_STANDARD_PARALLEL = "N/A"
  LINE_FIRST_PIXEL = 1
  LINE_LAST_PIXEL = 11439
  LINE_PROJECTION_OFFSET = -77324.625
  MAP_PROJECTION_ROTATION = 0.0
  MAP_PROJECTION_TYPE = SINUSOIDAL
  MAP_RESOLUTION = 1185.42760773333
  MAP_SCALE = 0.05
  MAXIMUM_LATITUDE = -65.25320000000001
  MINIMUM_LATITUDE = -74.8121
  POSITIVE_LONGITUDE_DIRECTION = EAST
  REFERENCE_LATITUDE = "N/A"
  REFERENCE_LONGITUDE = "N/A"
  SAMPLE_FIRST_PIXEL = 1
  SAMPLE_LAST_PIXEL = 3443
  SAMPLE_PROJECTION_OFFSET = 1943.125
  SECOND_STANDARD_PARALLEL = "N/A"
  WESTERNMOST_LONGITUDE = 202.873
END_OBJECT = IMAGE_MAP_PROJECTION
END
