PDS_VERSION_ID = PDS3
/* FILE DATA ELEMENTS */
RECORD_TYPE = UNDEFINED
/* POINTERS TO DATA OBJECTS */
^IMAGE = ("H4431_0000_P24.TIF")
/* IDENTIFICATION DATA ELEMENTS */
DATA_SET_ID = "MEX-M-HRSC-4-REFDR-MAPPROJECT-EXT1-V4.0"
DATA_SET_NAME = "MARS EXPRESS HRSC MAP PROJECTED REFDR EXTENSION1 V4.0"
DETECTOR_ID = MEX_HRSC_P2
EVENT_TYPE = "MARS-REGIONAL-MAPPING-Im-Fl-Gl"
INSTRUMENT_HOST_ID = MEX
INSTRUMENT_HOST_NAME = "MARS EXPRESS"
INSTRUMENT_ID = HRSC
INSTRUMENT_NAME = "HIGH RESOLUTION STEREO CAMERA"
MISSION_NAME = "MARS EXPRESS"
MISSION_PHASE_NAME = ME_Phase_8
PROCESSING_LEVEL_ID = 4
PRODUCT_CREATION_TIME = 2023-02-10T03:49:22.000Z
PRODUCT_ID = "H4431_0000_P24.TIF"
RELEASE_ID = 0006
REVISION_ID = 0000
/* QUALITY DATA ELEMENTS */
DATA_QUALITY_ID = 1
DATA_QUALITY_DESC = "Data calculated based on original SPICE kernels"
/* TIME DATA ELEMENTS */
SPACECRAFT_CLOCK_START_COUNT = "1/0130154198.09052"
SPACECRAFT_CLOCK_STOP_COUNT = "1/0130154500.01398"
START_TIME = 2007-06-17T09:56:52.339Z
STOP_TIME = 2007-06-17T10:00:57.751Z
/* ORBITAL DATA ELEMENTS */
ASCENDING_NODE_LONGITUDE = 135.56
MAXIMUM_RESOLUTION = 0.0477
FOOTPRINT_POINT_LATITUDE = (-71.1107,-70.9865,-70.8914,-70.889, -70.8104,-70.477,-70.1468,-69.8231, -69.4991,-69.0119,-68.6862,-68.3599, -68.0329,-67.706,-67.3827,-67.0666, -66.749,-66.4318,-65.9542,-65.4752, -65.1555,-64.8345,-64.3523,-64.0307, -63.7081,-63.3846,-63.0625,-62.5886, -62.1217,-61.8104,-61.4961,-61.1874, -60.8758,-60.5622,-60.2535,-59.9347, -59.3149,-58.9972,-58.5311,-58.0596, -57.7343,-57.4194,-57.1063,-56.791, -56.4571,-56.1295,-55.6402,-55.3072, -54.9803,-54.8161,-54.7992,-54.8652, -54.9118,-54.9127,-54.9137,-55.4073, -55.7363,-56.0735,-56.5753,-57.21, -57.6835,-57.9987,-58.3161,-58.6373, -59.1099,-59.4223,-59.7379,-60.2093, -60.5292,-60.8432,-61.1552,-61.469, -61.7854,-62.1006,-62.4146,-62.7265, -63.2034,-63.5275,-63.8521,-64.3383, -64.6624,-64.9868,-65.305,-65.627, -66.1107,-66.4311,-66.9167,-67.2414, -67.5601,-68.0517,-68.3825,-68.7111, -69.0414,-69.3704,-69.6991,-70.0278, -70.3559,-70.8603,-71.0293,-71.1107)
FOOTPRINT_POINT_LONGITUDE = (309.211,307.326,306.074,306.044,305.91 ,306.133,306.346,306.545,306.738, 307.016,307.194,307.366,307.532,307.694 ,307.846,307.993,308.135,308.273, 308.471,308.66,308.783,308.899,309.069, 309.178,309.284,309.385,309.487,309.629 ,309.765,309.853,309.934,310.022, 310.104,310.181,310.263,310.33,310.483, 310.547,310.653,310.749,310.797,310.858 ,310.919,310.976,311.025,311.082, 311.167,311.213,311.266,311.291,311.293 ,312.295,313.108,313.124,313.13,313.069 ,313.027,312.984,312.917,312.828,312.76 ,312.714,312.666,312.616,312.541, 312.489,312.436,312.355,312.298,312.241 ,312.183,312.123,312.062,311.998, 311.934,311.868,311.765,311.692,311.617 ,311.502,311.422,311.34,311.257,311.17, 311.036,310.944,310.799,310.699,310.597 ,310.434,310.32,310.203,310.081,309.956 ,309.826,309.692,309.554,309.332, 309.254,309.211)
ORBIT_NUMBER = 4431
ORBITAL_ECCENTRICITY = 0.57
ORBITAL_INCLINATION = 86.69
ORBITAL_SEMIMAJOR_AXIS = 8548.49
PERIAPSIS_ALTITUDE = 292.22
PERIAPSIS_ARGUMENT_ANGLE = 297.78
PERIAPSIS_TIME = 2007-06-17T09:59:28.000Z
SPACECRAFT_ORIENTATION = (0.0,1.0,0.0)
^MEX_ORIENTATION_DESC = "MEX_ORIENTATION_DESC.TXT"
SPACECRAFT_POINTING_MODE = ACROSSTRACK
^MEX_POINTING_DESC = "MEX_POINTING_DESC.TXT"
RIGHT_ASCENSION = -1e+32
DECLINATION = -1e+32
OFFSET_ANGLE = 0.5
SPACECRAFT_SOLAR_DISTANCE = 2.06846e+08
TARGET_NAME = MARS
/* CAMERA DATA ELEMENTS */
DETECTOR_TEMPERATURE = 18.7783
FOCAL_PLANE_TEMPERATURE = 8.9911
INST_CMPRS_NAME = "DISCRETE COSINE TRANSFORMATION (DCT)"
INST_CMPRS_RATIO = 11.6969
INST_CMPRS_QUALITY = 0
INST_CMPRS_QUANTZ_TBL_ID = 0
INSTRUMENT_TEMPERATURE = 11.4379
LENS_TEMPERATURE = 9.6028
MACROPIXEL_SIZE = 4
MISSING_FRAMES = 0
PIXEL_SUBSAMPLING_FLAG = N
SIGNAL_CHAIN_ID = 3
/* RADIOMETRIC DATA ELEMENTS */
BANDWIDTH = 177.0
CENTER_FILTER_WAVELENGTH = 676.5
RADIANCE_OFFSET = 5.81362
RADIANCE_SCALING_FACTOR = 0.0175189
REFLECTANCE_SCALING_FACTOR = 0.000397426
MEX:REFLECTANCE_OFFSET = 0.131886
/* IMAGE OBJECT DEFINITIONS */
OBJECT = IMAGE
  INTERCHANGE_FORMAT = BINARY
  LINES = 19192
  LINE_SAMPLES = 3432
  SAMPLE_TYPE = UNSIGNED_INTEGER
  SAMPLE_BITS = 8
  BANDS = 1
  BAND_STORAGE_TYPE = BAND_SEQUENTIAL
  MAXIMUM = 255
  MEAN = 136.378
  MINIMUM = 1
  STANDARD_DEVIATION = 29.4684
END_OBJECT = IMAGE
/* MAP OBJECT DEFINITIONS */
OBJECT = IMAGE_MAP_PROJECTION
  ^DATA_SET_MAP_PROJECTION_CATALOG= "DSMAP.CAT"
  A_AXIS_RADIUS = 3396.0
  B_AXIS_RADIUS = 3396.0
  C_AXIS_RADIUS = 3396.0
  CENTER_LATITUDE = 0.0
  CENTER_LONGITUDE = 311.0
  COORDINATE_SYSTEM_NAME = PLANETOGRAPHIC
  COORDINATE_SYSTEM_TYPE = "BODY-FIXED ROTATING"
  EASTERNMOST_LONGITUDE = 313.13
  FIRST_STANDARD_PARALLEL = "N/A"
  LINE_FIRST_PIXEL = 1
  LINE_LAST_PIXEL = 19192
  LINE_PROJECTION_OFFSET = -64999.625
  MAP_PROJECTION_ROTATION = 0.0
  MAP_PROJECTION_TYPE = SINUSOIDAL
  MAP_RESOLUTION = 1185.42760773333
  MAP_SCALE = 0.05
  MAXIMUM_LATITUDE = -54.7992
  MINIMUM_LATITUDE = -71.11069999999999
  POSITIVE_LONGITUDE_DIRECTION = EAST
  REFERENCE_LATITUDE = "N/A"
  REFERENCE_LONGITUDE = "N/A"
  SAMPLE_FIRST_PIXEL = 1
  SAMPLE_LAST_PIXEL = 3432
  SAMPLE_PROJECTION_OFFSET = 1974.875
  SECOND_STANDARD_PARALLEL = "N/A"
  WESTERNMOST_LONGITUDE = 305.91
END_OBJECT = IMAGE_MAP_PROJECTION
END
