PDS_VERSION_ID = PDS3
/* FILE DATA ELEMENTS */
RECORD_TYPE = UNDEFINED
/* POINTERS TO DATA OBJECTS */
^IMAGE = ("H4431_0000_P14.TIF")
/* IDENTIFICATION DATA ELEMENTS */
DATA_SET_ID = "MEX-M-HRSC-4-REFDR-MAPPROJECT-EXT1-V4.0"
DATA_SET_NAME = "MARS EXPRESS HRSC MAP PROJECTED REFDR EXTENSION1 V4.0"
DETECTOR_ID = MEX_HRSC_P1
EVENT_TYPE = "MARS-REGIONAL-MAPPING-Im-Fl-Gl"
INSTRUMENT_HOST_ID = MEX
INSTRUMENT_HOST_NAME = "MARS EXPRESS"
INSTRUMENT_ID = HRSC
INSTRUMENT_NAME = "HIGH RESOLUTION STEREO CAMERA"
MISSION_NAME = "MARS EXPRESS"
MISSION_PHASE_NAME = ME_Phase_8
PROCESSING_LEVEL_ID = 4
PRODUCT_CREATION_TIME = 2023-02-10T03:49:22.000Z
PRODUCT_ID = "H4431_0000_P14.TIF"
RELEASE_ID = 0006
REVISION_ID = 0000
/* QUALITY DATA ELEMENTS */
DATA_QUALITY_ID = 1
DATA_QUALITY_DESC = "Data calculated based on original SPICE kernels"
/* TIME DATA ELEMENTS */
SPACECRAFT_CLOCK_START_COUNT = "1/0130154198.09052"
SPACECRAFT_CLOCK_STOP_COUNT = "1/0130154500.01398"
START_TIME = 2007-06-17T09:57:29.066Z
STOP_TIME = 2007-06-17T10:01:32.775Z
/* ORBITAL DATA ELEMENTS */
ASCENDING_NODE_LONGITUDE = 135.56
MAXIMUM_RESOLUTION = 0.0476
FOOTPRINT_POINT_LATITUDE = (-70.9315,-70.8899,-70.8435,-70.775, -70.7733,-70.8204,-70.4869,-69.9861, -69.6586,-69.3364,-69.0129,-68.6897, -68.3664,-67.8809,-67.395,-67.0703, -66.7462,-66.4214,-66.0968,-65.7723, -65.448,-64.9667,-64.4989,-64.1867, -63.7183,-63.2504,-62.9377,-62.6253, -62.3128,-62.0004,-61.5335,-61.2186, -60.9056,-60.4362,-60.1227,-59.8166, -59.5033,-59.0341,-58.5469,-58.2225, -57.7462,-57.2626,-56.7772,-56.302, -55.9821,-55.4977,-55.0207,-54.8608, -54.8503,-54.8844,-54.9061,-54.9065, -54.9074,-55.2287,-55.5501,-56.0295, -56.5024,-56.826,-57.1564,-57.4814, -57.8043,-58.2898,-58.6088,-58.9272, -59.2561,-59.5701,-60.0397,-60.3535, -60.6633,-60.9776,-61.2935,-61.6071, -61.9182,-62.2319,-62.5459,-62.8622, -63.1757,-63.4906,-63.9627,-64.2775, -64.7495,-65.0634,-65.5525,-65.8788, -66.2066,-66.535,-66.86,-67.1829, -67.5107,-67.8388,-68.1652,-68.4928, -68.8212,-69.3122,-69.639,-69.9656, -70.3029,-70.8104,-70.9797,-70.9315)
FOOTPRINT_POINT_LONGITUDE = (309.247,308.34,307.424,306.209,306.179 ,305.963,306.182,306.496,306.693, 306.877,307.06,307.234,307.402,307.644, 307.874,308.023,308.166,308.305,308.44, 308.569,308.694,308.874,309.037,309.143 ,309.296,309.441,309.537,309.629,309.72 ,309.807,309.93,310.019,310.101,310.219 ,310.298,310.356,310.431,310.535, 310.643,310.712,310.789,310.881,310.974 ,311.043,311.094,311.179,311.247, 311.271,311.273,312.298,313.129,313.146 ,313.152,313.111,313.07,313.007,312.943 ,312.898,312.851,312.803,312.755, 312.681,312.631,312.579,312.525,312.472 ,312.391,312.334,312.278,312.219, 312.158,312.097,312.034,311.97,311.904, 311.835,311.765,311.694,311.583,311.506 ,311.388,311.306,311.174,311.084, 310.989,310.892,310.794,310.692,310.586 ,310.477,310.364,310.248,310.127,309.94 ,309.809,309.674,309.53,309.303,309.225 ,309.247)
ORBIT_NUMBER = 4431
ORBITAL_ECCENTRICITY = 0.57
ORBITAL_INCLINATION = 86.69
ORBITAL_SEMIMAJOR_AXIS = 8548.49
PERIAPSIS_ALTITUDE = 292.22
PERIAPSIS_ARGUMENT_ANGLE = 297.78
PERIAPSIS_TIME = 2007-06-17T09:59:28.000Z
SPACECRAFT_ORIENTATION = (0.0,1.0,0.0)
^MEX_ORIENTATION_DESC = "MEX_ORIENTATION_DESC.TXT"
SPACECRAFT_POINTING_MODE = ACROSSTRACK
^MEX_POINTING_DESC = "MEX_POINTING_DESC.TXT"
RIGHT_ASCENSION = -1e+32
DECLINATION = -1e+32
OFFSET_ANGLE = 0.5
SPACECRAFT_SOLAR_DISTANCE = 2.06846e+08
TARGET_NAME = MARS
/* CAMERA DATA ELEMENTS */
DETECTOR_TEMPERATURE = 17.9627
FOCAL_PLANE_TEMPERATURE = 8.9911
INST_CMPRS_NAME = "DISCRETE COSINE TRANSFORMATION (DCT)"
INST_CMPRS_RATIO = 21.2757
INST_CMPRS_QUALITY = 0
INST_CMPRS_QUANTZ_TBL_ID = 0
INSTRUMENT_TEMPERATURE = 11.4379
LENS_TEMPERATURE = 9.6028
MACROPIXEL_SIZE = 4
MISSING_FRAMES = 0
PIXEL_SUBSAMPLING_FLAG = N
SIGNAL_CHAIN_ID = 3
/* RADIOMETRIC DATA ELEMENTS */
BANDWIDTH = 174.0
CENTER_FILTER_WAVELENGTH = 675.0
RADIANCE_OFFSET = 6.2667
RADIANCE_SCALING_FACTOR = 0.0182415
REFLECTANCE_SCALING_FACTOR = 0.000419797
MEX:REFLECTANCE_OFFSET = 0.144218
/* IMAGE OBJECT DEFINITIONS */
OBJECT = IMAGE
  INTERCHANGE_FORMAT = BINARY
  LINES = 19192
  LINE_SAMPLES = 3432
  SAMPLE_TYPE = UNSIGNED_INTEGER
  SAMPLE_BITS = 8
  BANDS = 1
  BAND_STORAGE_TYPE = BAND_SEQUENTIAL
  MAXIMUM = 255
  MEAN = 136.176
  MINIMUM = 1
  STANDARD_DEVIATION = 27.6855
END_OBJECT = IMAGE
/* MAP OBJECT DEFINITIONS */
OBJECT = IMAGE_MAP_PROJECTION
  ^DATA_SET_MAP_PROJECTION_CATALOG= "DSMAP.CAT"
  A_AXIS_RADIUS = 3396.0
  B_AXIS_RADIUS = 3396.0
  C_AXIS_RADIUS = 3396.0
  CENTER_LATITUDE = 0.0
  CENTER_LONGITUDE = 311.0
  COORDINATE_SYSTEM_NAME = PLANETOGRAPHIC
  COORDINATE_SYSTEM_TYPE = "BODY-FIXED ROTATING"
  EASTERNMOST_LONGITUDE = 313.152
  FIRST_STANDARD_PARALLEL = "N/A"
  LINE_FIRST_PIXEL = 1
  LINE_LAST_PIXEL = 19192
  LINE_PROJECTION_OFFSET = -64999.625
  MAP_PROJECTION_ROTATION = 0.0
  MAP_PROJECTION_TYPE = SINUSOIDAL
  MAP_RESOLUTION = 1185.42760773333
  MAP_SCALE = 0.05
  MAXIMUM_LATITUDE = -54.8503
  MINIMUM_LATITUDE = -70.97969999999999
  POSITIVE_LONGITUDE_DIRECTION = EAST
  REFERENCE_LATITUDE = "N/A"
  REFERENCE_LONGITUDE = "N/A"
  SAMPLE_FIRST_PIXEL = 1
  SAMPLE_LAST_PIXEL = 3432
  SAMPLE_PROJECTION_OFFSET = 1974.875
  SECOND_STANDARD_PARALLEL = "N/A"
  WESTERNMOST_LONGITUDE = 305.963
END_OBJECT = IMAGE_MAP_PROJECTION
END
