PDS_VERSION_ID = PDS3
/* FILE DATA ELEMENTS */
RECORD_TYPE = UNDEFINED
/* POINTERS TO DATA OBJECTS */
^IMAGE = ("H4427_0000_S14.TIF")
/* IDENTIFICATION DATA ELEMENTS */
DATA_SET_ID = "MEX-M-HRSC-4-REFDR-MAPPROJECT-EXT1-V4.0"
DATA_SET_NAME = "MARS EXPRESS HRSC MAP PROJECTED REFDR EXTENSION1 V4.0"
DETECTOR_ID = MEX_HRSC_S1
EVENT_TYPE = "MARS-REGIONAL-MAPPING-Im-Gl-Pf"
INSTRUMENT_HOST_ID = MEX
INSTRUMENT_HOST_NAME = "MARS EXPRESS"
INSTRUMENT_ID = HRSC
INSTRUMENT_NAME = "HIGH RESOLUTION STEREO CAMERA"
MISSION_NAME = "MARS EXPRESS"
MISSION_PHASE_NAME = ME_Phase_8
PROCESSING_LEVEL_ID = 4
PRODUCT_CREATION_TIME = 2023-02-10T03:49:22.000Z
PRODUCT_ID = "H4427_0000_S14.TIF"
RELEASE_ID = 0006
REVISION_ID = 0000
/* QUALITY DATA ELEMENTS */
DATA_QUALITY_ID = 1
DATA_QUALITY_DESC = "Data calculated based on original SPICE kernels"
/* TIME DATA ELEMENTS */
SPACECRAFT_CLOCK_START_COUNT = "1/0130057349.07298"
SPACECRAFT_CLOCK_STOP_COUNT = "1/0130057634.07684"
START_TIME = 2007-06-16T07:03:34.822Z
STOP_TIME = 2007-06-16T07:07:16.222Z
/* ORBITAL DATA ELEMENTS */
ASCENDING_NODE_LONGITUDE = 135.65
MAXIMUM_RESOLUTION = 0.0246
FOOTPRINT_POINT_LATITUDE = (-75.3891,-75.3099,-75.2373,-75.1598, -75.1573,-75.2504,-74.7779,-74.4641, -74.1582,-73.6989,-73.3924,-72.932, -72.4716,-72.0163,-71.7196,-71.4212, -71.1241,-70.8345,-70.5336,-70.088, -69.6472,-69.3501,-69.0455,-68.7559, -68.4683,-68.0383,-67.7513,-67.3204, -67.0406,-66.7541,-66.4651,-66.0331, -65.7477,-65.4599,-65.0356,-64.7494, -64.4548,-63.9706,-63.6847,-63.2598, -62.9748,-62.5472,-62.2617,-61.9764, -61.5528,-61.2681,-60.9827,-60.696, -60.5537,-60.5193,-60.5584,-60.6078, -60.6473,-60.6484,-60.6492,-60.9341, -61.2181,-61.6472,-61.9331,-62.2199, -62.5066,-62.7911,-63.0753,-63.506, -63.7933,-64.0841,-64.5702,-64.8579, -65.1455,-65.4336,-65.7213,-66.1537, -66.441,-66.7299,-67.1624,-67.5948, -68.0271,-68.3155,-68.6029,-68.8917, -69.1824,-69.6328,-69.9355,-70.2362, -70.6817,-70.9816,-71.2823,-71.7321, -72.032,-72.3318,-72.7967,-73.1062, -73.4179,-73.8825,-74.1923,-74.5018, -74.9762,-75.295,-75.4556,-75.3891)
FOOTPRINT_POINT_LONGITUDE = (345.128,343.503,342.185,340.908, 340.869,340.849,341.213,341.441,341.654 ,341.956,342.148,342.421,342.678, 342.917,343.067,343.21,343.349,343.484, 343.612,343.798,343.975,344.088,344.194 ,344.295,344.393,344.535,344.626, 344.757,344.843,344.924,345.003,345.116 ,345.19,345.261,345.365,345.432,345.493 ,345.598,345.657,345.744,345.8,345.88, 345.931,345.981,346.055,346.101,346.146 ,346.19,346.211,346.216,346.817,347.623 ,348.328,348.35,348.358,348.331,348.303 ,348.263,348.235,348.207,348.178, 348.145,348.11,348.062,348.029,348.002, 347.941,347.905,347.867,347.829,347.789 ,347.728,347.684,347.641,347.573, 347.501,347.426,347.374,347.319,347.264 ,347.211,347.127,347.07,347.007,346.897 ,346.826,346.755,346.64,346.561,346.478 ,346.347,346.251,346.156,345.999,345.89 ,345.776,345.6,345.466,345.399,345.128)
ORBIT_NUMBER = 4427
ORBITAL_ECCENTRICITY = 0.57
ORBITAL_INCLINATION = 86.7
ORBITAL_SEMIMAJOR_AXIS = 8550.09
PERIAPSIS_ALTITUDE = 292.11
PERIAPSIS_ARGUMENT_ANGLE = 298.45
PERIAPSIS_TIME = 2007-06-16T07:06:38.000Z
SPACECRAFT_ORIENTATION = (0.0,1.0,0.0)
^MEX_ORIENTATION_DESC = "MEX_ORIENTATION_DESC.TXT"
SPACECRAFT_POINTING_MODE = ACROSSTRACK
^MEX_POINTING_DESC = "MEX_POINTING_DESC.TXT"
RIGHT_ASCENSION = -1e+32
DECLINATION = -1e+32
OFFSET_ANGLE = -0.83
SPACECRAFT_SOLAR_DISTANCE = 2.06816e+08
TARGET_NAME = MARS
/* CAMERA DATA ELEMENTS */
DETECTOR_TEMPERATURE = 15.9237
FOCAL_PLANE_TEMPERATURE = 8.9911
INST_CMPRS_NAME = "DISCRETE COSINE TRANSFORMATION (DCT)"
INST_CMPRS_RATIO = 11.7107
INST_CMPRS_QUALITY = 0
INST_CMPRS_QUANTZ_TBL_ID = 0
INSTRUMENT_TEMPERATURE = 11.4379
LENS_TEMPERATURE = 9.8067
MACROPIXEL_SIZE = 2
PIXEL_SUBSAMPLING_FLAG = N
SIGNAL_CHAIN_ID = 1
/* RADIOMETRIC DATA ELEMENTS */
BANDWIDTH = 180.0
CENTER_FILTER_WAVELENGTH = 677.0
RADIANCE_OFFSET = 5.86127
RADIANCE_SCALING_FACTOR = 0.0701054
REFLECTANCE_SCALING_FACTOR = 0.00156445
MEX:REFLECTANCE_OFFSET = 0.130798
/* IMAGE OBJECT DEFINITIONS */
OBJECT = IMAGE
  INTERCHANGE_FORMAT = BINARY
  LINES = 35381
  LINE_SAMPLES = 5906
  SAMPLE_TYPE = UNSIGNED_INTEGER
  SAMPLE_BITS = 8
  BANDS = 1
  BAND_STORAGE_TYPE = BAND_SEQUENTIAL
  MAXIMUM = 255
  MEAN = 73.6771
  MINIMUM = 1
  STANDARD_DEVIATION = 68.6593
END_OBJECT = IMAGE
/* MAP OBJECT DEFINITIONS */
OBJECT = IMAGE_MAP_PROJECTION
  ^DATA_SET_MAP_PROJECTION_CATALOG= "DSMAP.CAT"
  A_AXIS_RADIUS = 3396.0
  B_AXIS_RADIUS = 3396.0
  C_AXIS_RADIUS = 3396.0
  CENTER_LATITUDE = 0.0
  CENTER_LONGITUDE = 346.0
  COORDINATE_SYSTEM_NAME = PLANETOGRAPHIC
  COORDINATE_SYSTEM_TYPE = "BODY-FIXED ROTATING"
  EASTERNMOST_LONGITUDE = 348.358
  FIRST_STANDARD_PARALLEL = "N/A"
  LINE_FIRST_PIXEL = 1
  LINE_LAST_PIXEL = 35381
  LINE_PROJECTION_OFFSET = -143570.25
  MAP_PROJECTION_ROTATION = 0.0
  MAP_PROJECTION_TYPE = SINUSOIDAL
  MAP_RESOLUTION = 2370.85521546667
  MAP_SCALE = 0.025
  MAXIMUM_LATITUDE = -60.5193
  MINIMUM_LATITUDE = -75.4556
  POSITIVE_LONGITUDE_DIRECTION = EAST
  REFERENCE_LATITUDE = "N/A"
  REFERENCE_LONGITUDE = "N/A"
  SAMPLE_FIRST_PIXEL = 1
  SAMPLE_LAST_PIXEL = 5906
  SAMPLE_PROJECTION_OFFSET = 3180.75
  SECOND_STANDARD_PARALLEL = "N/A"
  WESTERNMOST_LONGITUDE = 340.849
END_OBJECT = IMAGE_MAP_PROJECTION
END
