PDS_VERSION_ID = PDS3
/* FILE DATA ELEMENTS */
RECORD_TYPE = UNDEFINED
/* POINTERS TO DATA OBJECTS */
^IMAGE = ("H4422_0000_RE4.TIF")
/* IDENTIFICATION DATA ELEMENTS */
DATA_SET_ID = "MEX-M-HRSC-4-REFDR-MAPPROJECT-EXT1-V4.0"
DATA_SET_NAME = "MARS EXPRESS HRSC MAP PROJECTED REFDR EXTENSION1 V4.0"
DETECTOR_ID = MEX_HRSC_RED
EVENT_TYPE = "MARS-REGIONAL-MAPPING-Te-Gl-La"
INSTRUMENT_HOST_ID = MEX
INSTRUMENT_HOST_NAME = "MARS EXPRESS"
INSTRUMENT_ID = HRSC
INSTRUMENT_NAME = "HIGH RESOLUTION STEREO CAMERA"
MISSION_NAME = "MARS EXPRESS"
MISSION_PHASE_NAME = ME_Phase_8
PROCESSING_LEVEL_ID = 4
PRODUCT_CREATION_TIME = 2023-02-10T03:49:22.000Z
PRODUCT_ID = "H4422_0000_RE4.TIF"
RELEASE_ID = 0006
REVISION_ID = 0000
/* QUALITY DATA ELEMENTS */
DATA_QUALITY_ID = 1
DATA_QUALITY_DESC = "Data calculated based on original SPICE kernels"
/* TIME DATA ELEMENTS */
SPACECRAFT_CLOCK_START_COUNT = "1/0129936257.07287"
SPACECRAFT_CLOCK_STOP_COUNT = "1/0129936550.46426"
START_TIME = 2007-06-14T21:24:28.370Z
STOP_TIME = 2007-06-14T21:28:23.212Z
/* ORBITAL DATA ELEMENTS */
ASCENDING_NODE_LONGITUDE = 135.75
MAXIMUM_RESOLUTION = 0.0514
FOOTPRINT_POINT_LATITUDE = (-82.2045,-82.0229,-81.8213,-81.5274, -81.52,-81.4108,-81.1331,-80.8609, -80.5796,-80.2952,-80.0102,-79.5857, -79.2971,-79.0061,-78.7127,-78.4172, -78.1197,-77.8195,-77.519,-77.0663, -76.7626,-76.459,-76.0621,-75.67, -75.4075,-75.1445,-74.8792,-74.6142, -74.3569,-74.0899,-73.82,-73.4152, -73.0077,-72.5994,-72.3283,-72.0624, -71.6631,-71.2624,-70.9945,-70.7269, -70.4652,-70.0761,-69.8166,-69.5534, -69.1594,-68.8968,-68.5058,-67.8688, -67.7421,-67.6924,-67.8094,-67.8953, -67.8969,-67.8982,-68.6718,-69.2006, -69.6015,-69.8682,-70.1319,-70.3945, -70.6576,-71.0595,-71.332,-71.74, -72.0132,-72.2843,-72.5528,-72.8279, -73.1072,-73.3859,-73.8004,-74.0765, -74.3492,-74.6249,-74.898,-75.1753, -75.4489,-75.7209,-75.9898,-76.2562, -76.5262,-76.7959,-77.0993,-77.4184, -77.8954,-78.2123,-78.5276,-78.8414, -79.1535,-79.4691,-79.7798,-80.088, -80.3943,-80.6987,-81.0011,-81.3075, -81.6134,-81.9168,-82.0705,-82.2045)
FOOTPRINT_POINT_LONGITUDE = (100.709,97.9967,95.3867,92.1208, 92.0452,92.0401,93.1904,94.2581,95.2635 ,96.196,97.0658,98.2872,99.0468,99.767, 100.45,101.1,101.717,102.304,102.864, 103.658,104.157,104.62,105.178,105.713, 106.054,106.384,106.7,107.007,107.313, 107.599,107.873,108.269,108.645,109.004 ,109.231,109.445,109.755,110.052, 110.243,110.429,110.605,110.86,111.024, 111.181,111.409,111.558,111.771,112.101 ,112.166,112.191,113.706,114.992, 115.018,115.026,114.761,114.568,114.414 ,114.308,114.201,114.091,113.977, 113.797,113.671,113.474,113.337,113.196 ,113.053,112.901,112.741,112.576,112.32 ,112.142,111.96,111.768,111.572,111.363 ,111.15,110.93,110.704,110.472,110.226, 109.969,109.668,109.334,108.8,108.42, 108.02,107.599,107.155,106.674,106.173, 105.643,105.081,104.484,103.848,103.155 ,102.41,101.611,101.18,100.709)
ORBIT_NUMBER = 4422
ORBITAL_ECCENTRICITY = 0.571
ORBITAL_INCLINATION = 86.69
ORBITAL_SEMIMAJOR_AXIS = 8554.99
PERIAPSIS_ALTITUDE = 291.8
PERIAPSIS_ARGUMENT_ANGLE = 299.32
PERIAPSIS_TIME = 2007-06-14T21:30:38.000Z
SPACECRAFT_ORIENTATION = (0.0,1.0,0.0)
^MEX_ORIENTATION_DESC = "MEX_ORIENTATION_DESC.TXT"
SPACECRAFT_POINTING_MODE = ACROSSTRACK
^MEX_POINTING_DESC = "MEX_POINTING_DESC.TXT"
RIGHT_ASCENSION = -1e+32
DECLINATION = -1e+32
OFFSET_ANGLE = 0.5
SPACECRAFT_SOLAR_DISTANCE = 2.06783e+08
TARGET_NAME = MARS
/* CAMERA DATA ELEMENTS */
DETECTOR_TEMPERATURE = 18.5744
FOCAL_PLANE_TEMPERATURE = 7.9716
INST_CMPRS_NAME = "DISCRETE COSINE TRANSFORMATION (DCT)"
INST_CMPRS_RATIO = 22.2415
INST_CMPRS_QUALITY = 0
INST_CMPRS_QUANTZ_TBL_ID = 0
INSTRUMENT_TEMPERATURE = 11.234
LENS_TEMPERATURE = 8.1755
MACROPIXEL_SIZE = 4
MISSING_FRAMES = 0
PIXEL_SUBSAMPLING_FLAG = N
SIGNAL_CHAIN_ID = 2
/* RADIOMETRIC DATA ELEMENTS */
BANDWIDTH = 48.0
CENTER_FILTER_WAVELENGTH = 748.0
RADIANCE_OFFSET = 1.56932
RADIANCE_SCALING_FACTOR = 0.00735829
REFLECTANCE_SCALING_FACTOR = 0.000718015
MEX:REFLECTANCE_OFFSET = 0.153133
/* IMAGE OBJECT DEFINITIONS */
OBJECT = IMAGE
  INTERCHANGE_FORMAT = BINARY
  LINES = 17036
  LINE_SAMPLES = 5376
  SAMPLE_TYPE = UNSIGNED_INTEGER
  SAMPLE_BITS = 8
  BANDS = 1
  BAND_STORAGE_TYPE = BAND_SEQUENTIAL
  MAXIMUM = 255
  MEAN = 71.1974
  MINIMUM = 1
  STANDARD_DEVIATION = 28.1153
END_OBJECT = IMAGE
/* MAP OBJECT DEFINITIONS */
OBJECT = IMAGE_MAP_PROJECTION
  ^DATA_SET_MAP_PROJECTION_CATALOG= "DSMAP.CAT"
  A_AXIS_RADIUS = 3396.0
  B_AXIS_RADIUS = 3396.0
  C_AXIS_RADIUS = 3396.0
  CENTER_LATITUDE = 0.0
  CENTER_LONGITUDE = 110.0
  COORDINATE_SYSTEM_NAME = PLANETOGRAPHIC
  COORDINATE_SYSTEM_TYPE = "BODY-FIXED ROTATING"
  EASTERNMOST_LONGITUDE = 115.026
  FIRST_STANDARD_PARALLEL = "N/A"
  LINE_FIRST_PIXEL = 1
  LINE_LAST_PIXEL = 17036
  LINE_PROJECTION_OFFSET = -80246.375
  MAP_PROJECTION_ROTATION = 0.0
  MAP_PROJECTION_TYPE = SINUSOIDAL
  MAP_RESOLUTION = 1185.42760773333
  MAP_SCALE = 0.05
  MAXIMUM_LATITUDE = -67.69240000000001
  MINIMUM_LATITUDE = -82.2045
  POSITIVE_LONGITUDE_DIRECTION = EAST
  REFERENCE_LATITUDE = "N/A"
  REFERENCE_LONGITUDE = "N/A"
  SAMPLE_FIRST_PIXEL = 1
  SAMPLE_LAST_PIXEL = 5376
  SAMPLE_PROJECTION_OFFSET = 3135.625
  SECOND_STANDARD_PARALLEL = "N/A"
  WESTERNMOST_LONGITUDE = 92.0401
END_OBJECT = IMAGE_MAP_PROJECTION
END
