PDS_VERSION_ID = PDS3
/* FILE DATA ELEMENTS */
RECORD_TYPE = UNDEFINED
/* POINTERS TO DATA OBJECTS */
^IMAGE = ("H4420_0000_BL4.TIF")
/* IDENTIFICATION DATA ELEMENTS */
DATA_SET_ID = "MEX-M-HRSC-4-REFDR-MAPPROJECT-EXT1-V4.0"
DATA_SET_NAME = "MARS EXPRESS HRSC MAP PROJECTED REFDR EXTENSION1 V4.0"
DETECTOR_ID = MEX_HRSC_BLUE
EVENT_TYPE = "MARS-REGIONAL-MAPPING-Im-Fl-Gl"
INSTRUMENT_HOST_ID = MEX
INSTRUMENT_HOST_NAME = "MARS EXPRESS"
INSTRUMENT_ID = HRSC
INSTRUMENT_NAME = "HIGH RESOLUTION STEREO CAMERA"
MISSION_NAME = "MARS EXPRESS"
MISSION_PHASE_NAME = ME_Phase_8
PROCESSING_LEVEL_ID = 4
PRODUCT_CREATION_TIME = 2023-02-10T03:49:22.000Z
PRODUCT_ID = "H4420_0000_BL4.TIF"
RELEASE_ID = 0006
REVISION_ID = 0000
/* QUALITY DATA ELEMENTS */
DATA_QUALITY_ID = 1
DATA_QUALITY_DESC = "Data calculated based on original SPICE kernels"
/* TIME DATA ELEMENTS */
SPACECRAFT_CLOCK_START_COUNT = "1/0129887907.08419"
SPACECRAFT_CLOCK_STOP_COUNT = "1/0129888217.24489"
START_TIME = 2007-06-14T07:59:03.113Z
STOP_TIME = 2007-06-14T08:03:08.534Z
/* ORBITAL DATA ELEMENTS */
ASCENDING_NODE_LONGITUDE = 135.79
MAXIMUM_RESOLUTION = 0.0949
FOOTPRINT_POINT_LATITUDE = (-80.1663,-80.0731,-79.9855,-79.8861, -79.8828,-79.8641,-79.5075,-79.1496, -78.7891,-78.4269,-78.0629,-77.6976, -77.355,-77.0467,-76.7375,-76.4274, -76.1166,-75.805,-75.4926,-75.1795, -74.8655,-74.5509,-74.2357,-73.9197, -73.6032,-73.2861,-72.9691,-72.6614, -72.3525,-72.0433,-71.7338,-71.4237, -70.9612,-70.6604,-70.3593,-70.0578, -69.6053,-69.3029,-69.0001,-68.6975, -68.1113,-67.5229,-67.2276,-66.6384, -66.0484,-65.7531,-65.3179,-64.4637, -64.3207,-64.2021,-64.2407,-64.2641, -64.2645,-64.2663,-64.8411,-65.4131, -65.9995,-66.2965,-66.5932,-66.8898, -67.3345,-67.7794,-68.0762,-68.667, -68.9676,-69.2732,-69.5784,-69.8826, -70.1872,-70.4914,-70.7954,-71.0991, -71.4106,-71.7241,-72.0373,-72.3501, -72.6625,-72.9746,-73.4527,-73.7742, -74.0952,-74.4159,-74.7361,-75.0558, -75.375,-75.6938,-76.0121,-76.3299, -76.6472,-76.9639,-77.2802,-77.5958, -77.9525,-78.3277,-78.7021,-79.0756, -79.4482,-79.8199,-80.0053,-80.1663)
FOOTPRINT_POINT_LONGITUDE = (310.575,307.673,305.503,303.415, 303.352,303.432,304.052,304.626,305.168 ,305.677,306.154,306.602,306.997, 307.333,307.652,307.957,308.247,308.523 ,308.788,309.04,309.282,309.513,309.735 ,309.947,310.151,310.346,310.533, 310.706,310.876,311.038,311.194,311.344 ,311.557,311.689,311.817,311.941, 312.117,312.23,312.34,312.447,312.642, 312.83,312.923,313.091,313.249,313.324, 313.432,313.621,313.652,313.678,314.976 ,316.08,316.104,316.12,316.049,316.006, 315.939,315.9,315.86,315.82,315.752, 315.673,315.609,315.512,315.461,315.403 ,315.345,315.299,315.239,315.177, 315.114,315.048,314.979,314.906,314.829 ,314.752,314.669,314.585,314.447, 314.352,314.25,314.145,314.035,313.921, 313.803,313.678,313.547,313.412,313.268 ,313.118,312.96,312.794,312.597,312.375 ,312.137,311.884,311.611,311.321, 311.167,310.575)
ORBIT_NUMBER = 4420
ORBITAL_ECCENTRICITY = 0.57
ORBITAL_INCLINATION = 86.69
ORBITAL_SEMIMAJOR_AXIS = 8551.07
PERIAPSIS_ALTITUDE = 292.18
PERIAPSIS_ARGUMENT_ANGLE = 299.7
PERIAPSIS_TIME = 2007-06-14T08:04:14.000Z
SPACECRAFT_ORIENTATION = (0.0,1.0,0.0)
^MEX_ORIENTATION_DESC = "MEX_ORIENTATION_DESC.TXT"
SPACECRAFT_POINTING_MODE = ACROSSTRACK
^MEX_POINTING_DESC = "MEX_POINTING_DESC.TXT"
RIGHT_ASCENSION = -1e+32
DECLINATION = -1e+32
OFFSET_ANGLE = -0.9
SPACECRAFT_SOLAR_DISTANCE = 2.0677e+08
TARGET_NAME = MARS
/* CAMERA DATA ELEMENTS */
DETECTOR_TEMPERATURE = 18.1666
FOCAL_PLANE_TEMPERATURE = 8.5833
INST_CMPRS_NAME = "DISCRETE COSINE TRANSFORMATION (DCT)"
INST_CMPRS_RATIO = 7.11989
INST_CMPRS_QUALITY = 0
INST_CMPRS_QUANTZ_TBL_ID = 0
INSTRUMENT_TEMPERATURE = 11.4379
LENS_TEMPERATURE = 8.7872
MACROPIXEL_SIZE = 8
MISSING_FRAMES = 0
PIXEL_SUBSAMPLING_FLAG = N
SIGNAL_CHAIN_ID = 2
/* RADIOMETRIC DATA ELEMENTS */
BANDWIDTH = 76.0
CENTER_FILTER_WAVELENGTH = 444.0
RADIANCE_OFFSET = 0.882427
RADIANCE_SCALING_FACTOR = 0.0163974
REFLECTANCE_SCALING_FACTOR = 0.00072029
MEX:REFLECTANCE_OFFSET = 0.0387624
/* IMAGE OBJECT DEFINITIONS */
OBJECT = IMAGE
  INTERCHANGE_FORMAT = BINARY
  LINES = 9469
  LINE_SAMPLES = 1808
  SAMPLE_TYPE = UNSIGNED_INTEGER
  SAMPLE_BITS = 8
  BANDS = 1
  BAND_STORAGE_TYPE = BAND_SEQUENTIAL
  MAXIMUM = 255
  MEAN = 92.0635
  MINIMUM = 1
  STANDARD_DEVIATION = 91.6424
END_OBJECT = IMAGE
/* MAP OBJECT DEFINITIONS */
OBJECT = IMAGE_MAP_PROJECTION
  ^DATA_SET_MAP_PROJECTION_CATALOG= "DSMAP.CAT"
  A_AXIS_RADIUS = 3396.0
  B_AXIS_RADIUS = 3396.0
  C_AXIS_RADIUS = 3396.0
  CENTER_LATITUDE = 0.0
  CENTER_LONGITUDE = 313.0
  COORDINATE_SYSTEM_NAME = PLANETOGRAPHIC
  COORDINATE_SYSTEM_TYPE = "BODY-FIXED ROTATING"
  EASTERNMOST_LONGITUDE = 316.12
  FIRST_STANDARD_PARALLEL = "N/A"
  LINE_FIRST_PIXEL = 1
  LINE_LAST_PIXEL = 9469
  LINE_PROJECTION_OFFSET = -38045.8125
  MAP_PROJECTION_ROTATION = 0.0
  MAP_PROJECTION_TYPE = SINUSOIDAL
  MAP_RESOLUTION = 592.713803866667
  MAP_SCALE = 0.1
  MAXIMUM_LATITUDE = -64.2021
  MINIMUM_LATITUDE = -80.16630000000001
  POSITIVE_LONGITUDE_DIRECTION = EAST
  REFERENCE_LATITUDE = "N/A"
  REFERENCE_LONGITUDE = "N/A"
  SAMPLE_FIRST_PIXEL = 1
  SAMPLE_LAST_PIXEL = 1808
  SAMPLE_PROJECTION_OFFSET = 1004.0625
  SECOND_STANDARD_PARALLEL = "N/A"
  WESTERNMOST_LONGITUDE = 303.352
END_OBJECT = IMAGE_MAP_PROJECTION
END
