PDS_VERSION_ID = PDS3
/* FILE DATA ELEMENTS */
RECORD_TYPE = UNDEFINED
/* POINTERS TO DATA OBJECTS */
^IMAGE = ("H4418_0000_RE4.TIF")
/* IDENTIFICATION DATA ELEMENTS */
DATA_SET_ID = "MEX-M-HRSC-4-REFDR-MAPPROJECT-EXT1-V4.0"
DATA_SET_NAME = "MARS EXPRESS HRSC MAP PROJECTED REFDR EXTENSION1 V4.0"
DETECTOR_ID = MEX_HRSC_RED
EVENT_TYPE = "MARS-REGIONAL-MAPPING-Gl-Pf-La"
INSTRUMENT_HOST_ID = MEX
INSTRUMENT_HOST_NAME = "MARS EXPRESS"
INSTRUMENT_ID = HRSC
INSTRUMENT_NAME = "HIGH RESOLUTION STEREO CAMERA"
MISSION_NAME = "MARS EXPRESS"
MISSION_PHASE_NAME = ME_Phase_8
PROCESSING_LEVEL_ID = 4
PRODUCT_CREATION_TIME = 2023-02-10T03:49:22.000Z
PRODUCT_ID = "H4418_0000_RE4.TIF"
RELEASE_ID = 0006
REVISION_ID = 0000
/* QUALITY DATA ELEMENTS */
DATA_QUALITY_ID = 1
DATA_QUALITY_DESC = "Data calculated based on original SPICE kernels"
/* TIME DATA ELEMENTS */
SPACECRAFT_CLOCK_START_COUNT = "1/0129839493.07286"
SPACECRAFT_CLOCK_STOP_COUNT = "1/0129839730.48740"
START_TIME = 2007-06-13T18:31:44.615Z
STOP_TIME = 2007-06-13T18:34:40.767Z
/* ORBITAL DATA ELEMENTS */
ASCENDING_NODE_LONGITUDE = 135.83
MAXIMUM_RESOLUTION = 0.0546
FOOTPRINT_POINT_LATITUDE = (-81.5434,-81.4788,-81.4165,-81.3496, -81.2782,-81.2025,-81.081,-81.0757, -80.9869,-80.6702,-80.4519,-80.2376, -80.0253,-79.8154,-79.6027,-79.3884, -79.1727,-78.9556,-78.7378,-78.5191, -78.2989,-78.0779,-77.8561,-77.6338, -77.4102,-77.1849,-76.9621,-76.7369, -76.5107,-76.2838,-76.0625,-75.679, -75.3896,-75.0025,-74.6147,-74.4199, -74.1268,-73.9308,-73.7346,-73.5368, -73.2409,-73.0434,-72.8439,-72.5435, -72.2396,-72.0379,-71.8417,-71.4601, -71.169,-70.7773,-70.6799,-70.6112, -70.6484,-70.6869,-70.7155,-70.7576, -70.7588,-70.7599,-71.3519,-71.5504, -72.0452,-72.3474,-72.5496,-72.7536, -72.9574,-73.1586,-73.3595,-73.5601, -73.7617,-73.9633,-74.1632,-74.363, -74.7548,-74.9566,-75.2573,-75.5554, -75.9511,-76.345,-76.695,-76.9282, -77.1607,-77.5081,-77.7396,-78.0868, -78.3142,-78.5467,-78.7787,-79.0081, -79.2366,-79.4643,-79.6911,-79.9173, -80.143,-80.3677,-80.5883,-80.8168, -81.0472,-81.2788,-81.3928,-81.5434)
FOOTPRINT_POINT_LONGITUDE = (141.176,139.639,138.299,136.983, 135.693,134.428,132.576,132.5,132.601, 133.524,134.111,134.667,135.19,135.686, 136.164,136.623,137.064,137.488,137.895 ,138.288,138.665,139.029,139.38,139.718 ,140.044,140.358,140.661,140.954, 141.238,141.512,141.769,142.194,142.498 ,142.885,143.252,143.428,143.685,143.85 ,144.012,144.169,144.398,144.546, 144.691,144.901,145.104,145.235,145.361 ,145.602,145.775,145.997,146.051, 146.089,146.814,147.642,148.317,149.486 ,149.519,149.53,149.337,149.267,149.086 ,148.973,148.896,148.812,148.726, 148.644,148.559,148.473,148.382,148.287 ,148.194,148.098,147.917,147.805, 147.637,147.467,147.231,146.984,146.753 ,146.592,146.427,146.169,145.986, 145.697,145.508,145.29,145.062,144.833, 144.597,144.352,144.096,143.831,143.552 ,143.262,142.977,142.654,142.303, 141.923,141.733,141.176)
ORBIT_NUMBER = 4418
ORBITAL_ECCENTRICITY = 0.571
ORBITAL_INCLINATION = 86.68
ORBITAL_SEMIMAJOR_AXIS = 8554.69
PERIAPSIS_ALTITUDE = 292.68
PERIAPSIS_ARGUMENT_ANGLE = 300.04
PERIAPSIS_TIME = 2007-06-13T18:37:51.000Z
SPACECRAFT_ORIENTATION = (0.0,1.0,0.0)
^MEX_ORIENTATION_DESC = "MEX_ORIENTATION_DESC.TXT"
SPACECRAFT_POINTING_MODE = ACROSSTRACK
^MEX_POINTING_DESC = "MEX_POINTING_DESC.TXT"
RIGHT_ASCENSION = -1e+32
DECLINATION = -1e+32
OFFSET_ANGLE = -0.25
SPACECRAFT_SOLAR_DISTANCE = 2.06759e+08
TARGET_NAME = MARS
/* CAMERA DATA ELEMENTS */
DETECTOR_TEMPERATURE = 18.5744
FOCAL_PLANE_TEMPERATURE = 8.7872
INST_CMPRS_NAME = "DISCRETE COSINE TRANSFORMATION (DCT)"
INST_CMPRS_RATIO = 28.9758
INST_CMPRS_QUALITY = 0
INST_CMPRS_QUANTZ_TBL_ID = 0
INSTRUMENT_TEMPERATURE = 11.4379
LENS_TEMPERATURE = 8.9911
MACROPIXEL_SIZE = 4
MISSING_FRAMES = 0
PIXEL_SUBSAMPLING_FLAG = N
SIGNAL_CHAIN_ID = 2
/* RADIOMETRIC DATA ELEMENTS */
BANDWIDTH = 48.0
CENTER_FILTER_WAVELENGTH = 748.0
RADIANCE_OFFSET = 1.8968
RADIANCE_SCALING_FACTOR = 0.00425962
REFLECTANCE_SCALING_FACTOR = 0.000415552
MEX:REFLECTANCE_OFFSET = 0.185045
/* IMAGE OBJECT DEFINITIONS */
OBJECT = IMAGE
  INTERCHANGE_FORMAT = BINARY
  LINES = 12851
  LINE_SAMPLES = 4007
  SAMPLE_TYPE = UNSIGNED_INTEGER
  SAMPLE_BITS = 8
  BANDS = 1
  BAND_STORAGE_TYPE = BAND_SEQUENTIAL
  MAXIMUM = 255
  MEAN = 135.479
  MINIMUM = 1
  STANDARD_DEVIATION = 42.4268
END_OBJECT = IMAGE
/* MAP OBJECT DEFINITIONS */
OBJECT = IMAGE_MAP_PROJECTION
  ^DATA_SET_MAP_PROJECTION_CATALOG= "DSMAP.CAT"
  A_AXIS_RADIUS = 3396.0
  B_AXIS_RADIUS = 3396.0
  C_AXIS_RADIUS = 3396.0
  CENTER_LATITUDE = 0.0
  CENTER_LONGITUDE = 145.0
  COORDINATE_SYSTEM_NAME = PLANETOGRAPHIC
  COORDINATE_SYSTEM_TYPE = "BODY-FIXED ROTATING"
  EASTERNMOST_LONGITUDE = 149.53
  FIRST_STANDARD_PARALLEL = "N/A"
  LINE_FIRST_PIXEL = 1
  LINE_LAST_PIXEL = 12851
  LINE_PROJECTION_OFFSET = -83698.375
  MAP_PROJECTION_ROTATION = 0.0
  MAP_PROJECTION_TYPE = SINUSOIDAL
  MAP_RESOLUTION = 1185.42760773333
  MAP_SCALE = 0.05
  MAXIMUM_LATITUDE = -70.6112
  MINIMUM_LATITUDE = -81.54340000000001
  POSITIVE_LONGITUDE_DIRECTION = EAST
  REFERENCE_LATITUDE = "N/A"
  REFERENCE_LONGITUDE = "N/A"
  SAMPLE_FIRST_PIXEL = 1
  SAMPLE_LAST_PIXEL = 4007
  SAMPLE_PROJECTION_OFFSET = 2259.375
  SECOND_STANDARD_PARALLEL = "N/A"
  WESTERNMOST_LONGITUDE = 132.5
END_OBJECT = IMAGE_MAP_PROJECTION
END
