PDS_VERSION_ID = PDS3
/* FILE DATA ELEMENTS */
RECORD_TYPE = UNDEFINED
/* POINTERS TO DATA OBJECTS */
^IMAGE = ("H4394_0000_P24.TIF")
/* IDENTIFICATION DATA ELEMENTS */
DATA_SET_ID = "MEX-M-HRSC-4-REFDR-MAPPROJECT-EXT1-V4.0"
DATA_SET_NAME = "MARS EXPRESS HRSC MAP PROJECTED REFDR EXTENSION1 V4.0"
DETECTOR_ID = MEX_HRSC_P2
EVENT_TYPE = "MARS-REGIONAL-MAPPING-Im-Fl-Gl"
INSTRUMENT_HOST_ID = MEX
INSTRUMENT_HOST_NAME = "MARS EXPRESS"
INSTRUMENT_ID = HRSC
INSTRUMENT_NAME = "HIGH RESOLUTION STEREO CAMERA"
MISSION_NAME = "MARS EXPRESS"
MISSION_PHASE_NAME = ME_Phase_7
PROCESSING_LEVEL_ID = 4
PRODUCT_CREATION_TIME = 2023-02-10T03:49:22.000Z
PRODUCT_ID = "H4394_0000_P24.TIF"
RELEASE_ID = 0006
REVISION_ID = 0000
/* QUALITY DATA ELEMENTS */
DATA_QUALITY_ID = 1
DATA_QUALITY_DESC = "Data calculated based on original SPICE kernels"
/* TIME DATA ELEMENTS */
SPACECRAFT_CLOCK_START_COUNT = "1/0129259093.07291"
SPACECRAFT_CLOCK_STOP_COUNT = "1/0129259427.22573"
START_TIME = 2007-06-07T01:18:27.135Z
STOP_TIME = 2007-06-07T01:23:03.827Z
/* ORBITAL DATA ELEMENTS */
ASCENDING_NODE_LONGITUDE = 136.32
MAXIMUM_RESOLUTION = 0.0477
FOOTPRINT_POINT_LATITUDE = (-64.3882,-64.3602,-64.3345,-64.305, -64.304,-64.2472,-63.6909,-63.3196, -62.9451,-62.3839,-62.0103,-61.6362, -61.2748,-60.9112,-60.5479,-60.0035, -59.6388,-59.2752,-58.9103,-58.544, -58.1779,-57.8106,-57.4441,-57.087, -56.7313,-56.38,-56.0254,-55.6702, -55.3153,-54.9593,-54.6035,-54.0706, -53.5365,-53.1784,-52.8188,-52.4609, -52.1047,-51.5719,-51.2166,-50.681, -50.3223,-49.9645,-49.4114,-49.0401, -48.6677,-48.2952,-47.7365,-46.992, -46.6197,-46.2478,-46.0618,-46.0082, -46.0174,-46.0277,-46.0278,-46.0285, -46.4016,-46.9608,-47.5206,-47.8941, -48.2665,-48.6406,-49.014,-49.387, -49.9432,-50.3017,-50.6614,-51.0164, -51.3691,-51.906,-52.2641,-52.801, -53.1594,-53.6986,-54.2376,-54.5944, -55.1297,-55.665,-56.0209,-56.5543, -56.9099,-57.2641,-57.6259,-58.1775, -58.5453,-58.9123,-59.2797,-59.6462, -60.0121,-60.3783,-60.7435,-61.2911, -61.655,-62.2188,-62.5942,-62.9695, -63.5322,-64.0937,-64.2806,-64.3882)
FOOTPRINT_POINT_LONGITUDE = (349.928,348.971,348.252,347.539, 347.517,347.505,347.658,347.755,347.85, 347.985,348.072,348.156,348.234,348.31, 348.384,348.49,348.558,348.625,348.689, 348.751,348.811,348.869,348.926,348.979 ,349.03,349.08,349.129,349.175,349.221, 349.265,349.308,349.37,349.43,349.467, 349.504,349.54,349.574,349.625,349.657, 349.704,349.733,349.762,349.805,349.833 ,349.859,349.885,349.922,349.968,349.99 ,350.011,350.022,350.025,350.545, 351.532,351.547,351.551,351.535,351.511 ,351.485,351.467,351.45,351.43,351.41, 351.391,351.361,351.342,351.321,351.305 ,351.291,351.26,351.238,351.204,351.179 ,351.139,351.097,351.072,351.032, 350.989,350.961,350.917,350.887,350.857 ,350.825,350.775,350.74,350.704,350.666 ,350.628,350.589,350.548,350.507, 350.442,350.399,350.326,350.279,350.229 ,350.151,350.068,350.04,349.928)
ORBIT_NUMBER = 4394
ORBITAL_ECCENTRICITY = 0.571
ORBITAL_INCLINATION = 86.69
ORBITAL_SEMIMAJOR_AXIS = 8558.73
PERIAPSIS_ALTITUDE = 292.26
PERIAPSIS_ARGUMENT_ANGLE = 304.2
PERIAPSIS_TIME = 2007-06-07T01:20:56.000Z
SPACECRAFT_ORIENTATION = (0.0,1.0,0.0)
^MEX_ORIENTATION_DESC = "MEX_ORIENTATION_DESC.TXT"
SPACECRAFT_POINTING_MODE = ACROSSTRACK
^MEX_POINTING_DESC = "MEX_POINTING_DESC.TXT"
RIGHT_ASCENSION = -1e+32
DECLINATION = -1e+32
OFFSET_ANGLE = -0.32
SPACECRAFT_SOLAR_DISTANCE = 2.06673e+08
TARGET_NAME = MARS
/* CAMERA DATA ELEMENTS */
DETECTOR_TEMPERATURE = 18.7783
FOCAL_PLANE_TEMPERATURE = 8.5833
INST_CMPRS_NAME = "DISCRETE COSINE TRANSFORMATION (DCT)"
INST_CMPRS_RATIO = 10.6999
INST_CMPRS_QUALITY = 0
INST_CMPRS_QUANTZ_TBL_ID = 0
INSTRUMENT_TEMPERATURE = 11.6418
LENS_TEMPERATURE = 9.3989
MACROPIXEL_SIZE = 4
MISSING_FRAMES = 0
PIXEL_SUBSAMPLING_FLAG = N
SIGNAL_CHAIN_ID = 3
/* RADIOMETRIC DATA ELEMENTS */
BANDWIDTH = 177.0
CENTER_FILTER_WAVELENGTH = 676.5
RADIANCE_OFFSET = 4.7536
RADIANCE_SCALING_FACTOR = 0.018393
REFLECTANCE_SCALING_FACTOR = 0.000416562
MEX:REFLECTANCE_OFFSET = 0.107659
/* IMAGE OBJECT DEFINITIONS */
OBJECT = IMAGE
  INTERCHANGE_FORMAT = BINARY
  LINES = 21745
  LINE_SAMPLES = 2561
  SAMPLE_TYPE = UNSIGNED_INTEGER
  SAMPLE_BITS = 8
  BANDS = 1
  BAND_STORAGE_TYPE = BAND_SEQUENTIAL
  MAXIMUM = 255
  MEAN = 153.27
  MINIMUM = 1
  STANDARD_DEVIATION = 43.0375
END_OBJECT = IMAGE
/* MAP OBJECT DEFINITIONS */
OBJECT = IMAGE_MAP_PROJECTION
  ^DATA_SET_MAP_PROJECTION_CATALOG= "DSMAP.CAT"
  A_AXIS_RADIUS = 3396.0
  B_AXIS_RADIUS = 3396.0
  C_AXIS_RADIUS = 3396.0
  CENTER_LATITUDE = 0.0
  CENTER_LONGITUDE = 350.0
  COORDINATE_SYSTEM_NAME = PLANETOGRAPHIC
  COORDINATE_SYSTEM_TYPE = "BODY-FIXED ROTATING"
  EASTERNMOST_LONGITUDE = 351.551
  FIRST_STANDARD_PARALLEL = "N/A"
  LINE_FIRST_PIXEL = 1
  LINE_LAST_PIXEL = 21745
  LINE_PROJECTION_OFFSET = -54513.875
  MAP_PROJECTION_ROTATION = 0.0
  MAP_PROJECTION_TYPE = SINUSOIDAL
  MAP_RESOLUTION = 1185.42760773333
  MAP_SCALE = 0.05
  MAXIMUM_LATITUDE = -46.0082
  MINIMUM_LATITUDE = -64.3882
  POSITIVE_LONGITUDE_DIRECTION = EAST
  REFERENCE_LATITUDE = "N/A"
  REFERENCE_LONGITUDE = "N/A"
  SAMPLE_FIRST_PIXEL = 1
  SAMPLE_LAST_PIXEL = 2561
  SAMPLE_PROJECTION_OFFSET = 1275.875
  SECOND_STANDARD_PARALLEL = "N/A"
  WESTERNMOST_LONGITUDE = 347.505
END_OBJECT = IMAGE_MAP_PROJECTION
END
