PDS_VERSION_ID = PDS3
/* FILE DATA ELEMENTS */
RECORD_TYPE = UNDEFINED
/* POINTERS TO DATA OBJECTS */
^IMAGE = ("H4376_0000_BL4.TIF")
/* IDENTIFICATION DATA ELEMENTS */
DATA_SET_ID = "MEX-M-HRSC-4-REFDR-MAPPROJECT-EXT1-V4.0"
DATA_SET_NAME = "MARS EXPRESS HRSC MAP PROJECTED REFDR EXTENSION1 V4.0"
DETECTOR_ID = MEX_HRSC_BLUE
EVENT_TYPE = "MARS-REGIONAL-MAPPING-Im-Fl-Eo"
INSTRUMENT_HOST_ID = MEX
INSTRUMENT_HOST_NAME = "MARS EXPRESS"
INSTRUMENT_ID = HRSC
INSTRUMENT_NAME = "HIGH RESOLUTION STEREO CAMERA"
MISSION_NAME = "MARS EXPRESS"
MISSION_PHASE_NAME = ME_Phase_7
PROCESSING_LEVEL_ID = 4
PRODUCT_CREATION_TIME = 2023-02-10T03:49:22.000Z
PRODUCT_ID = "H4376_0000_BL4.TIF"
RELEASE_ID = 0006
REVISION_ID = 0000
/* QUALITY DATA ELEMENTS */
DATA_QUALITY_ID = 1
DATA_QUALITY_DESC = "Data calculated based on original SPICE kernels"
/* TIME DATA ELEMENTS */
SPACECRAFT_CLOCK_START_COUNT = "1/0128823956.08252"
SPACECRAFT_CLOCK_STOP_COUNT = "1/0128824377.30955"
START_TIME = 2007-06-02T00:26:23.430Z
STOP_TIME = 2007-06-02T00:31:53.596Z
/* ORBITAL DATA ELEMENTS */
ASCENDING_NODE_LONGITUDE = 136.69
MAXIMUM_RESOLUTION = 0.0513
FOOTPRINT_POINT_LATITUDE = (-39.9451,-39.9181,-39.8963,-39.8957, -39.8821,-38.8476,-38.1402,-37.6066, -36.896,-36.5301,-36.1631,-35.7974, -35.4314,-35.0667,-34.7023,-34.1564, -33.7919,-33.4304,-33.0666,-32.7054, -32.3286,-31.8971,-31.4673,-31.0377, -30.6089,-30.1809,-29.7537,-29.3273, -28.9017,-28.477,-28.0531,-27.4067, -26.9737,-26.5327,-26.0902,-25.6408, -25.189,-24.731,-24.2703,-23.802, -23.0924,-22.6137,-22.1269,-21.6368, -21.1403,-20.6368,-20.1291,-19.3549, -19.0935,-19.0519,-19.0585,-19.062, -19.0625,-19.0625,-19.0637,-19.5876, -20.1021,-20.6125,-21.1173,-21.6114, -22.3492,-23.0748,-23.7862,-24.2563, -24.7177,-25.1776,-25.6302,-26.0812, -26.5245,-26.9672,-27.401,-27.8356, -28.2612,-28.8997,-29.3261,-29.7534, -30.1812,-30.6099,-31.0393,-31.685, -32.1161,-32.5338,-32.8964,-33.2596, -33.6233,-33.9872,-34.3516,-34.7152, -35.0794,-35.4447,-35.8108,-36.1775, -36.5442,-37.2676,-37.8016,-38.5143, -39.2144,-39.7333,-39.9064,-39.9451)
FOOTPRINT_POINT_LONGITUDE = (319.572,318.729,318.161,318.147, 318.096,318.15,318.186,318.208,318.235, 318.247,318.257,318.269,318.278,318.29, 318.301,318.316,318.322,318.335,318.339 ,318.35,318.356,318.362,318.37,318.376, 318.381,318.386,318.391,318.394,318.397 ,318.4,318.402,318.405,318.406,318.407, 318.407,318.405,318.404,318.402,318.399 ,318.396,318.389,318.384,318.379, 318.372,318.365,318.356,318.348,318.334 ,318.328,318.327,319.057,319.656, 320.195,320.212,320.218,320.208,320.198 ,320.187,320.177,320.168,320.151, 320.134,320.118,320.107,320.096,320.085 ,320.074,320.062,320.051,320.04,320.028 ,320.016,320.005,319.986,319.974, 319.961,319.948,319.935,319.922,319.901 ,319.887,319.873,319.86,319.848,319.835 ,319.822,319.808,319.795,319.781, 319.767,319.752,319.737,319.722,319.692 ,319.669,319.637,319.604,319.579, 319.571,319.572)
ORBIT_NUMBER = 4376
ORBITAL_ECCENTRICITY = 0.571
ORBITAL_INCLINATION = 86.7
ORBITAL_SEMIMAJOR_AXIS = 8562.59
PERIAPSIS_ALTITUDE = 292.51
PERIAPSIS_ARGUMENT_ANGLE = 307.37
PERIAPSIS_TIME = 2007-06-02T00:23:18.000Z
SPACECRAFT_ORIENTATION = (0.0,1.0,0.0)
^MEX_ORIENTATION_DESC = "MEX_ORIENTATION_DESC.TXT"
SPACECRAFT_POINTING_MODE = ACROSSTRACK
^MEX_POINTING_DESC = "MEX_POINTING_DESC.TXT"
RIGHT_ASCENSION = -1e+32
DECLINATION = -1e+32
OFFSET_ANGLE = 0.6
SPACECRAFT_SOLAR_DISTANCE = 2.06673e+08
TARGET_NAME = MARS
/* CAMERA DATA ELEMENTS */
DETECTOR_TEMPERATURE = 18.3705
FOCAL_PLANE_TEMPERATURE = 10.2145
INST_CMPRS_NAME = "DISCRETE COSINE TRANSFORMATION (DCT)"
INST_CMPRS_RATIO = 12.1191
INST_CMPRS_QUALITY = 0
INST_CMPRS_QUANTZ_TBL_ID = 0
INSTRUMENT_TEMPERATURE = 12.0496
LENS_TEMPERATURE = 10.6223
MACROPIXEL_SIZE = 4
MISSING_FRAMES = 0
PIXEL_SUBSAMPLING_FLAG = N
SIGNAL_CHAIN_ID = 2
/* RADIOMETRIC DATA ELEMENTS */
BANDWIDTH = 76.0
CENTER_FILTER_WAVELENGTH = 444.0
RADIANCE_OFFSET = 1.07761
RADIANCE_SCALING_FACTOR = 0.00131627
REFLECTANCE_SCALING_FACTOR = 5.77657e-05
MEX:REFLECTANCE_OFFSET = 0.0472918
/* IMAGE OBJECT DEFINITIONS */
OBJECT = IMAGE
  INTERCHANGE_FORMAT = BINARY
  LINES = 24754
  LINE_SAMPLES = 2214
  SAMPLE_TYPE = UNSIGNED_INTEGER
  SAMPLE_BITS = 8
  BANDS = 1
  BAND_STORAGE_TYPE = BAND_SEQUENTIAL
  MAXIMUM = 255
  MEAN = 122.726
  MINIMUM = 1
  STANDARD_DEVIATION = 20.9344
END_OBJECT = IMAGE
/* MAP OBJECT DEFINITIONS */
OBJECT = IMAGE_MAP_PROJECTION
  ^DATA_SET_MAP_PROJECTION_CATALOG= "DSMAP.CAT"
  A_AXIS_RADIUS = 3396.0
  B_AXIS_RADIUS = 3396.0
  C_AXIS_RADIUS = 3396.0
  CENTER_LATITUDE = 0.0
  CENTER_LONGITUDE = 319.0
  COORDINATE_SYSTEM_NAME = PLANETOGRAPHIC
  COORDINATE_SYSTEM_TYPE = "BODY-FIXED ROTATING"
  EASTERNMOST_LONGITUDE = 320.218
  FIRST_STANDARD_PARALLEL = "N/A"
  LINE_FIRST_PIXEL = 1
  LINE_LAST_PIXEL = 24754
  LINE_PROJECTION_OFFSET = -22595.375
  MAP_PROJECTION_ROTATION = 0.0
  MAP_PROJECTION_TYPE = SINUSOIDAL
  MAP_RESOLUTION = 1185.42760773333
  MAP_SCALE = 0.05
  MAXIMUM_LATITUDE = -19.0519
  MINIMUM_LATITUDE = -39.9451
  POSITIVE_LONGITUDE_DIRECTION = EAST
  REFERENCE_LATITUDE = "N/A"
  REFERENCE_LONGITUDE = "N/A"
  SAMPLE_FIRST_PIXEL = 1
  SAMPLE_LAST_PIXEL = 2214
  SAMPLE_PROJECTION_OFFSET = 833.625
  SECOND_STANDARD_PARALLEL = "N/A"
  WESTERNMOST_LONGITUDE = 318.096
END_OBJECT = IMAGE_MAP_PROJECTION
END
