PDS_VERSION_ID = PDS3
/* FILE DATA ELEMENTS */
RECORD_TYPE = UNDEFINED
/* POINTERS TO DATA OBJECTS */
^IMAGE = ("H4372_0000_ND4.TIF")
/* IDENTIFICATION DATA ELEMENTS */
DATA_SET_ID = "MEX-M-HRSC-4-REFDR-MAPPROJECT-EXT1-V4.0"
DATA_SET_NAME = "MARS EXPRESS HRSC MAP PROJECTED REFDR EXTENSION1 V4.0"
DETECTOR_ID = MEX_HRSC_NADIR
EVENT_TYPE = "MARS-REGIONAL-MAPPING-Vo-Im"
INSTRUMENT_HOST_ID = MEX
INSTRUMENT_HOST_NAME = "MARS EXPRESS"
INSTRUMENT_ID = HRSC
INSTRUMENT_NAME = "HIGH RESOLUTION STEREO CAMERA"
MISSION_NAME = "MARS EXPRESS"
MISSION_PHASE_NAME = ME_Phase_7
PROCESSING_LEVEL_ID = 4
PRODUCT_CREATION_TIME = 2023-02-10T03:49:22.000Z
PRODUCT_ID = "H4372_0000_ND4.TIF"
RELEASE_ID = 0006
REVISION_ID = 0000
/* QUALITY DATA ELEMENTS */
DATA_QUALITY_ID = 1
DATA_QUALITY_DESC = "Data calculated based on original SPICE kernels"
/* TIME DATA ELEMENTS */
SPACECRAFT_CLOCK_START_COUNT = "1/0128727070.09049"
SPACECRAFT_CLOCK_STOP_COUNT = "1/0128727316.32399"
START_TIME = 2007-05-31T21:31:39.880Z
STOP_TIME = 2007-05-31T21:34:45.873Z
/* ORBITAL DATA ELEMENTS */
ASCENDING_NODE_LONGITUDE = 136.77
MAXIMUM_RESOLUTION = 0.0117
FOOTPRINT_POINT_LATITUDE = (-47.194,-47.1821,-47.1713,-47.1517, -47.1512,-47.1491,-46.6903,-46.4558, -46.2214,-45.9871,-45.7528,-45.2845, -44.8163,-44.3485,-43.764,-43.2971, -42.8304,-42.5926,-42.3509,-42.1092, -41.7468,-41.5054,-41.2643,-41.0233, -40.6619,-40.4212,-40.1805,-39.8103, -39.5615,-39.3128,-39.0643,-38.816, -38.5678,-38.3198,-38.072,-37.819, -37.563,-37.3072,-37.0516,-36.7962, -36.5409,-36.286,-35.8942,-35.6313, -35.3687,-35.1063,-34.9752,-34.9645, -34.9706,-34.9785,-34.9828,-34.9869, -34.9871,-34.9874,-35.25,-35.513, -35.7761,-36.0395,-36.3006,-36.5559, -36.8115,-37.0673,-37.3232,-37.5795, -37.8359,-38.0895,-38.3378,-38.5862, -38.8348,-39.0836,-39.3325,-39.5816, -39.8308,-40.202,-40.443,-40.6841, -40.9254,-41.1669,-41.4085,-41.6501, -41.892,-42.1339,-42.3759,-42.6181, -42.8567,-43.3243,-43.7923,-44.2606, -44.7292,-44.9637,-45.1982,-45.4328, -45.6675,-45.9022,-46.137,-46.3719, -46.6068,-47.0713,-47.1845,-47.194)
FOOTPRINT_POINT_LONGITUDE = (353.149,352.673,352.299,351.708, 351.694,351.664,351.698,351.714,351.73, 351.746,351.761,351.792,351.82,351.847, 351.878,351.904,351.929,351.94,351.952, 351.963,351.976,351.987,351.998,352.01, 352.025,352.033,352.043,352.055,352.064 ,352.073,352.081,352.089,352.097, 352.104,352.112,352.119,352.126,352.133 ,352.139,352.146,352.15,352.157,352.166 ,352.171,352.177,352.182,352.184, 352.184,352.486,352.95,353.253,353.627, 353.642,353.649,353.642,353.635,353.627 ,353.62,353.612,353.605,353.597,353.589 ,353.582,353.573,353.564,353.559,353.55 ,353.54,353.532,353.524,353.515,353.506 ,353.497,353.483,353.475,353.465, 353.456,353.446,353.436,353.427,353.417 ,353.408,353.398,353.388,353.378, 353.358,353.337,353.316,353.295,353.284 ,353.273,353.261,353.249,353.238, 353.226,353.214,353.202,353.178,353.171 ,353.149)
ORBIT_NUMBER = 4372
ORBITAL_ECCENTRICITY = 0.571
ORBITAL_INCLINATION = 86.69
ORBITAL_SEMIMAJOR_AXIS = 8564.96
PERIAPSIS_ALTITUDE = 292.53
PERIAPSIS_ARGUMENT_ANGLE = 308.04
PERIAPSIS_TIME = 2007-05-31T21:30:30.000Z
SPACECRAFT_ORIENTATION = (0.0,1.0,0.0)
^MEX_ORIENTATION_DESC = "MEX_ORIENTATION_DESC.TXT"
SPACECRAFT_POINTING_MODE = NADIR
^MEX_POINTING_DESC = "MEX_POINTING_DESC.TXT"
RIGHT_ASCENSION = -1e+32
DECLINATION = -1e+32
OFFSET_ANGLE = -1e+32
SPACECRAFT_SOLAR_DISTANCE = 2.06681e+08
TARGET_NAME = MARS
/* CAMERA DATA ELEMENTS */
DETECTOR_TEMPERATURE = 18.3705
FOCAL_PLANE_TEMPERATURE = 10.6223
INST_CMPRS_NAME = "DISCRETE COSINE TRANSFORMATION (DCT)"
INST_CMPRS_RATIO = 6.38035
INST_CMPRS_QUALITY = 0
INST_CMPRS_QUANTZ_TBL_ID = 0
INSTRUMENT_TEMPERATURE = 11.6418
LENS_TEMPERATURE = 10.8262
MACROPIXEL_SIZE = 1
MISSING_FRAMES = 0
PIXEL_SUBSAMPLING_FLAG = N
SIGNAL_CHAIN_ID = 0
/* RADIOMETRIC DATA ELEMENTS */
BANDWIDTH = 177.0
CENTER_FILTER_WAVELENGTH = 677.5
RADIANCE_OFFSET = 7.21215
RADIANCE_SCALING_FACTOR = 0.0126312
REFLECTANCE_SCALING_FACTOR = 0.000286634
MEX:REFLECTANCE_OFFSET = 0.163662
/* IMAGE OBJECT DEFINITIONS */
OBJECT = IMAGE
  INTERCHANGE_FORMAT = BINARY
  LINES = 57988
  LINE_SAMPLES = 6830
  SAMPLE_TYPE = UNSIGNED_INTEGER
  SAMPLE_BITS = 8
  BANDS = 1
  BAND_STORAGE_TYPE = BAND_SEQUENTIAL
  MAXIMUM = 255
  MEAN = 108.606
  MINIMUM = 1
  STANDARD_DEVIATION = 22.226
END_OBJECT = IMAGE
/* MAP OBJECT DEFINITIONS */
OBJECT = IMAGE_MAP_PROJECTION
  ^DATA_SET_MAP_PROJECTION_CATALOG= "DSMAP.CAT"
  A_AXIS_RADIUS = 3396.0
  B_AXIS_RADIUS = 3396.0
  C_AXIS_RADIUS = 3396.0
  CENTER_LATITUDE = 0.0
  CENTER_LONGITUDE = 353.0
  COORDINATE_SYSTEM_NAME = PLANETOGRAPHIC
  COORDINATE_SYSTEM_TYPE = "BODY-FIXED ROTATING"
  EASTERNMOST_LONGITUDE = 353.649
  FIRST_STANDARD_PARALLEL = "N/A"
  LINE_FIRST_PIXEL = 1
  LINE_LAST_PIXEL = 57988
  LINE_PROJECTION_OFFSET = -165789.0
  MAP_PROJECTION_ROTATION = 0.0
  MAP_PROJECTION_TYPE = SINUSOIDAL
  MAP_RESOLUTION = 4741.71043093333
  MAP_SCALE = 0.0125
  MAXIMUM_LATITUDE = -34.9645
  MINIMUM_LATITUDE = -47.194
  POSITIVE_LONGITUDE_DIRECTION = EAST
  REFERENCE_LATITUDE = "N/A"
  REFERENCE_LONGITUDE = "N/A"
  SAMPLE_FIRST_PIXEL = 1
  SAMPLE_LAST_PIXEL = 6830
  SAMPLE_PROJECTION_OFFSET = 4307.0
  SECOND_STANDARD_PARALLEL = "N/A"
  WESTERNMOST_LONGITUDE = 351.664
END_OBJECT = IMAGE_MAP_PROJECTION
END
