PDS_VERSION_ID = PDS3
/* FILE DATA ELEMENTS */
RECORD_TYPE = UNDEFINED
/* POINTERS TO DATA OBJECTS */
^IMAGE = ("H4369_0001_ND4.TIF")
/* IDENTIFICATION DATA ELEMENTS */
DATA_SET_ID = "MEX-M-HRSC-4-REFDR-MAPPROJECT-EXT1-V4.0"
DATA_SET_NAME = "MARS EXPRESS HRSC MAP PROJECTED REFDR EXTENSION1 V4.0"
DETECTOR_ID = MEX_HRSC_NADIR
EVENT_TYPE = "MARS-REGIONAL-MAPPING-Vo-Te-Im"
INSTRUMENT_HOST_ID = MEX
INSTRUMENT_HOST_NAME = "MARS EXPRESS"
INSTRUMENT_ID = HRSC
INSTRUMENT_NAME = "HIGH RESOLUTION STEREO CAMERA"
MISSION_NAME = "MARS EXPRESS"
MISSION_PHASE_NAME = ME_Phase_7
PROCESSING_LEVEL_ID = 4
PRODUCT_CREATION_TIME = 2023-02-10T03:49:22.000Z
PRODUCT_ID = "H4369_0001_ND4.TIF"
RELEASE_ID = 0006
REVISION_ID = 0000
/* QUALITY DATA ELEMENTS */
DATA_QUALITY_ID = 1
DATA_QUALITY_DESC = "Data calculated based on original SPICE kernels"
/* TIME DATA ELEMENTS */
SPACECRAFT_CLOCK_START_COUNT = "1/0128654769.07306"
SPACECRAFT_CLOCK_STOP_COUNT = "1/0128655033.10928"
START_TIME = 2007-05-31T01:26:47.590Z
STOP_TIME = 2007-05-31T01:29:38.558Z
/* ORBITAL DATA ELEMENTS */
ASCENDING_NODE_LONGITUDE = 136.83
MAXIMUM_RESOLUTION = 0.0156
FOOTPRINT_POINT_LATITUDE = (-28.4649,-28.4635,-28.4619,-28.4581, -28.4552,-28.4517,-28.4515,-28.4511, -28.0697,-27.6891,-27.3092,-26.9301, -26.5423,-25.961,-25.6642,-25.4661, -25.2682,-25.0706,-24.7684,-24.5663, -24.3644,-24.1627,-23.9574,-23.7512, -23.5452,-23.3395,-23.1305,-22.9204, -22.7105,-22.5009,-22.1806,-21.9667, -21.7532,-21.4277,-21.21,-20.9926, -20.6613,-20.4397,-20.2185,-19.9936, -19.7681,-19.5431,-19.3155,-19.0863, -18.8574,-18.626,-18.3931,-18.1606, -18.0431,-18.0351,-18.0351,-18.0345, -18.0333,-18.0315,-18.0301,-18.0278, -18.0276,-18.0279,-18.3788,-18.6123, -18.8444,-19.0738,-19.3035,-19.5318, -19.7574,-19.9833,-20.209,-20.4307, -20.6527,-20.9848,-21.2027,-21.4209, -21.7472,-21.9612,-22.1755,-22.4967, -22.7067,-22.917,-23.1275,-23.3371, -23.5431,-23.7495,-23.9561,-24.162, -24.3641,-24.5664,-24.7689,-25.0717, -25.2697,-25.468,-25.6665,-25.964, -26.5463,-26.9348,-27.3146,-27.6952, -28.0764,-28.3629,-28.4584,-28.4649)
FOOTPRINT_POINT_LONGITUDE = (288.498,288.164,287.921,287.494, 287.235,286.975,286.96,286.951,286.951, 286.95,286.949,286.948,286.946,286.943, 286.941,286.939,286.938,286.936,286.933 ,286.931,286.929,286.925,286.924, 286.922,286.919,286.916,286.913,286.909 ,286.906,286.903,286.898,286.895, 286.891,286.886,286.882,286.878,286.872 ,286.867,286.863,286.858,286.853, 286.849,286.844,286.838,286.833,286.828 ,286.822,286.816,286.813,286.813, 287.148,287.483,287.836,288.17,288.393, 288.671,288.689,288.698,288.693,288.689 ,288.685,288.681,288.677,288.673, 288.669,288.665,288.661,288.657,288.653 ,288.648,288.644,288.64,288.634,288.63, 288.626,288.62,288.616,288.612,288.608, 288.604,288.601,288.596,288.592,288.588 ,288.584,288.58,288.576,288.57,288.566, 288.562,288.558,288.552,288.54,288.533, 288.525,288.516,288.507,288.501,288.499 ,288.498)
ORBIT_NUMBER = 4369
ORBITAL_ECCENTRICITY = 0.571
ORBITAL_INCLINATION = 86.68
ORBITAL_SEMIMAJOR_AXIS = 8566.95
PERIAPSIS_ALTITUDE = 292.46
PERIAPSIS_ARGUMENT_ANGLE = 308.59
PERIAPSIS_TIME = 2007-05-31T01:20:58.000Z
SPACECRAFT_ORIENTATION = (0.0,1.0,0.0)
^MEX_ORIENTATION_DESC = "MEX_ORIENTATION_DESC.TXT"
SPACECRAFT_POINTING_MODE = ACROSSTRACK
^MEX_POINTING_DESC = "MEX_POINTING_DESC.TXT"
RIGHT_ASCENSION = -1e+32
DECLINATION = -1e+32
OFFSET_ANGLE = 0.1
SPACECRAFT_SOLAR_DISTANCE = 2.06688e+08
TARGET_NAME = MARS
/* CAMERA DATA ELEMENTS */
DETECTOR_TEMPERATURE = 20.4095
FOCAL_PLANE_TEMPERATURE = 10.4184
INST_CMPRS_NAME = "DISCRETE COSINE TRANSFORMATION (DCT)"
INST_CMPRS_RATIO = 5.99092
INST_CMPRS_QUALITY = 0
INST_CMPRS_QUANTZ_TBL_ID = 0
INSTRUMENT_TEMPERATURE = 14.7003
LENS_TEMPERATURE = 10.8262
MACROPIXEL_SIZE = 1
MISSING_FRAMES = 0
PIXEL_SUBSAMPLING_FLAG = N
SIGNAL_CHAIN_ID = 0
/* RADIOMETRIC DATA ELEMENTS */
BANDWIDTH = 177.0
CENTER_FILTER_WAVELENGTH = 677.5
RADIANCE_OFFSET = 5.62918
RADIANCE_SCALING_FACTOR = 0.0164865
REFLECTANCE_SCALING_FACTOR = 0.000374148
MEX:REFLECTANCE_OFFSET = 0.127749
/* IMAGE OBJECT DEFINITIONS */
OBJECT = IMAGE
  INTERCHANGE_FORMAT = BINARY
  LINES = 49492
  LINE_SAMPLES = 8501
  SAMPLE_TYPE = UNSIGNED_INTEGER
  SAMPLE_BITS = 8
  BANDS = 1
  BAND_STORAGE_TYPE = BAND_SEQUENTIAL
  MAXIMUM = 255
  MEAN = 125.569
  MINIMUM = 1
  STANDARD_DEVIATION = 31.0514
END_OBJECT = IMAGE
/* MAP OBJECT DEFINITIONS */
OBJECT = IMAGE_MAP_PROJECTION
  ^DATA_SET_MAP_PROJECTION_CATALOG= "DSMAP.CAT"
  A_AXIS_RADIUS = 3396.0
  B_AXIS_RADIUS = 3396.0
  C_AXIS_RADIUS = 3396.0
  CENTER_LATITUDE = 0.0
  CENTER_LONGITUDE = 288.0
  COORDINATE_SYSTEM_NAME = PLANETOGRAPHIC
  COORDINATE_SYSTEM_TYPE = "BODY-FIXED ROTATING"
  EASTERNMOST_LONGITUDE = 288.698
  FIRST_STANDARD_PARALLEL = "N/A"
  LINE_FIRST_PIXEL = 1
  LINE_LAST_PIXEL = 49492
  LINE_PROJECTION_OFFSET = -85474.0
  MAP_PROJECTION_ROTATION = 0.0
  MAP_PROJECTION_TYPE = SINUSOIDAL
  MAP_RESOLUTION = 4741.71043093333
  MAP_SCALE = 0.0125
  MAXIMUM_LATITUDE = -18.0276
  MINIMUM_LATITUDE = -28.4649
  POSITIVE_LONGITUDE_DIRECTION = EAST
  REFERENCE_LATITUDE = "N/A"
  REFERENCE_LONGITUDE = "N/A"
  SAMPLE_FIRST_PIXEL = 1
  SAMPLE_LAST_PIXEL = 8501
  SAMPLE_PROJECTION_OFFSET = 5348.0
  SECOND_STANDARD_PARALLEL = "N/A"
  WESTERNMOST_LONGITUDE = 286.813
END_OBJECT = IMAGE_MAP_PROJECTION
END
