PDS_VERSION_ID = PDS3
/* FILE DATA ELEMENTS */
RECORD_TYPE = UNDEFINED
/* POINTERS TO DATA OBJECTS */
^IMAGE = ("H4367_0000_P14.TIF")
/* IDENTIFICATION DATA ELEMENTS */
DATA_SET_ID = "MEX-M-HRSC-4-REFDR-MAPPROJECT-EXT1-V4.0"
DATA_SET_NAME = "MARS EXPRESS HRSC MAP PROJECTED REFDR EXTENSION1 V4.0"
DETECTOR_ID = MEX_HRSC_P1
EVENT_TYPE = "MARS-REGIONAL-MAPPING-Vo-Te-Im"
INSTRUMENT_HOST_ID = MEX
INSTRUMENT_HOST_NAME = "MARS EXPRESS"
INSTRUMENT_ID = HRSC
INSTRUMENT_NAME = "HIGH RESOLUTION STEREO CAMERA"
MISSION_NAME = "MARS EXPRESS"
MISSION_PHASE_NAME = ME_Phase_7
PROCESSING_LEVEL_ID = 4
PRODUCT_CREATION_TIME = 2023-02-10T03:49:22.000Z
PRODUCT_ID = "H4367_0000_P14.TIF"
RELEASE_ID = 0006
REVISION_ID = 0000
/* QUALITY DATA ELEMENTS */
DATA_QUALITY_ID = 1
DATA_QUALITY_DESC = "Data calculated based on original SPICE kernels"
/* TIME DATA ELEMENTS */
SPACECRAFT_CLOCK_START_COUNT = "1/0128606121.07308"
SPACECRAFT_CLOCK_STOP_COUNT = "1/0128606437.47617"
START_TIME = 2007-05-30T11:56:08.512Z
STOP_TIME = 2007-05-30T12:00:26.246Z
/* ORBITAL DATA ELEMENTS */
ASCENDING_NODE_LONGITUDE = 136.87
MAXIMUM_RESOLUTION = 0.0488
FOOTPRINT_POINT_LATITUDE = (-45.5112,-45.4932,-45.4702,-45.4698, -45.499,-45.0373,-44.5773,-44.2676, -43.657,-43.0465,-42.5717,-42.0987, -41.7835,-41.4671,-41.1515,-40.6842, -40.2064,-39.882,-39.5578,-39.2314, -38.7483,-38.4261,-37.9291,-37.597, -37.1001,-36.7696,-36.4334,-35.9213, -35.5803,-35.0729,-34.7341,-34.2276, -33.8899,-33.3879,-33.0528,-32.5527, -32.2192,-31.8839,-31.554,-31.2249, -30.8948,-30.4024,-30.0737,-29.7463, -29.4195,-29.2564,-29.2004,-29.2088, -29.2131,-29.2151,-29.2152,-29.216, -29.543,-29.8709,-30.1994,-30.5285, -30.8582,-31.3524,-31.691,-32.024, -32.3515,-32.6848,-33.0196,-33.3549, -33.6908,-34.0272,-34.3641,-34.8676, -35.2073,-35.5483,-35.8907,-36.2314, -36.7408,-37.0719,-37.4035,-37.7355, -38.0684,-38.4016,-38.7237,-39.0469, -39.3701,-39.6939,-40.0184,-40.3437, -40.6623,-40.9762,-41.297,-41.606, -41.9219,-42.2405,-42.7158,-43.0317, -43.3376,-43.6447,-44.1049,-44.717, -45.026,-45.3325,-45.4854,-45.5112)
FOOTPRINT_POINT_LONGITUDE = (124.778,124.093,123.357,123.344, 123.323,123.35,123.376,123.395,123.426, 123.455,123.478,123.498,123.512,123.525 ,123.538,123.554,123.571,123.582, 123.593,123.605,123.619,123.629,123.642 ,123.65,123.662,123.67,123.677,123.688, 123.695,123.703,123.708,123.716,123.721 ,123.726,123.729,123.733,123.736,123.74 ,123.741,123.741,123.743,123.743, 123.744,123.744,123.744,123.743,123.743 ,124.479,124.951,125.307,125.321, 125.326,125.319,125.312,125.304,125.296 ,125.289,125.275,125.272,125.264, 125.252,125.243,125.235,125.227,125.218 ,125.209,125.2,125.183,125.175,125.166, 125.158,125.148,125.133,125.123,125.113 ,125.102,125.092,125.081,125.07,125.06, 125.049,125.037,125.026,125.015,125.003 ,124.992,124.984,124.968,124.956, 124.945,124.926,124.913,124.899,124.886 ,124.867,124.838,124.825,124.809, 124.801,124.778)
ORBIT_NUMBER = 4367
ORBITAL_ECCENTRICITY = 0.571
ORBITAL_INCLINATION = 86.68
ORBITAL_SEMIMAJOR_AXIS = 8570.04
PERIAPSIS_ALTITUDE = 292.46
PERIAPSIS_ARGUMENT_ANGLE = 308.92
PERIAPSIS_TIME = 2007-05-30T11:54:30.000Z
SPACECRAFT_ORIENTATION = (0.0,1.0,0.0)
^MEX_ORIENTATION_DESC = "MEX_ORIENTATION_DESC.TXT"
SPACECRAFT_POINTING_MODE = ACROSSTRACK
^MEX_POINTING_DESC = "MEX_POINTING_DESC.TXT"
RIGHT_ASCENSION = -1e+32
DECLINATION = -1e+32
OFFSET_ANGLE = -0.1
SPACECRAFT_SOLAR_DISTANCE = 2.06694e+08
TARGET_NAME = MARS
/* CAMERA DATA ELEMENTS */
DETECTOR_TEMPERATURE = 17.7588
FOCAL_PLANE_TEMPERATURE = 9.6028
INST_CMPRS_NAME = "DISCRETE COSINE TRANSFORMATION (DCT)"
INST_CMPRS_RATIO = 11.5615
INST_CMPRS_QUALITY = 0
INST_CMPRS_QUANTZ_TBL_ID = 0
INSTRUMENT_TEMPERATURE = 10.2145
LENS_TEMPERATURE = 10.0106
MACROPIXEL_SIZE = 4
MISSING_FRAMES = 0
PIXEL_SUBSAMPLING_FLAG = N
SIGNAL_CHAIN_ID = 3
/* RADIOMETRIC DATA ELEMENTS */
BANDWIDTH = 174.0
CENTER_FILTER_WAVELENGTH = 675.0
RADIANCE_OFFSET = 7.17753
RADIANCE_SCALING_FACTOR = 0.0210532
REFLECTANCE_SCALING_FACTOR = 0.00048379
MEX:REFLECTANCE_OFFSET = 0.164936
/* IMAGE OBJECT DEFINITIONS */
OBJECT = IMAGE
  INTERCHANGE_FORMAT = BINARY
  LINES = 19380
  LINE_SAMPLES = 1903
  SAMPLE_TYPE = UNSIGNED_INTEGER
  SAMPLE_BITS = 8
  BANDS = 1
  BAND_STORAGE_TYPE = BAND_SEQUENTIAL
  MAXIMUM = 255
  MEAN = 120.486
  MINIMUM = 1
  STANDARD_DEVIATION = 44.8732
END_OBJECT = IMAGE
/* MAP OBJECT DEFINITIONS */
OBJECT = IMAGE_MAP_PROJECTION
  ^DATA_SET_MAP_PROJECTION_CATALOG= "DSMAP.CAT"
  A_AXIS_RADIUS = 3396.0
  B_AXIS_RADIUS = 3396.0
  C_AXIS_RADIUS = 3396.0
  CENTER_LATITUDE = 0.0
  CENTER_LONGITUDE = 124.0
  COORDINATE_SYSTEM_NAME = PLANETOGRAPHIC
  COORDINATE_SYSTEM_TYPE = "BODY-FIXED ROTATING"
  EASTERNMOST_LONGITUDE = 125.326
  FIRST_STANDARD_PARALLEL = "N/A"
  LINE_FIRST_PIXEL = 1
  LINE_LAST_PIXEL = 19380
  LINE_PROJECTION_OFFSET = -34612.125
  MAP_PROJECTION_ROTATION = 0.0
  MAP_PROJECTION_TYPE = SINUSOIDAL
  MAP_RESOLUTION = 1185.42760773333
  MAP_SCALE = 0.05
  MAXIMUM_LATITUDE = -29.2004
  MINIMUM_LATITUDE = -45.5112
  POSITIVE_LONGITUDE_DIRECTION = EAST
  REFERENCE_LATITUDE = "N/A"
  REFERENCE_LONGITUDE = "N/A"
  SAMPLE_FIRST_PIXEL = 1
  SAMPLE_LAST_PIXEL = 1903
  SAMPLE_PROJECTION_OFFSET = 560.625
  SECOND_STANDARD_PARALLEL = "N/A"
  WESTERNMOST_LONGITUDE = 123.323
END_OBJECT = IMAGE_MAP_PROJECTION
END
