PDS_VERSION_ID = PDS3
/* FILE DATA ELEMENTS */
RECORD_TYPE = UNDEFINED
/* POINTERS TO DATA OBJECTS */
^IMAGE = ("H4367_0000_GR4.TIF")
/* IDENTIFICATION DATA ELEMENTS */
DATA_SET_ID = "MEX-M-HRSC-4-REFDR-MAPPROJECT-EXT1-V4.0"
DATA_SET_NAME = "MARS EXPRESS HRSC MAP PROJECTED REFDR EXTENSION1 V4.0"
DETECTOR_ID = MEX_HRSC_GREEN
EVENT_TYPE = "MARS-REGIONAL-MAPPING-Vo-Te-Im"
INSTRUMENT_HOST_ID = MEX
INSTRUMENT_HOST_NAME = "MARS EXPRESS"
INSTRUMENT_ID = HRSC
INSTRUMENT_NAME = "HIGH RESOLUTION STEREO CAMERA"
MISSION_NAME = "MARS EXPRESS"
MISSION_PHASE_NAME = ME_Phase_7
PROCESSING_LEVEL_ID = 4
PRODUCT_CREATION_TIME = 2023-02-10T03:49:22.000Z
PRODUCT_ID = "H4367_0000_GR4.TIF"
RELEASE_ID = 0006
REVISION_ID = 0000
/* QUALITY DATA ELEMENTS */
DATA_QUALITY_ID = 1
DATA_QUALITY_DESC = "Data calculated based on original SPICE kernels"
/* TIME DATA ELEMENTS */
SPACECRAFT_CLOCK_START_COUNT = "1/0128606121.07308"
SPACECRAFT_CLOCK_STOP_COUNT = "1/0128606437.47617"
START_TIME = 2007-05-30T11:55:55.511Z
STOP_TIME = 2007-05-30T12:00:08.237Z
/* ORBITAL DATA ELEMENTS */
ASCENDING_NODE_LONGITUDE = 136.87
MAXIMUM_RESOLUTION = 0.0943
FOOTPRINT_POINT_LATITUDE = (-45.5479,-45.5308,-45.5093,-45.5089, -45.5139,-45.0529,-44.5925,-44.2852, -43.5192,-42.9071,-42.2957,-41.9834, -41.6667,-41.3503,-40.8762,-40.5614, -40.246,-39.9309,-39.6159,-39.1295, -38.8042,-38.4792,-38.1545,-37.8302, -37.5066,-37.0063,-36.6721,-36.3382, -36.0048,-35.4994,-35.156,-34.8127, -34.4707,-34.1279,-33.7864,-33.4454, -32.9347,-32.595,-32.2557,-31.7472, -31.4097,-31.0725,-30.7359,-30.3997, -30.0639,-29.7288,-29.3943,-29.2272, -29.1975,-29.2053,-29.2093,-29.2112, -29.2112,-29.2129,-29.5477,-29.883, -30.2189,-30.5554,-30.8924,-31.2298, -31.5682,-31.9082,-32.2464,-32.5856, -32.9261,-33.2669,-33.6082,-33.95, -34.4636,-34.8058,-35.1495,-35.4936, -35.834,-36.1677,-36.502,-36.8364, -37.1714,-37.5054,-37.8298,-38.1547, -38.4799,-38.8053,-39.1311,-39.6186, -39.9339,-40.2496,-40.7236,-41.0396, -41.3577,-41.6727,-41.99,-42.6108, -43.2229,-43.8368,-44.144,-44.6047, -44.9125,-45.3733,-45.5273,-45.5479)
FOOTPRINT_POINT_LONGITUDE = (124.768,124.075,123.373,123.36,123.337 ,123.365,123.392,123.41,123.45,123.48, 123.508,123.522,123.535,123.549,123.568 ,123.578,123.59,123.601,123.612,123.629 ,123.639,123.648,123.658,123.667, 123.674,123.687,123.695,123.702,123.709 ,123.72,123.726,123.733,123.737,123.743 ,123.748,123.752,123.758,123.761, 123.764,123.769,123.771,123.772,123.773 ,123.774,123.775,123.776,123.776, 123.776,123.776,124.431,124.917,125.276 ,125.29,125.3,125.293,125.286,125.279, 125.271,125.264,125.256,125.248,125.244 ,125.233,125.224,125.216,125.208,125.2, 125.191,125.177,125.166,125.158,125.149 ,125.142,125.132,125.123,125.113, 125.103,125.093,125.084,125.074,125.064 ,125.053,125.042,125.026,125.015, 125.005,124.988,124.976,124.969,124.952 ,124.941,124.919,124.892,124.868, 124.855,124.834,124.821,124.797,124.791 ,124.768)
ORBIT_NUMBER = 4367
ORBITAL_ECCENTRICITY = 0.571
ORBITAL_INCLINATION = 86.68
ORBITAL_SEMIMAJOR_AXIS = 8570.04
PERIAPSIS_ALTITUDE = 292.46
PERIAPSIS_ARGUMENT_ANGLE = 308.92
PERIAPSIS_TIME = 2007-05-30T11:54:30.000Z
SPACECRAFT_ORIENTATION = (0.0,1.0,0.0)
^MEX_ORIENTATION_DESC = "MEX_ORIENTATION_DESC.TXT"
SPACECRAFT_POINTING_MODE = ACROSSTRACK
^MEX_POINTING_DESC = "MEX_POINTING_DESC.TXT"
RIGHT_ASCENSION = -1e+32
DECLINATION = -1e+32
OFFSET_ANGLE = -0.1
SPACECRAFT_SOLAR_DISTANCE = 2.06694e+08
TARGET_NAME = MARS
/* CAMERA DATA ELEMENTS */
DETECTOR_TEMPERATURE = 18.5744
FOCAL_PLANE_TEMPERATURE = 9.6028
INST_CMPRS_NAME = "DISCRETE COSINE TRANSFORMATION (DCT)"
INST_CMPRS_RATIO = 15.942
INST_CMPRS_QUALITY = 0
INST_CMPRS_QUANTZ_TBL_ID = 0
INSTRUMENT_TEMPERATURE = 10.2145
LENS_TEMPERATURE = 10.0106
MACROPIXEL_SIZE = 8
MISSING_FRAMES = 0
PIXEL_SUBSAMPLING_FLAG = N
SIGNAL_CHAIN_ID = 2
/* RADIOMETRIC DATA ELEMENTS */
BANDWIDTH = 88.0
CENTER_FILTER_WAVELENGTH = 538.0
RADIANCE_OFFSET = 2.69694
RADIANCE_SCALING_FACTOR = 0.00409931
REFLECTANCE_SCALING_FACTOR = 0.000150784
MEX:REFLECTANCE_OFFSET = 0.0992009
/* IMAGE OBJECT DEFINITIONS */
OBJECT = IMAGE
  INTERCHANGE_FORMAT = BINARY
  LINES = 9690
  LINE_SAMPLES = 952
  SAMPLE_TYPE = UNSIGNED_INTEGER
  SAMPLE_BITS = 8
  BANDS = 1
  BAND_STORAGE_TYPE = BAND_SEQUENTIAL
  MAXIMUM = 255
  MEAN = 132.785
  MINIMUM = 2
  STANDARD_DEVIATION = 29.7466
END_OBJECT = IMAGE
/* MAP OBJECT DEFINITIONS */
OBJECT = IMAGE_MAP_PROJECTION
  ^DATA_SET_MAP_PROJECTION_CATALOG= "DSMAP.CAT"
  A_AXIS_RADIUS = 3396.0
  B_AXIS_RADIUS = 3396.0
  C_AXIS_RADIUS = 3396.0
  CENTER_LATITUDE = 0.0
  CENTER_LONGITUDE = 124.0
  COORDINATE_SYSTEM_NAME = PLANETOGRAPHIC
  COORDINATE_SYSTEM_TYPE = "BODY-FIXED ROTATING"
  EASTERNMOST_LONGITUDE = 125.3
  FIRST_STANDARD_PARALLEL = "N/A"
  LINE_FIRST_PIXEL = 1
  LINE_LAST_PIXEL = 9690
  LINE_PROJECTION_OFFSET = -17306.3125
  MAP_PROJECTION_ROTATION = 0.0
  MAP_PROJECTION_TYPE = SINUSOIDAL
  MAP_RESOLUTION = 592.713803866667
  MAP_SCALE = 0.1
  MAXIMUM_LATITUDE = -29.1975
  MINIMUM_LATITUDE = -45.5479
  POSITIVE_LONGITUDE_DIRECTION = EAST
  REFERENCE_LATITUDE = "N/A"
  REFERENCE_LONGITUDE = "N/A"
  SAMPLE_FIRST_PIXEL = 1
  SAMPLE_LAST_PIXEL = 952
  SAMPLE_PROJECTION_OFFSET = 280.0625
  SECOND_STANDARD_PARALLEL = "N/A"
  WESTERNMOST_LONGITUDE = 123.337
END_OBJECT = IMAGE_MAP_PROJECTION
END
