PDS_VERSION_ID = PDS3
/* FILE DATA ELEMENTS */
RECORD_TYPE = UNDEFINED
/* POINTERS TO DATA OBJECTS */
^IMAGE = ("H4365_0001_ND4.TIF")
/* IDENTIFICATION DATA ELEMENTS */
DATA_SET_ID = "MEX-M-HRSC-4-REFDR-MAPPROJECT-EXT1-V4.0"
DATA_SET_NAME = "MARS EXPRESS HRSC MAP PROJECTED REFDR EXTENSION1 V4.0"
DETECTOR_ID = MEX_HRSC_NADIR
EVENT_TYPE = "MARS-REGIONAL-MAPPING-Fl-Eo"
INSTRUMENT_HOST_ID = MEX
INSTRUMENT_HOST_NAME = "MARS EXPRESS"
INSTRUMENT_ID = HRSC
INSTRUMENT_NAME = "HIGH RESOLUTION STEREO CAMERA"
MISSION_NAME = "MARS EXPRESS"
MISSION_PHASE_NAME = ME_Phase_7
PROCESSING_LEVEL_ID = 4
PRODUCT_CREATION_TIME = 2023-02-10T03:49:22.000Z
PRODUCT_ID = "H4365_0001_ND4.TIF"
RELEASE_ID = 0006
REVISION_ID = 0000
/* QUALITY DATA ELEMENTS */
DATA_QUALITY_ID = 1
DATA_QUALITY_DESC = "Data calculated based on original SPICE kernels"
/* TIME DATA ELEMENTS */
SPACECRAFT_CLOCK_START_COUNT = "1/0128557814.09058"
SPACECRAFT_CLOCK_STOP_COUNT = "1/0128558112.30313"
START_TIME = 2007-05-29T22:30:45.374Z
STOP_TIME = 2007-05-29T22:34:32.380Z
/* ORBITAL DATA ELEMENTS */
ASCENDING_NODE_LONGITUDE = 136.92
MAXIMUM_RESOLUTION = 0.0125
FOOTPRINT_POINT_LATITUDE = (-40.0042,-39.9939,-39.9818,-39.9659, -39.9654,-39.9624,-39.3315,-38.6824, -38.1612,-37.6407,-37.1209,-36.5858, -36.3176,-36.0497,-35.782,-35.2474, -34.972,-34.6964,-34.4211,-34.1459, -33.871,-33.5964,-33.322,-33.0479, -32.774,-32.5003,-32.2273,-31.9543, -31.6817,-31.4093,-31.1373,-30.8655, -30.5486,-30.2252,-29.9022,-29.5797, -29.2576,-28.936,-28.615,-28.2944, -27.9743,-27.6548,-27.3357,-26.8961, -26.4196,-25.9335,-25.6087,-25.4466, -25.436,-25.4417,-25.4474,-25.4499, -25.45,-25.4503,-25.7753,-26.1009, -26.4253,-26.9027,-27.3432,-27.6628, -27.9829,-28.3036,-28.6247,-28.9464, -29.2685,-29.5911,-29.9142,-30.2377, -30.5617,-30.8809,-31.1531,-31.4255, -31.6984,-31.9715,-32.2449,-32.5186, -32.7926,-33.0669,-33.3414,-33.6162, -33.8913,-34.1667,-34.4424,-34.7183, -34.9944,-35.2705,-35.5382,-35.8062, -36.0744,-36.3429,-36.6115,-36.8804, -37.1479,-37.6687,-38.3206,-38.8429, -39.3629,-39.8686,-39.9951,-40.0042)
FOOTPRINT_POINT_LONGITUDE = (320.751,320.316,319.875,319.371, 319.357,319.304,319.334,319.363,319.387 ,319.409,319.429,319.447,319.456, 319.466,319.474,319.495,319.504,319.512 ,319.523,319.53,319.537,319.543,319.548 ,319.554,319.558,319.56,319.569,319.573 ,319.577,319.582,319.586,319.587, 319.594,319.597,319.601,319.604,319.606 ,319.609,319.611,319.613,319.615, 319.616,319.617,319.618,319.619,319.619 ,319.618,319.618,319.618,320.071,320.71 ,321.215,321.23,321.238,321.23,321.222, 321.214,321.202,321.191,321.183,321.174 ,321.166,321.157,321.148,321.139,321.13 ,321.121,321.112,321.102,321.093, 321.085,321.076,321.068,321.059,321.051 ,321.042,321.033,321.024,321.015, 321.006,320.996,320.987,320.977,320.967 ,320.957,320.947,320.938,320.927, 320.917,320.907,320.896,320.886,320.875 ,320.854,320.827,320.804,320.781, 320.758,320.752,320.751)
ORBIT_NUMBER = 4365
ORBITAL_ECCENTRICITY = 0.571
ORBITAL_INCLINATION = 86.7
ORBITAL_SEMIMAJOR_AXIS = 8565.62
PERIAPSIS_ALTITUDE = 292.68
PERIAPSIS_ARGUMENT_ANGLE = 309.29
PERIAPSIS_TIME = 2007-05-29T22:28:06.000Z
SPACECRAFT_ORIENTATION = (0.0,1.0,0.0)
^MEX_ORIENTATION_DESC = "MEX_ORIENTATION_DESC.TXT"
SPACECRAFT_POINTING_MODE = ACROSSTRACK
^MEX_POINTING_DESC = "MEX_POINTING_DESC.TXT"
RIGHT_ASCENSION = -1e+32
DECLINATION = -1e+32
OFFSET_ANGLE = 0.52
SPACECRAFT_SOLAR_DISTANCE = 2.067e+08
TARGET_NAME = MARS
/* CAMERA DATA ELEMENTS */
DETECTOR_TEMPERATURE = 19.39
FOCAL_PLANE_TEMPERATURE = 9.8067
INST_CMPRS_NAME = "DISCRETE COSINE TRANSFORMATION (DCT)"
INST_CMPRS_RATIO = 6.73501
INST_CMPRS_QUALITY = 0
INST_CMPRS_QUANTZ_TBL_ID = 0
INSTRUMENT_TEMPERATURE = 14.2925
LENS_TEMPERATURE = 10.2145
MACROPIXEL_SIZE = 1
PIXEL_SUBSAMPLING_FLAG = N
SIGNAL_CHAIN_ID = 0
/* RADIOMETRIC DATA ELEMENTS */
BANDWIDTH = 177.0
CENTER_FILTER_WAVELENGTH = 677.5
RADIANCE_OFFSET = 5.60166
RADIANCE_SCALING_FACTOR = 0.0151025
REFLECTANCE_SCALING_FACTOR = 0.000342779
MEX:REFLECTANCE_OFFSET = 0.12714
/* IMAGE OBJECT DEFINITIONS */
OBJECT = IMAGE
  INTERCHANGE_FORMAT = BINARY
  LINES = 69075
  LINE_SAMPLES = 7828
  SAMPLE_TYPE = UNSIGNED_INTEGER
  SAMPLE_BITS = 8
  BANDS = 1
  BAND_STORAGE_TYPE = BAND_SEQUENTIAL
  MAXIMUM = 255
  MEAN = 107.971
  MINIMUM = 1
  STANDARD_DEVIATION = 41.9879
END_OBJECT = IMAGE
/* MAP OBJECT DEFINITIONS */
OBJECT = IMAGE_MAP_PROJECTION
  ^DATA_SET_MAP_PROJECTION_CATALOG= "DSMAP.CAT"
  A_AXIS_RADIUS = 3396.0
  B_AXIS_RADIUS = 3396.0
  C_AXIS_RADIUS = 3396.0
  CENTER_LATITUDE = 0.0
  CENTER_LONGITUDE = 320.0
  COORDINATE_SYSTEM_NAME = PLANETOGRAPHIC
  COORDINATE_SYSTEM_TYPE = "BODY-FIXED ROTATING"
  EASTERNMOST_LONGITUDE = 321.238
  FIRST_STANDARD_PARALLEL = "N/A"
  LINE_FIRST_PIXEL = 1
  LINE_LAST_PIXEL = 69075
  LINE_PROJECTION_OFFSET = -120609.0
  MAP_PROJECTION_ROTATION = 0.0
  MAP_PROJECTION_TYPE = SINUSOIDAL
  MAP_RESOLUTION = 4741.71043093333
  MAP_SCALE = 0.0125
  MAXIMUM_LATITUDE = -25.436
  MINIMUM_LATITUDE = -40.0042
  POSITIVE_LONGITUDE_DIRECTION = EAST
  REFERENCE_LATITUDE = "N/A"
  REFERENCE_LONGITUDE = "N/A"
  SAMPLE_FIRST_PIXEL = 1
  SAMPLE_LAST_PIXEL = 7828
  SAMPLE_PROJECTION_OFFSET = 2524.0
  SECOND_STANDARD_PARALLEL = "N/A"
  WESTERNMOST_LONGITUDE = 319.304
END_OBJECT = IMAGE_MAP_PROJECTION
END
