PDS_VERSION_ID = PDS3
/* FILE DATA ELEMENTS */
RECORD_TYPE = UNDEFINED
/* POINTERS TO DATA OBJECTS */
^IMAGE = ("H4365_0000_RE4.TIF")
/* IDENTIFICATION DATA ELEMENTS */
DATA_SET_ID = "MEX-M-HRSC-4-REFDR-MAPPROJECT-EXT1-V4.0"
DATA_SET_NAME = "MARS EXPRESS HRSC MAP PROJECTED REFDR EXTENSION1 V4.0"
DETECTOR_ID = MEX_HRSC_RED
EVENT_TYPE = "MARS-REGIONAL-MAPPING-Gl-La"
INSTRUMENT_HOST_ID = MEX
INSTRUMENT_HOST_NAME = "MARS EXPRESS"
INSTRUMENT_ID = HRSC
INSTRUMENT_NAME = "HIGH RESOLUTION STEREO CAMERA"
MISSION_NAME = "MARS EXPRESS"
MISSION_PHASE_NAME = ME_Phase_7
PROCESSING_LEVEL_ID = 4
PRODUCT_CREATION_TIME = 2023-02-10T03:49:22.000Z
PRODUCT_ID = "H4365_0000_RE4.TIF"
RELEASE_ID = 0006
REVISION_ID = 0000
/* QUALITY DATA ELEMENTS */
DATA_QUALITY_ID = 1
DATA_QUALITY_DESC = "Data calculated based on original SPICE kernels"
/* TIME DATA ELEMENTS */
SPACECRAFT_CLOCK_START_COUNT = "1/0128557078.09057"
SPACECRAFT_CLOCK_STOP_COUNT = "1/0128557360.59143"
START_TIME = 2007-05-29T22:18:14.291Z
STOP_TIME = 2007-05-29T22:21:31.988Z
/* ORBITAL DATA ELEMENTS */
ASCENDING_NODE_LONGITUDE = 136.92
MAXIMUM_RESOLUTION = 0.0363
FOOTPRINT_POINT_LATITUDE = (-84.4625,-84.271,-84.0874,-83.8916, -83.6849,-83.4678,-83.1823,-83.1676, -83.0634,-82.8057,-82.6289,-82.4504, -82.2682,-82.0852,-81.8059,-81.6182, -81.4196,-81.23,-80.9452,-80.752, -80.5566,-80.3606,-80.1623,-79.9679, -79.77,-79.5755,-79.3813,-79.1904, -78.9894,-78.7895,-78.5939,-78.301, -78.1055,-77.9086,-77.7114,-77.5169, -77.3208,-77.123,-76.9301,-76.7362, -76.5417,-76.2525,-75.9639,-75.7707, -75.3894,-75.0075,-74.6302,-74.2519, -73.8789,-73.5976,-73.5048,-73.4924, -73.621,-73.6982,-73.7527,-73.8229, -73.8725,-73.8755,-73.877,-74.2645, -74.6512,-75.0439,-75.4363,-75.8351, -76.0344,-76.2332,-76.5372,-76.7396, -76.9414,-77.1468,-77.4544,-77.6588, -77.9705,-78.1782,-78.4923,-78.7028, -78.9125,-79.1249,-79.3376,-79.5497, -79.8724,-80.0871,-80.3029,-80.5197, -80.7359,-81.0635,-81.2816,-81.6114, -81.8307,-82.1628,-82.3831,-82.6062, -82.828,-83.1622,-83.496,-83.7177, -84.0498,-84.2698,-84.3792,-84.4625)
FOOTPRINT_POINT_LONGITUDE = (296.079,293.055,290.533,288.16,285.933 ,283.844,281.41,281.293,281.509,283.625 ,284.948,286.194,287.383,288.5,290.079, 291.061,292.006,292.889,294.143,294.926 ,295.677,296.389,297.07,297.723,298.341 ,298.938,299.509,300.054,300.578, 301.077,301.558,302.248,302.681,303.1, 303.505,303.89,304.263,304.624,304.969, 305.304,305.629,306.092,306.535,306.819 ,307.354,307.861,308.333,308.781,309.2, 309.502,309.599,309.612,311.148,312.175 ,312.947,314.03,314.856,314.908,314.926 ,314.7,314.463,314.21,313.942,313.655, 313.504,313.35,313.105,312.935,312.761, 312.577,312.291,312.092,311.776,311.555 ,311.206,310.96,310.706,310.439,310.159 ,309.869,309.403,309.075,308.73,308.368 ,307.988,307.377,306.942,306.24,305.74, 304.925,304.343,303.715,303.048,301.955 ,300.739,299.856,298.392,297.318, 296.748,296.079)
ORBIT_NUMBER = 4365
ORBITAL_ECCENTRICITY = 0.571
ORBITAL_INCLINATION = 86.7
ORBITAL_SEMIMAJOR_AXIS = 8565.62
PERIAPSIS_ALTITUDE = 292.68
PERIAPSIS_ARGUMENT_ANGLE = 309.29
PERIAPSIS_TIME = 2007-05-29T22:28:06.000Z
SPACECRAFT_ORIENTATION = (0.0,1.0,0.0)
^MEX_ORIENTATION_DESC = "MEX_ORIENTATION_DESC.TXT"
SPACECRAFT_POINTING_MODE = ACROSSTRACK
^MEX_POINTING_DESC = "MEX_POINTING_DESC.TXT"
RIGHT_ASCENSION = -1e+32
DECLINATION = -1e+32
OFFSET_ANGLE = 0.52
SPACECRAFT_SOLAR_DISTANCE = 2.067e+08
TARGET_NAME = MARS
/* CAMERA DATA ELEMENTS */
DETECTOR_TEMPERATURE = 19.1861
FOCAL_PLANE_TEMPERATURE = 9.3989
INST_CMPRS_NAME = "DISCRETE COSINE TRANSFORMATION (DCT)"
INST_CMPRS_RATIO = 8.92403
INST_CMPRS_QUALITY = 0
INST_CMPRS_QUANTZ_TBL_ID = 0
INSTRUMENT_TEMPERATURE = 11.6418
LENS_TEMPERATURE = 9.8067
MACROPIXEL_SIZE = 2
MISSING_FRAMES = 0
PIXEL_SUBSAMPLING_FLAG = N
SIGNAL_CHAIN_ID = 3
/* RADIOMETRIC DATA ELEMENTS */
BANDWIDTH = 48.0
CENTER_FILTER_WAVELENGTH = 748.0
RADIANCE_OFFSET = 2.41571
RADIANCE_SCALING_FACTOR = 0.0101635
REFLECTANCE_SCALING_FACTOR = 0.000990951
MEX:REFLECTANCE_OFFSET = 0.235534
/* IMAGE OBJECT DEFINITIONS */
OBJECT = IMAGE
  INTERCHANGE_FORMAT = BINARY
  LINES = 25581
  LINE_SAMPLES = 12618
  SAMPLE_TYPE = UNSIGNED_INTEGER
  SAMPLE_BITS = 8
  BANDS = 1
  BAND_STORAGE_TYPE = BAND_SEQUENTIAL
  MAXIMUM = 255
  MEAN = 183.354
  MINIMUM = 1
  STANDARD_DEVIATION = 36.076
END_OBJECT = IMAGE
/* MAP OBJECT DEFINITIONS */
OBJECT = IMAGE_MAP_PROJECTION
  ^DATA_SET_MAP_PROJECTION_CATALOG= "DSMAP.CAT"
  A_AXIS_RADIUS = 3396.0
  B_AXIS_RADIUS = 3396.0
  C_AXIS_RADIUS = 3396.0
  CENTER_LATITUDE = 0.0
  CENTER_LONGITUDE = 306.0
  COORDINATE_SYSTEM_NAME = PLANETOGRAPHIC
  COORDINATE_SYSTEM_TYPE = "BODY-FIXED ROTATING"
  EASTERNMOST_LONGITUDE = 314.926
  FIRST_STANDARD_PARALLEL = "N/A"
  LINE_FIRST_PIXEL = 1
  LINE_LAST_PIXEL = 25581
  LINE_PROJECTION_OFFSET = -174300.75
  MAP_PROJECTION_ROTATION = 0.0
  MAP_PROJECTION_TYPE = SINUSOIDAL
  MAP_RESOLUTION = 2370.85521546667
  MAP_SCALE = 0.025
  MAXIMUM_LATITUDE = -73.4924
  MINIMUM_LATITUDE = -84.46250000000001
  POSITIVE_LONGITUDE_DIRECTION = EAST
  REFERENCE_LATITUDE = "N/A"
  REFERENCE_LONGITUDE = "N/A"
  SAMPLE_FIRST_PIXEL = 1
  SAMPLE_LAST_PIXEL = 12618
  SAMPLE_PROJECTION_OFFSET = 6817.25
  SECOND_STANDARD_PARALLEL = "N/A"
  WESTERNMOST_LONGITUDE = 281.293
END_OBJECT = IMAGE_MAP_PROJECTION
END
