PDS_VERSION_ID = PDS3
/* FILE DATA ELEMENTS */
RECORD_TYPE = UNDEFINED
/* POINTERS TO DATA OBJECTS */
^IMAGE = ("H4364_0000_S14.TIF")
/* IDENTIFICATION DATA ELEMENTS */
DATA_SET_ID = "MEX-M-HRSC-4-REFDR-MAPPROJECT-EXT1-V4.0"
DATA_SET_NAME = "MARS EXPRESS HRSC MAP PROJECTED REFDR EXTENSION1 V4.0"
DETECTOR_ID = MEX_HRSC_S1
EVENT_TYPE = "MARS-REGIONAL-MAPPING-Vo-Gl"
INSTRUMENT_HOST_ID = MEX
INSTRUMENT_HOST_NAME = "MARS EXPRESS"
INSTRUMENT_ID = HRSC
INSTRUMENT_NAME = "HIGH RESOLUTION STEREO CAMERA"
MISSION_NAME = "MARS EXPRESS"
MISSION_PHASE_NAME = ME_Phase_7
PROCESSING_LEVEL_ID = 4
PRODUCT_CREATION_TIME = 2023-02-10T03:49:22.000Z
PRODUCT_ID = "H4364_0000_S14.TIF"
RELEASE_ID = 0006
REVISION_ID = 0000
/* QUALITY DATA ELEMENTS */
DATA_QUALITY_ID = 1
DATA_QUALITY_DESC = "Data calculated based on original SPICE kernels"
/* TIME DATA ELEMENTS */
SPACECRAFT_CLOCK_START_COUNT = "1/0128533136.08241"
SPACECRAFT_CLOCK_STOP_COUNT = "1/0128533344.31030"
START_TIME = 2007-05-29T15:40:12.489Z
STOP_TIME = 2007-05-29T15:42:26.597Z
/* ORBITAL DATA ELEMENTS */
ASCENDING_NODE_LONGITUDE = 136.93
MAXIMUM_RESOLUTION = 0.0266
FOOTPRINT_POINT_LATITUDE = (-70.8827,-70.8589,-70.8334,-70.7975, -70.7683,-70.7373,-70.7026,-70.7005, -70.7827,-70.4893,-70.3103,-70.1312, -69.9521,-69.7719,-69.5921,-69.4089, -69.2284,-69.0493,-68.7808,-68.6017, -68.4218,-68.2418,-68.0611,-67.881, -67.7,-67.5194,-67.3387,-67.0676, -66.8868,-66.705,-66.5238,-66.3434, -66.0743,-65.8988,-65.7231,-65.4596, -65.2832,-65.1083,-64.9327,-64.6681, -64.4917,-64.1467,-63.891,-63.7198, -63.4641,-63.2075,-62.865,-62.5225, -62.3512,-62.0147,-61.9322,-61.909, -61.9347,-61.9628,-61.9781,-61.9989, -61.9994,-62.0001,-62.4222,-62.7674, -63.1113,-63.4544,-63.7128,-63.8851, -64.2289,-64.4012,-64.6667,-64.9331, -65.1107,-65.289,-65.4671,-65.6447, -65.8224,-66.0005,-66.2672,-66.5413, -66.7248,-66.9078,-67.0911,-67.3659, -67.5492,-67.7327,-68.0071,-68.19, -68.3732,-68.5554,-68.7382,-68.921, -69.1027,-69.2848,-69.4664,-69.6477, -69.8275,-70.0141,-70.1955,-70.3778, -70.5608,-70.8372,-70.9457,-70.8827)
FOOTPRINT_POINT_LONGITUDE = (55.4235,54.8489,54.2743,53.5199, 52.9459,52.3714,51.7608,51.7248,51.5483 ,51.7366,51.8484,51.958,52.0652,52.1721 ,52.2761,52.384,52.4845,52.5807,52.7209 ,52.8121,52.9028,52.9919,53.0802, 53.1659,53.2513,53.3344,53.4159,53.5353 ,53.6131,53.6909,53.7664,53.8393,53.947 ,54.0156,54.0832,54.1823,54.2479, 54.3103,54.3725,54.4654,54.5261,54.6399 ,54.723,54.7782,54.8581,54.9371,55.04, 55.1395,55.1883,55.2815,55.3039,55.3101 ,55.8782,56.581,56.9879,57.6187,57.6411 ,57.6492,57.5809,57.5231,57.4635,57.402 ,57.3549,57.323,57.2576,57.2242,57.1715 ,57.1174,57.0806,57.0435,57.0057, 56.9672,56.9281,56.8885,56.8278,56.7636 ,56.7199,56.6752,56.6299,56.5604, 56.5131,56.4651,56.3912,56.3409,56.2898 ,56.2375,56.1844,56.1304,56.0751, 56.0189,55.9616,55.9031,55.8432,55.7837 ,55.7219,55.6591,55.5953,55.4957, 55.4557,55.4235)
ORBIT_NUMBER = 4364
ORBITAL_ECCENTRICITY = 0.571
ORBITAL_INCLINATION = 86.7
ORBITAL_SEMIMAJOR_AXIS = 8569.59
PERIAPSIS_ALTITUDE = 292.16
PERIAPSIS_ARGUMENT_ANGLE = 309.46
PERIAPSIS_TIME = 2007-05-29T15:44:54.000Z
SPACECRAFT_ORIENTATION = (0.0,1.0,0.0)
^MEX_ORIENTATION_DESC = "MEX_ORIENTATION_DESC.TXT"
SPACECRAFT_POINTING_MODE = ACROSSTRACK
^MEX_POINTING_DESC = "MEX_POINTING_DESC.TXT"
RIGHT_ASCENSION = -1e+32
DECLINATION = -1e+32
OFFSET_ANGLE = 0.2
SPACECRAFT_SOLAR_DISTANCE = 2.06704e+08
TARGET_NAME = MARS
/* CAMERA DATA ELEMENTS */
DETECTOR_TEMPERATURE = 17.9627
FOCAL_PLANE_TEMPERATURE = 9.6028
INST_CMPRS_NAME = "DISCRETE COSINE TRANSFORMATION (DCT)"
INST_CMPRS_RATIO = 8.73476
INST_CMPRS_QUALITY = 0
INST_CMPRS_QUANTZ_TBL_ID = 0
INSTRUMENT_TEMPERATURE = 11.4379
LENS_TEMPERATURE = 8.3794
MACROPIXEL_SIZE = 2
MISSING_FRAMES = 0
PIXEL_SUBSAMPLING_FLAG = N
SIGNAL_CHAIN_ID = 1
/* RADIOMETRIC DATA ELEMENTS */
BANDWIDTH = 180.0
CENTER_FILTER_WAVELENGTH = 677.0
RADIANCE_OFFSET = 7.06744
RADIANCE_SCALING_FACTOR = 0.0207479
REFLECTANCE_SCALING_FACTOR = 0.0004625
MEX:REFLECTANCE_OFFSET = 0.157543
/* IMAGE OBJECT DEFINITIONS */
OBJECT = IMAGE
  INTERCHANGE_FORMAT = BINARY
  LINES = 21576
  LINE_SAMPLES = 5741
  SAMPLE_TYPE = UNSIGNED_INTEGER
  SAMPLE_BITS = 8
  BANDS = 1
  BAND_STORAGE_TYPE = BAND_SEQUENTIAL
  MAXIMUM = 255
  MEAN = 95.4084
  MINIMUM = 1
  STANDARD_DEVIATION = 30.8653
END_OBJECT = IMAGE
/* MAP OBJECT DEFINITIONS */
OBJECT = IMAGE_MAP_PROJECTION
  ^DATA_SET_MAP_PROJECTION_CATALOG= "DSMAP.CAT"
  A_AXIS_RADIUS = 3396.0
  B_AXIS_RADIUS = 3396.0
  C_AXIS_RADIUS = 3396.0
  CENTER_LATITUDE = 0.0
  CENTER_LONGITUDE = 55.0
  COORDINATE_SYSTEM_NAME = PLANETOGRAPHIC
  COORDINATE_SYSTEM_TYPE = "BODY-FIXED ROTATING"
  EASTERNMOST_LONGITUDE = 57.6492
  FIRST_STANDARD_PARALLEL = "N/A"
  LINE_FIRST_PIXEL = 1
  LINE_LAST_PIXEL = 21576
  LINE_PROJECTION_OFFSET = -146781.75
  MAP_PROJECTION_ROTATION = 0.0
  MAP_PROJECTION_TYPE = SINUSOIDAL
  MAP_RESOLUTION = 2370.85521546667
  MAP_SCALE = 0.025
  MAXIMUM_LATITUDE = -61.909
  MINIMUM_LATITUDE = -70.9457
  POSITIVE_LONGITUDE_DIRECTION = EAST
  REFERENCE_LATITUDE = "N/A"
  REFERENCE_LONGITUDE = "N/A"
  SAMPLE_FIRST_PIXEL = 1
  SAMPLE_LAST_PIXEL = 5741
  SAMPLE_PROJECTION_OFFSET = 2772.75
  SECOND_STANDARD_PARALLEL = "N/A"
  WESTERNMOST_LONGITUDE = 51.5483
END_OBJECT = IMAGE_MAP_PROJECTION
END
