PDS_VERSION_ID = PDS3
/* FILE DATA ELEMENTS */
RECORD_TYPE = UNDEFINED
/* POINTERS TO DATA OBJECTS */
^IMAGE = ("H4361_0000_ND4.TIF")
/* IDENTIFICATION DATA ELEMENTS */
DATA_SET_ID = "MEX-M-HRSC-4-REFDR-MAPPROJECT-EXT1-V4.0"
DATA_SET_NAME = "MARS EXPRESS HRSC MAP PROJECTED REFDR EXTENSION1 V4.0"
DETECTOR_ID = MEX_HRSC_NADIR
EVENT_TYPE = "MARS-REGIONAL-MAPPING-Vo-Im"
INSTRUMENT_HOST_ID = MEX
INSTRUMENT_HOST_NAME = "MARS EXPRESS"
INSTRUMENT_ID = HRSC
INSTRUMENT_NAME = "HIGH RESOLUTION STEREO CAMERA"
MISSION_NAME = "MARS EXPRESS"
MISSION_PHASE_NAME = ME_Phase_7
PROCESSING_LEVEL_ID = 4
PRODUCT_CREATION_TIME = 2023-02-10T03:49:22.000Z
PRODUCT_ID = "H4361_0000_ND4.TIF"
RELEASE_ID = 0006
REVISION_ID = 0000
/* QUALITY DATA ELEMENTS */
DATA_QUALITY_ID = 1
DATA_QUALITY_DESC = "Data calculated based on original SPICE kernels"
/* TIME DATA ELEMENTS */
SPACECRAFT_CLOCK_START_COUNT = "1/0128460912.08264"
SPACECRAFT_CLOCK_STOP_COUNT = "1/0128461182.32484"
START_TIME = 2007-05-28T19:35:41.978Z
STOP_TIME = 2007-05-28T19:39:12.989Z
/* ORBITAL DATA ELEMENTS */
ASCENDING_NODE_LONGITUDE = 137.0
MAXIMUM_RESOLUTION = 0.0116
FOOTPRINT_POINT_LATITUDE = (-48.3432,-48.3305,-48.3134,-48.2985, -48.298,-48.2958,-47.9004,-47.373, -46.8457,-46.3186,-46.0389,-45.512, -44.9853,-44.5757,-44.3025,-44.0293, -43.7561,-43.4831,-43.2101,-42.9372, -42.6645,-42.3919,-42.1194,-41.8467, -41.5743,-41.3023,-41.0304,-40.7578, -40.4759,-40.1942,-39.9126,-39.6313, -39.3501,-39.069,-38.7882,-38.5075, -38.2269,-37.9407,-37.6507,-37.2158, -36.9264,-36.6371,-36.348,-36.0591, -35.7624,-35.4641,-35.1662,-34.8685, -34.571,-34.4224,-34.4186,-34.4281, -34.4347,-34.4398,-34.4399,-34.4402, -34.7379,-35.036,-35.3343,-35.6329, -36.0796,-36.3689,-36.6584,-36.9482, -37.2382,-37.5284,-37.8189,-38.251, -38.5319,-38.8131,-39.0944,-39.3759, -39.6576,-39.9394,-40.2214,-40.5036, -40.9228,-41.1953,-41.4679,-41.7406, -42.0135,-42.2864,-42.5595,-42.8327, -43.1061,-43.3794,-43.7898,-44.0635, -44.4741,-44.748,-45.0216,-45.5494, -46.0774,-46.6218,-47.1502,-47.6787, -47.9431,-48.2074,-48.3396,-48.3432)
FOOTPRINT_POINT_LONGITUDE = (354.169,353.688,353.134,352.712, 352.697,352.668,352.701,352.741,352.781 ,352.819,352.839,352.874,352.908, 352.933,352.95,352.966,352.981,352.996, 353.011,353.025,353.039,353.053,353.067 ,353.077,353.088,353.102,353.115, 353.126,353.137,353.148,353.159,353.17, 353.18,353.19,353.199,353.209,353.217, 353.227,353.236,353.246,353.256,353.263 ,353.27,353.277,353.284,353.291,353.298 ,353.304,353.309,353.312,353.312, 353.815,354.262,354.71,354.724,354.731, 354.723,354.715,354.707,354.699,354.686 ,354.677,354.669,354.66,354.652,354.642 ,354.634,354.621,354.612,354.603, 354.594,354.583,354.574,354.565,354.555 ,354.545,354.53,354.519,354.509,354.499 ,354.488,354.478,354.467,354.456, 354.444,354.434,354.415,354.402,354.385 ,354.372,354.359,354.335,354.31,354.283 ,354.259,354.231,354.213,354.2,354.193, 354.169)
ORBIT_NUMBER = 4361
ORBITAL_ECCENTRICITY = 0.571
ORBITAL_INCLINATION = 86.69
ORBITAL_SEMIMAJOR_AXIS = 8568.13
PERIAPSIS_ALTITUDE = 292.66
PERIAPSIS_ARGUMENT_ANGLE = 309.96
PERIAPSIS_TIME = 2007-05-28T19:35:18.000Z
SPACECRAFT_ORIENTATION = (0.0,1.0,0.0)
^MEX_ORIENTATION_DESC = "MEX_ORIENTATION_DESC.TXT"
SPACECRAFT_POINTING_MODE = NADIR
^MEX_POINTING_DESC = "MEX_POINTING_DESC.TXT"
RIGHT_ASCENSION = -1e+32
DECLINATION = -1e+32
OFFSET_ANGLE = -1e+32
SPACECRAFT_SOLAR_DISTANCE = 2.06715e+08
TARGET_NAME = MARS
/* CAMERA DATA ELEMENTS */
DETECTOR_TEMPERATURE = 18.9822
FOCAL_PLANE_TEMPERATURE = 9.3989
INST_CMPRS_NAME = "DISCRETE COSINE TRANSFORMATION (DCT)"
INST_CMPRS_RATIO = 6.87957
INST_CMPRS_QUALITY = 0
INST_CMPRS_QUANTZ_TBL_ID = 0
INSTRUMENT_TEMPERATURE = 11.4379
LENS_TEMPERATURE = 9.8067
MACROPIXEL_SIZE = 1
PIXEL_SUBSAMPLING_FLAG = N
SIGNAL_CHAIN_ID = 0
/* RADIOMETRIC DATA ELEMENTS */
BANDWIDTH = 177.0
CENTER_FILTER_WAVELENGTH = 677.5
RADIANCE_OFFSET = 7.0184
RADIANCE_SCALING_FACTOR = 0.0116335
REFLECTANCE_SCALING_FACTOR = 0.000264082
MEX:REFLECTANCE_OFFSET = 0.159319
/* IMAGE OBJECT DEFINITIONS */
OBJECT = IMAGE
  INTERCHANGE_FORMAT = BINARY
  LINES = 66023
  LINE_SAMPLES = 7065
  SAMPLE_TYPE = UNSIGNED_INTEGER
  SAMPLE_BITS = 8
  BANDS = 1
  BAND_STORAGE_TYPE = BAND_SEQUENTIAL
  MAXIMUM = 255
  MEAN = 118.662
  MINIMUM = 1
  STANDARD_DEVIATION = 21.9112
END_OBJECT = IMAGE
/* MAP OBJECT DEFINITIONS */
OBJECT = IMAGE_MAP_PROJECTION
  ^DATA_SET_MAP_PROJECTION_CATALOG= "DSMAP.CAT"
  A_AXIS_RADIUS = 3396.0
  B_AXIS_RADIUS = 3396.0
  C_AXIS_RADIUS = 3396.0
  CENTER_LATITUDE = 0.0
  CENTER_LONGITUDE = 354.0
  COORDINATE_SYSTEM_NAME = PLANETOGRAPHIC
  COORDINATE_SYSTEM_TYPE = "BODY-FIXED ROTATING"
  EASTERNMOST_LONGITUDE = 354.731
  FIRST_STANDARD_PARALLEL = "N/A"
  LINE_FIRST_PIXEL = 1
  LINE_LAST_PIXEL = 66023
  LINE_PROJECTION_OFFSET = -163199.0
  MAP_PROJECTION_ROTATION = 0.0
  MAP_PROJECTION_TYPE = SINUSOIDAL
  MAP_RESOLUTION = 4741.71043093333
  MAP_SCALE = 0.0125
  MAXIMUM_LATITUDE = -34.4186
  MINIMUM_LATITUDE = -48.3432
  POSITIVE_LONGITUDE_DIRECTION = EAST
  REFERENCE_LATITUDE = "N/A"
  REFERENCE_LONGITUDE = "N/A"
  SAMPLE_FIRST_PIXEL = 1
  SAMPLE_LAST_PIXEL = 7065
  SAMPLE_PROJECTION_OFFSET = 4203.0
  SECOND_STANDARD_PARALLEL = "N/A"
  WESTERNMOST_LONGITUDE = 352.668
END_OBJECT = IMAGE_MAP_PROJECTION
END
