PDS_VERSION_ID = PDS3
/* FILE DATA ELEMENTS */
RECORD_TYPE = UNDEFINED
/* POINTERS TO DATA OBJECTS */
^IMAGE = ("H4357_0000_P14.TIF")
/* IDENTIFICATION DATA ELEMENTS */
DATA_SET_ID = "MEX-M-HRSC-4-REFDR-MAPPROJECT-EXT1-V4.0"
DATA_SET_NAME = "MARS EXPRESS HRSC MAP PROJECTED REFDR EXTENSION1 V4.0"
DETECTOR_ID = MEX_HRSC_P1
EVENT_TYPE = "MARS-REGIONAL-MAPPING-Vo-Te-Im"
INSTRUMENT_HOST_ID = MEX
INSTRUMENT_HOST_NAME = "MARS EXPRESS"
INSTRUMENT_ID = HRSC
INSTRUMENT_NAME = "HIGH RESOLUTION STEREO CAMERA"
MISSION_NAME = "MARS EXPRESS"
MISSION_PHASE_NAME = ME_Phase_7
PROCESSING_LEVEL_ID = 4
PRODUCT_CREATION_TIME = 2023-02-10T03:49:22.000Z
PRODUCT_ID = "H4357_0000_P14.TIF"
RELEASE_ID = 0006
REVISION_ID = 0000
/* QUALITY DATA ELEMENTS */
DATA_QUALITY_ID = 1
DATA_QUALITY_DESC = "Data calculated based on original SPICE kernels"
/* TIME DATA ELEMENTS */
SPACECRAFT_CLOCK_START_COUNT = "1/0128364109.07291"
SPACECRAFT_CLOCK_STOP_COUNT = "1/0128364351.63651"
START_TIME = 2007-05-27T16:42:36.110Z
STOP_TIME = 2007-05-27T16:45:43.893Z
/* ORBITAL DATA ELEMENTS */
ASCENDING_NODE_LONGITUDE = 137.08
MAXIMUM_RESOLUTION = 0.0477
FOOTPRINT_POINT_LATITUDE = (-49.9126,-49.8932,-49.8803,-49.8653, -49.8648,-49.899,-49.5402,-49.3024, -49.0645,-48.8268,-48.5888,-48.2313, -47.8748,-47.6372,-47.399,-47.1618, -46.9247,-46.6875,-46.2135,-45.8583, -45.3803,-45.135,-44.8895,-44.6446, -44.3995,-44.1546,-43.9096,-43.6646, -43.4206,-43.1764,-42.9323,-42.5661, -42.3218,-42.0783,-41.7137,-41.4708, -41.225,-40.9737,-40.7232,-40.3474, -39.9727,-39.5971,-39.3475,-39.098, -38.8488,-38.5965,-38.3388,-38.0814, -37.8243,-37.6958,-37.6213,-37.6301, -37.6376,-37.6475,-37.6477,-37.6486, -37.9052,-38.1637,-38.5493,-38.8046, -39.0541,-39.3034,-39.5531,-39.8032, -40.1786,-40.4291,-40.6794,-40.9305, -41.1815,-41.4307,-41.6738,-41.9177, -42.2823,-42.649,-43.0168,-43.2616, -43.5063,-43.7512,-43.996,-44.2417, -44.4886,-44.8596,-45.1055,-45.3511, -45.83,-46.1855,-46.4242,-46.662, -47.1365,-47.4942,-47.7326,-48.0907, -48.3291,-48.6867,-48.9251,-49.1663, -49.4041,-49.7601,-49.8797,-49.9126)
FOOTPRINT_POINT_LONGITUDE = (27.1906,26.5098,26.1132,25.688,25.6738 ,25.6409,25.6756,25.6971,25.7183,25.739 ,25.7595,25.7902,25.8193,25.8382, 25.8574,25.8754,25.8931,25.9105,25.9444 ,25.9689,26.0005,26.0162,26.0318, 26.0467,26.0615,26.076,26.0903,26.1044, 26.1177,26.1308,26.1437,26.1628,26.1754 ,26.1872,26.2043,26.2154,26.2262,26.237 ,26.2471,26.2621,26.276,26.2903,26.2992 ,26.3078,26.3163,26.3246,26.3329, 26.3409,26.3486,26.3524,26.3545,26.7733 ,27.1404,27.7448,27.7579,27.7623, 27.7536,27.7458,27.7323,27.7238,27.7153 ,27.7064,27.6974,27.6884,27.6746, 27.6652,27.6554,27.6458,27.6359,27.6266 ,27.6172,27.608,27.593,27.5787,27.5645, 27.5545,27.5441,27.5336,27.5228,27.5124 ,27.5024,27.4873,27.476,27.4643,27.4395 ,27.4218,27.4108,27.3989,27.3738, 27.3555,27.3429,27.3239,27.3106,27.2903 ,27.2764,27.2641,27.2493,27.2261, 27.2188,27.1906)
ORBIT_NUMBER = 4357
ORBITAL_ECCENTRICITY = 0.571
ORBITAL_INCLINATION = 86.68
ORBITAL_SEMIMAJOR_AXIS = 8571.86
PERIAPSIS_ALTITUDE = 292.83
PERIAPSIS_ARGUMENT_ANGLE = 310.67
PERIAPSIS_TIME = 2007-05-27T16:42:31.000Z
SPACECRAFT_ORIENTATION = (0.0,1.0,0.0)
^MEX_ORIENTATION_DESC = "MEX_ORIENTATION_DESC.TXT"
SPACECRAFT_POINTING_MODE = NADIR
^MEX_POINTING_DESC = "MEX_POINTING_DESC.TXT"
RIGHT_ASCENSION = -1e+32
DECLINATION = -1e+32
OFFSET_ANGLE = -1e+32
SPACECRAFT_SOLAR_DISTANCE = 2.06733e+08
TARGET_NAME = MARS
/* CAMERA DATA ELEMENTS */
DETECTOR_TEMPERATURE = 17.9627
FOCAL_PLANE_TEMPERATURE = 10.4184
INST_CMPRS_NAME = "DISCRETE COSINE TRANSFORMATION (DCT)"
INST_CMPRS_RATIO = 15.4887
INST_CMPRS_QUALITY = 0
INST_CMPRS_QUANTZ_TBL_ID = 0
INSTRUMENT_TEMPERATURE = 11.8457
LENS_TEMPERATURE = 9.8067
MACROPIXEL_SIZE = 4
MISSING_FRAMES = 0
PIXEL_SUBSAMPLING_FLAG = N
SIGNAL_CHAIN_ID = 3
/* RADIOMETRIC DATA ELEMENTS */
BANDWIDTH = 174.0
CENTER_FILTER_WAVELENGTH = 675.0
RADIANCE_OFFSET = 5.42686
RADIANCE_SCALING_FACTOR = 0.0210372
REFLECTANCE_SCALING_FACTOR = 0.000483607
MEX:REFLECTANCE_OFFSET = 0.124754
/* IMAGE OBJECT DEFINITIONS */
OBJECT = IMAGE
  INTERCHANGE_FORMAT = BINARY
  LINES = 14629
  LINE_SAMPLES = 1746
  SAMPLE_TYPE = UNSIGNED_INTEGER
  SAMPLE_BITS = 8
  BANDS = 1
  BAND_STORAGE_TYPE = BAND_SEQUENTIAL
  MAXIMUM = 255
  MEAN = 168.039
  MINIMUM = 1
  STANDARD_DEVIATION = 20.7564
END_OBJECT = IMAGE
/* MAP OBJECT DEFINITIONS */
OBJECT = IMAGE_MAP_PROJECTION
  ^DATA_SET_MAP_PROJECTION_CATALOG= "DSMAP.CAT"
  A_AXIS_RADIUS = 3396.0
  B_AXIS_RADIUS = 3396.0
  C_AXIS_RADIUS = 3396.0
  CENTER_LATITUDE = 0.0
  CENTER_LONGITUDE = 27.0
  COORDINATE_SYSTEM_NAME = PLANETOGRAPHIC
  COORDINATE_SYSTEM_TYPE = "BODY-FIXED ROTATING"
  EASTERNMOST_LONGITUDE = 27.7623
  FIRST_STANDARD_PARALLEL = "N/A"
  LINE_FIRST_PIXEL = 1
  LINE_LAST_PIXEL = 14629
  LINE_PROJECTION_OFFSET = -44602.375
  MAP_PROJECTION_ROTATION = 0.0
  MAP_PROJECTION_TYPE = SINUSOIDAL
  MAP_RESOLUTION = 1185.42760773333
  MAP_SCALE = 0.05
  MAXIMUM_LATITUDE = -37.6213
  MINIMUM_LATITUDE = -49.9126
  POSITIVE_LONGITUDE_DIRECTION = EAST
  REFERENCE_LATITUDE = "N/A"
  REFERENCE_LONGITUDE = "N/A"
  SAMPLE_FIRST_PIXEL = 1
  SAMPLE_LAST_PIXEL = 1746
  SAMPLE_PROJECTION_OFFSET = 1043.125
  SECOND_STANDARD_PARALLEL = "N/A"
  WESTERNMOST_LONGITUDE = 25.6409
END_OBJECT = IMAGE_MAP_PROJECTION
END
