PDS_VERSION_ID = PDS3
/* FILE DATA ELEMENTS */
RECORD_TYPE = UNDEFINED
/* POINTERS TO DATA OBJECTS */
^IMAGE = ("H4355_0000_ND4.TIF")
/* IDENTIFICATION DATA ELEMENTS */
DATA_SET_ID = "MEX-M-HRSC-4-REFDR-MAPPROJECT-EXT1-V4.0"
DATA_SET_NAME = "MARS EXPRESS HRSC MAP PROJECTED REFDR EXTENSION1 V4.0"
DETECTOR_ID = MEX_HRSC_NADIR
EVENT_TYPE = "MARS-REGIONAL-MAPPING-Vo-Te-Im"
INSTRUMENT_HOST_ID = MEX
INSTRUMENT_HOST_NAME = "MARS EXPRESS"
INSTRUMENT_ID = HRSC
INSTRUMENT_NAME = "HIGH RESOLUTION STEREO CAMERA"
MISSION_NAME = "MARS EXPRESS"
MISSION_PHASE_NAME = ME_Phase_7
PROCESSING_LEVEL_ID = 4
PRODUCT_CREATION_TIME = 2023-02-10T03:49:22.000Z
PRODUCT_ID = "H4355_0000_ND4.TIF"
RELEASE_ID = 0006
REVISION_ID = 0000
/* QUALITY DATA ELEMENTS */
DATA_QUALITY_ID = 1
DATA_QUALITY_DESC = "Data calculated based on original SPICE kernels"
/* TIME DATA ELEMENTS */
SPACECRAFT_CLOCK_START_COUNT = "1/0128315737.07312"
SPACECRAFT_CLOCK_STOP_COUNT = "1/0128316139.13907"
START_TIME = 2007-05-27T03:16:07.216Z
STOP_TIME = 2007-05-27T03:21:43.210Z
/* ORBITAL DATA ELEMENTS */
ASCENDING_NODE_LONGITUDE = 137.12
MAXIMUM_RESOLUTION = 0.0115
FOOTPRINT_POINT_LATITUDE = (-48.6086,-48.5548,-48.5541,-48.551, -47.9532,-46.9566,-45.9598,-45.1628, -44.366,-43.7522,-43.3389,-42.9258, -42.5128,-42.1001,-41.6875,-41.2752, -40.7811,-40.3694,-39.9579,-39.323, -38.8971,-38.4717,-38.0464,-37.6216, -37.1972,-36.5405,-36.1022,-35.6645, -35.2272,-34.5565,-34.1057,-33.6555, -33.2057,-32.7419,-32.2789,-31.8164, -31.3551,-30.8943,-30.4345,-29.9754, -29.5172,-29.0599,-28.5497,-28.0063, -27.4642,-26.9235,-26.6537,-26.6512, -26.6583,-26.6628,-26.6657,-26.6658, -26.6661,-27.207,-27.7493,-28.293, -29.0767,-29.5347,-29.9937,-30.4535, -30.9141,-31.3756,-31.8378,-32.3009, -32.7647,-33.2292,-33.6798,-34.1307, -34.5823,-35.2542,-35.6922,-36.1306, -36.5696,-37.2275,-37.6525,-38.0779, -38.5039,-38.9301,-39.3568,-39.993, -40.4052,-40.8178,-41.3128,-41.7259, -42.1393,-42.5529,-42.9667,-43.3806, -43.7948,-44.4103,-44.8095,-45.2089, -45.8081,-46.4075,-47.007,-47.4067, -47.8065,-48.4061,-48.6059,-48.6086)
FOOTPRINT_POINT_LONGITUDE = (223.245,221.774,221.759,221.711, 221.771,221.862,221.943,222.006,222.063 ,222.109,222.137,222.163,222.187, 222.213,222.236,222.259,222.285,222.305 ,222.325,222.356,222.375,222.394, 222.409,222.424,222.438,222.46,222.475, 222.488,222.501,222.519,222.53,222.541, 222.551,222.56,222.569,222.573,222.586, 222.591,222.597,222.602,222.607,222.611 ,222.615,222.618,222.62,222.621,222.622 ,222.622,223.163,223.64,224.112,224.127 ,224.134,224.121,224.108,224.095, 224.076,224.064,224.052,224.039,224.027 ,224.014,224.001,223.988,223.974,223.96 ,223.946,223.932,223.917,223.895, 223.879,223.865,223.849,223.825,223.809 ,223.793,223.776,223.759,223.742, 223.715,223.698,223.679,223.657,223.638 ,223.619,223.599,223.578,223.558, 223.537,223.504,223.482,223.46,223.426, 223.39,223.353,223.328,223.302,223.263, 223.25,223.245)
ORBIT_NUMBER = 4355
ORBITAL_ECCENTRICITY = 0.571
ORBITAL_INCLINATION = 86.7
ORBITAL_SEMIMAJOR_AXIS = 8569.68
PERIAPSIS_ALTITUDE = 292.07
PERIAPSIS_ARGUMENT_ANGLE = 311.01
PERIAPSIS_TIME = 2007-05-27T03:16:04.000Z
SPACECRAFT_ORIENTATION = (0.0,1.0,0.0)
^MEX_ORIENTATION_DESC = "MEX_ORIENTATION_DESC.TXT"
SPACECRAFT_POINTING_MODE = ACROSSTRACK
^MEX_POINTING_DESC = "MEX_POINTING_DESC.TXT"
RIGHT_ASCENSION = -1e+32
DECLINATION = -1e+32
OFFSET_ANGLE = 0.4
SPACECRAFT_SOLAR_DISTANCE = 2.06742e+08
TARGET_NAME = MARS
/* CAMERA DATA ELEMENTS */
DETECTOR_TEMPERATURE = 18.5744
FOCAL_PLANE_TEMPERATURE = 9.6028
INST_CMPRS_NAME = "DISCRETE COSINE TRANSFORMATION (DCT)"
INST_CMPRS_RATIO = 6.54595
INST_CMPRS_QUALITY = 0
INST_CMPRS_QUANTZ_TBL_ID = 0
INSTRUMENT_TEMPERATURE = 12.0496
LENS_TEMPERATURE = 10.0106
MACROPIXEL_SIZE = 1
PIXEL_SUBSAMPLING_FLAG = N
SIGNAL_CHAIN_ID = 0
/* RADIOMETRIC DATA ELEMENTS */
BANDWIDTH = 177.0
CENTER_FILTER_WAVELENGTH = 677.5
RADIANCE_OFFSET = 5.85051
RADIANCE_SCALING_FACTOR = 0.0252185
REFLECTANCE_SCALING_FACTOR = 0.000572615
MEX:REFLECTANCE_OFFSET = 0.132842
/* IMAGE OBJECT DEFINITIONS */
OBJECT = IMAGE
  INTERCHANGE_FORMAT = BINARY
  LINES = 104111
  LINE_SAMPLES = 8852
  SAMPLE_TYPE = UNSIGNED_INTEGER
  SAMPLE_BITS = 8
  BANDS = 1
  BAND_STORAGE_TYPE = BAND_SEQUENTIAL
  MAXIMUM = 255
  MEAN = 108.147
  MINIMUM = 1
  STANDARD_DEVIATION = 50.3576
END_OBJECT = IMAGE
/* MAP OBJECT DEFINITIONS */
OBJECT = IMAGE_MAP_PROJECTION
  ^DATA_SET_MAP_PROJECTION_CATALOG= "DSMAP.CAT"
  A_AXIS_RADIUS = 3396.0
  B_AXIS_RADIUS = 3396.0
  C_AXIS_RADIUS = 3396.0
  CENTER_LATITUDE = 0.0
  CENTER_LONGITUDE = 223.0
  COORDINATE_SYSTEM_NAME = PLANETOGRAPHIC
  COORDINATE_SYSTEM_TYPE = "BODY-FIXED ROTATING"
  EASTERNMOST_LONGITUDE = 224.134
  FIRST_STANDARD_PARALLEL = "N/A"
  LINE_FIRST_PIXEL = 1
  LINE_LAST_PIXEL = 104111
  LINE_PROJECTION_OFFSET = -126370.0
  MAP_PROJECTION_ROTATION = 0.0
  MAP_PROJECTION_TYPE = SINUSOIDAL
  MAP_RESOLUTION = 4741.71043093333
  MAP_SCALE = 0.0125
  MAXIMUM_LATITUDE = -26.6512
  MINIMUM_LATITUDE = -48.6086
  POSITIVE_LONGITUDE_DIRECTION = EAST
  REFERENCE_LATITUDE = "N/A"
  REFERENCE_LONGITUDE = "N/A"
  SAMPLE_FIRST_PIXEL = 1
  SAMPLE_LAST_PIXEL = 8852
  SAMPLE_PROJECTION_OFFSET = 4043.0
  SECOND_STANDARD_PARALLEL = "N/A"
  WESTERNMOST_LONGITUDE = 221.711
END_OBJECT = IMAGE_MAP_PROJECTION
END
