PDS_VERSION_ID = PDS3
/* FILE DATA ELEMENTS */
RECORD_TYPE = UNDEFINED
/* POINTERS TO DATA OBJECTS */
^IMAGE = ("H4351_0001_IR4.TIF")
/* IDENTIFICATION DATA ELEMENTS */
DATA_SET_ID = "MEX-M-HRSC-4-REFDR-MAPPROJECT-EXT1-V4.0"
DATA_SET_NAME = "MARS EXPRESS HRSC MAP PROJECTED REFDR EXTENSION1 V4.0"
DETECTOR_ID = MEX_HRSC_IR
EVENT_TYPE = "MARS-REGIONAL-MAPPING-Vo-Te"
INSTRUMENT_HOST_ID = MEX
INSTRUMENT_HOST_NAME = "MARS EXPRESS"
INSTRUMENT_ID = HRSC
INSTRUMENT_NAME = "HIGH RESOLUTION STEREO CAMERA"
MISSION_NAME = "MARS EXPRESS"
MISSION_PHASE_NAME = ME_Phase_7
PROCESSING_LEVEL_ID = 4
PRODUCT_CREATION_TIME = 2023-02-10T03:49:22.000Z
PRODUCT_ID = "H4351_0001_IR4.TIF"
RELEASE_ID = 0006
REVISION_ID = 0000
/* QUALITY DATA ELEMENTS */
DATA_QUALITY_ID = 1
DATA_QUALITY_DESC = "Data calculated based on original SPICE kernels"
/* TIME DATA ELEMENTS */
SPACECRAFT_CLOCK_START_COUNT = "1/0128219349.07285"
SPACECRAFT_CLOCK_STOP_COUNT = "1/0128219504.56483"
START_TIME = 2007-05-26T00:30:24.552Z
STOP_TIME = 2007-05-26T00:31:37.695Z
/* ORBITAL DATA ELEMENTS */
ASCENDING_NODE_LONGITUDE = 137.2
MAXIMUM_RESOLUTION = 0.1448
FOOTPRINT_POINT_LATITUDE = (-22.9802,-22.9829,-22.9855,-22.9881, -22.9906,-22.9931,-22.9956,-22.998, -23.0005,-23.0029,-23.0053,-23.0077, -23.0101,-23.0127,-23.013,-22.9892, -22.8354,-22.6431,-22.4913,-22.3747, -22.2185,-22.062,-21.9057,-21.7497, -21.6327,-21.4745,-21.3155,-21.1166, -20.9186,-20.7586,-20.6378,-20.5569, -20.3955,-20.2344,-20.1134,-19.9903, -19.8674,-19.7856,-19.7036,-19.6217, -19.54,-19.4584,-19.3755,-19.2921, -19.2088,-19.1257,-19.0427,-18.918, -18.8766,-18.8394,-18.8361,-18.834, -18.8303,-18.8276,-18.8233,-18.82, -18.8155,-18.8127,-18.8083,-18.8055, -18.8024,-18.7988,-18.7984,-18.8004, -18.8836,-18.9669,-19.0921,-19.1755, -19.259,-19.3426,-19.4256,-19.5073, -19.5893,-19.6713,-19.7533,-19.8354, -19.9175,-19.9997,-20.1226,-20.2841, -20.4457,-20.5266,-20.6075,-20.6885, -20.8097,-20.9685,-21.1276,-21.287, -21.4465,-21.5659,-21.7221,-21.8783, -22.0348,-22.1914,-22.4246,-22.5399, -22.6554,-22.8865,-22.925,-22.9802)
FOOTPRINT_POINT_LONGITUDE = (257.118,256.995,256.872,256.749, 256.626,256.502,256.377,256.253,256.128 ,256.002,255.877,255.75,255.624,255.481 ,255.465,255.473,255.471,255.47,255.467 ,255.467,255.466,255.464,255.462, 255.461,255.459,255.457,255.455,255.453 ,255.45,255.448,255.446,255.445,255.442 ,255.44,255.438,255.436,255.434,255.432 ,255.431,255.43,255.428,255.427,255.425 ,255.424,255.422,255.421,255.419, 255.417,255.416,255.415,255.55,255.636, 255.79,255.909,256.096,256.231,256.434, 256.568,256.769,256.903,257.036,257.186 ,257.202,257.213,257.211,257.21,257.207 ,257.205,257.203,257.201,257.199, 257.197,257.195,257.193,257.192,257.19, 257.188,257.186,257.183,257.179,257.176 ,257.174,257.172,257.17,257.167,257.163 ,257.16,257.156,257.152,257.149,257.146 ,257.142,257.138,257.134,257.129, 257.126,257.123,257.118,257.117, 257.118)
ORBIT_NUMBER = 4351
ORBITAL_ECCENTRICITY = 0.571
ORBITAL_INCLINATION = 86.69
ORBITAL_SEMIMAJOR_AXIS = 8573.42
PERIAPSIS_ALTITUDE = 292.09
PERIAPSIS_ARGUMENT_ANGLE = 311.71
PERIAPSIS_TIME = 2007-05-26T00:23:23.000Z
SPACECRAFT_ORIENTATION = (0.0,1.0,0.0)
^MEX_ORIENTATION_DESC = "MEX_ORIENTATION_DESC.TXT"
SPACECRAFT_POINTING_MODE = ACROSSTRACK
^MEX_POINTING_DESC = "MEX_POINTING_DESC.TXT"
RIGHT_ASCENSION = -1e+32
DECLINATION = -1e+32
OFFSET_ANGLE = 0.6
SPACECRAFT_SOLAR_DISTANCE = 2.06764e+08
TARGET_NAME = MARS
/* CAMERA DATA ELEMENTS */
DETECTOR_TEMPERATURE = 19.39
FOCAL_PLANE_TEMPERATURE = 11.8457
INST_CMPRS_NAME = "DISCRETE COSINE TRANSFORMATION (DCT)"
INST_CMPRS_RATIO = 9.68447
INST_CMPRS_QUALITY = 0
INST_CMPRS_QUANTZ_TBL_ID = 0
INSTRUMENT_TEMPERATURE = 13.6808
LENS_TEMPERATURE = 11.234
MACROPIXEL_SIZE = 8
MISSING_FRAMES = 0
PIXEL_SUBSAMPLING_FLAG = N
SIGNAL_CHAIN_ID = 2
/* RADIOMETRIC DATA ELEMENTS */
BANDWIDTH = 81.0
CENTER_FILTER_WAVELENGTH = 955.5
RADIANCE_OFFSET = 1.82409
RADIANCE_SCALING_FACTOR = 0.0065867
REFLECTANCE_SCALING_FACTOR = 0.000607502
MEX:REFLECTANCE_OFFSET = 0.168239
/* IMAGE OBJECT DEFINITIONS */
OBJECT = IMAGE
  INTERCHANGE_FORMAT = BINARY
  LINES = 2476
  LINE_SAMPLES = 951
  SAMPLE_TYPE = UNSIGNED_INTEGER
  SAMPLE_BITS = 8
  BANDS = 1
  BAND_STORAGE_TYPE = BAND_SEQUENTIAL
  MAXIMUM = 255
  MEAN = 152.548
  MINIMUM = 1
  STANDARD_DEVIATION = 28.5191
END_OBJECT = IMAGE
/* MAP OBJECT DEFINITIONS */
OBJECT = IMAGE_MAP_PROJECTION
  ^DATA_SET_MAP_PROJECTION_CATALOG= "DSMAP.CAT"
  A_AXIS_RADIUS = 3396.0
  B_AXIS_RADIUS = 3396.0
  C_AXIS_RADIUS = 3396.0
  CENTER_LATITUDE = 0.0
  CENTER_LONGITUDE = 256.0
  COORDINATE_SYSTEM_NAME = PLANETOGRAPHIC
  COORDINATE_SYSTEM_TYPE = "BODY-FIXED ROTATING"
  EASTERNMOST_LONGITUDE = 257.213
  FIRST_STANDARD_PARALLEL = "N/A"
  LINE_FIRST_PIXEL = 1
  LINE_LAST_PIXEL = 2476
  LINE_PROJECTION_OFFSET = -11167.6875
  MAP_PROJECTION_ROTATION = 0.0
  MAP_PROJECTION_TYPE = SINUSOIDAL
  MAP_RESOLUTION = 592.713803866667
  MAP_SCALE = 0.1
  MAXIMUM_LATITUDE = -18.7984
  MINIMUM_LATITUDE = -23.013
  POSITIVE_LONGITUDE_DIRECTION = EAST
  REFERENCE_LATITUDE = "N/A"
  REFERENCE_LONGITUDE = "N/A"
  SAMPLE_FIRST_PIXEL = 1
  SAMPLE_LAST_PIXEL = 951
  SAMPLE_PROJECTION_OFFSET = 302.8125
  SECOND_STANDARD_PARALLEL = "N/A"
  WESTERNMOST_LONGITUDE = 255.415
END_OBJECT = IMAGE_MAP_PROJECTION
END
