PDS_VERSION_ID = PDS3
/* FILE DATA ELEMENTS */
RECORD_TYPE = UNDEFINED
/* POINTERS TO DATA OBJECTS */
^IMAGE = ("H4350_0001_P24.TIF")
/* IDENTIFICATION DATA ELEMENTS */
DATA_SET_ID = "MEX-M-HRSC-4-REFDR-MAPPROJECT-EXT1-V4.0"
DATA_SET_NAME = "MARS EXPRESS HRSC MAP PROJECTED REFDR EXTENSION1 V4.0"
DETECTOR_ID = MEX_HRSC_P2
EVENT_TYPE = "MARS-LOCAL-STEREO-La-Tc-Ot"
INSTRUMENT_HOST_ID = MEX
INSTRUMENT_HOST_NAME = "MARS EXPRESS"
INSTRUMENT_ID = HRSC
INSTRUMENT_NAME = "HIGH RESOLUTION STEREO CAMERA"
MISSION_NAME = "MARS EXPRESS"
MISSION_PHASE_NAME = ME_Phase_7
PROCESSING_LEVEL_ID = 4
PRODUCT_CREATION_TIME = 2023-02-10T03:49:22.000Z
PRODUCT_ID = "H4350_0001_P24.TIF"
RELEASE_ID = 0006
REVISION_ID = 0000
/* QUALITY DATA ELEMENTS */
DATA_QUALITY_ID = 1
DATA_QUALITY_DESC = "Data calculated based on original SPICE kernels"
/* TIME DATA ELEMENTS */
SPACECRAFT_CLOCK_START_COUNT = "1/0128195588.08237"
SPACECRAFT_CLOCK_STOP_COUNT = "1/0128195963.05934"
START_TIME = 2007-05-25T17:53:40.894Z
STOP_TIME = 2007-05-25T17:55:18.116Z
/* ORBITAL DATA ELEMENTS */
ASCENDING_NODE_LONGITUDE = 137.22
MAXIMUM_RESOLUTION = 0.0676
FOOTPRINT_POINT_LATITUDE = (4.38816,4.38345,4.38034,4.37692, 4.37371,4.37217,4.37068,4.36923,4.36783 ,4.36648,4.36519,4.36396,4.36278, 4.36164,4.36053,4.35948,4.35848,4.35751 ,4.35658,4.35569,4.35485,4.35388,4.3537 ,4.36501,4.57817,4.7384,4.95146,5.27012 ,5.42866,5.58702,5.85074,6.00776, 6.26955,6.42732,6.58381,6.74075,6.95064 ,7.15772,7.36658,7.52486,7.6822,7.8388, 8.09993,8.25181,8.40183,8.60893,8.76305 ,8.96821,9.27427,9.5309,9.5822,9.63064, 9.63351,9.63634,9.64011,9.64241,9.64626 ,9.64838,9.65195,9.6552,9.65735,9.66181 ,9.66358,9.66453,9.66651,9.66896, 9.67161,9.67403,9.67844,9.68093,9.68352 ,9.68621,9.6893,9.68994,9.68949,9.48456 ,9.27882,9.02095,8.76246,8.55552, 8.40002,8.19273,7.93306,7.7772,7.46341, 7.2534,7.09667,6.8866,6.67564,6.46558, 6.202,5.99338,5.72875,5.51524,5.3534, 5.14171,4.82181,4.50093,4.44731, 4.38816)
FOOTPRINT_POINT_LONGITUDE = (355.828,355.551,355.357,355.136, 354.914,354.803,354.692,354.58,354.469, 354.357,354.246,354.134,354.023,353.911 ,353.799,353.687,353.575,353.462,353.35 ,353.237,353.124,352.983,352.954, 352.939,352.925,352.914,352.899,352.877 ,352.866,352.856,352.837,352.827, 352.809,352.798,352.787,352.776,352.76, 352.746,352.731,352.718,352.705,352.693 ,352.672,352.662,352.654,352.637, 352.626,352.61,352.587,352.566,352.562, 352.558,352.754,352.918,353.18,353.31, 353.539,353.669,353.897,354.059,354.189 ,354.318,354.448,354.61,354.74,354.869, 354.999,355.128,355.322,355.451,355.58, 355.709,355.87,355.903,355.914,355.911, 355.907,355.903,355.898,355.895,355.892 ,355.889,355.885,355.882,355.877, 355.874,355.871,355.868,355.864,355.861 ,355.857,355.855,355.851,355.847, 355.844,355.841,355.837,355.832,355.831 ,355.828)
ORBIT_NUMBER = 4350
ORBITAL_ECCENTRICITY = 0.571
ORBITAL_INCLINATION = 86.69
ORBITAL_SEMIMAJOR_AXIS = 8571.35
PERIAPSIS_ALTITUDE = 292.81
PERIAPSIS_ARGUMENT_ANGLE = 311.88
PERIAPSIS_TIME = 2007-05-25T17:40:10.000Z
SPACECRAFT_ORIENTATION = (0.0,1.0,0.0)
^MEX_ORIENTATION_DESC = "MEX_ORIENTATION_DESC.TXT"
SPACECRAFT_POINTING_MODE = ACROSSTRACK
^MEX_POINTING_DESC = "MEX_POINTING_DESC.TXT"
RIGHT_ASCENSION = -1e+32
DECLINATION = -1e+32
OFFSET_ANGLE = 0.5
SPACECRAFT_SOLAR_DISTANCE = 2.0677e+08
TARGET_NAME = MARS
/* CAMERA DATA ELEMENTS */
DETECTOR_TEMPERATURE = 23.0602
FOCAL_PLANE_TEMPERATURE = 10.8262
INST_CMPRS_NAME = "DISCRETE COSINE TRANSFORMATION (DCT)"
INST_CMPRS_RATIO = 7.42438
INST_CMPRS_QUALITY = 0
INST_CMPRS_QUANTZ_TBL_ID = 0
INSTRUMENT_TEMPERATURE = 15.5159
LENS_TEMPERATURE = 10.8262
MACROPIXEL_SIZE = 2
MISSING_FRAMES = 0
PIXEL_SUBSAMPLING_FLAG = N
SIGNAL_CHAIN_ID = 3
/* RADIOMETRIC DATA ELEMENTS */
BANDWIDTH = 177.0
CENTER_FILTER_WAVELENGTH = 676.5
RADIANCE_OFFSET = 6.45913
RADIANCE_SCALING_FACTOR = 0.0232762
REFLECTANCE_SCALING_FACTOR = 0.000527644
MEX:REFLECTANCE_OFFSET = 0.146421
/* IMAGE OBJECT DEFINITIONS */
OBJECT = IMAGE
  INTERCHANGE_FORMAT = BINARY
  LINES = 6371
  LINE_SAMPLES = 4295
  SAMPLE_TYPE = UNSIGNED_INTEGER
  SAMPLE_BITS = 8
  BANDS = 1
  BAND_STORAGE_TYPE = BAND_SEQUENTIAL
  MAXIMUM = 255
  MEAN = 141.357
  MINIMUM = 1
  STANDARD_DEVIATION = 21.0692
END_OBJECT = IMAGE
/* MAP OBJECT DEFINITIONS */
OBJECT = IMAGE_MAP_PROJECTION
  ^DATA_SET_MAP_PROJECTION_CATALOG= "DSMAP.CAT"
  A_AXIS_RADIUS = 3396.0
  B_AXIS_RADIUS = 3396.0
  C_AXIS_RADIUS = 3396.0
  CENTER_LATITUDE = 0.0
  CENTER_LONGITUDE = 354.0
  COORDINATE_SYSTEM_NAME = PLANETOGRAPHIC
  COORDINATE_SYSTEM_TYPE = "BODY-FIXED ROTATING"
  EASTERNMOST_LONGITUDE = 355.914
  FIRST_STANDARD_PARALLEL = "N/A"
  LINE_FIRST_PIXEL = 1
  LINE_LAST_PIXEL = 6371
  LINE_PROJECTION_OFFSET = 11484.75
  MAP_PROJECTION_ROTATION = 0.0
  MAP_PROJECTION_TYPE = SINUSOIDAL
  MAP_RESOLUTION = 1185.42760773333
  MAP_SCALE = 0.05
  MAXIMUM_LATITUDE = 9.68994
  MINIMUM_LATITUDE = 4.3537
  POSITIVE_LONGITUDE_DIRECTION = EAST
  REFERENCE_LATITUDE = "N/A"
  REFERENCE_LONGITUDE = "N/A"
  SAMPLE_FIRST_PIXEL = 1
  SAMPLE_LAST_PIXEL = 4295
  SAMPLE_PROJECTION_OFFSET = 1867.75
  SECOND_STANDARD_PARALLEL = "N/A"
  WESTERNMOST_LONGITUDE = 352.558
END_OBJECT = IMAGE_MAP_PROJECTION
END
