PDS_VERSION_ID = PDS3
/* FILE DATA ELEMENTS */
RECORD_TYPE = UNDEFINED
/* POINTERS TO DATA OBJECTS */
^IMAGE = ("H4349_0000_S24.TIF")
/* IDENTIFICATION DATA ELEMENTS */
DATA_SET_ID = "MEX-M-HRSC-4-REFDR-MAPPROJECT-EXT1-V4.0"
DATA_SET_NAME = "MARS EXPRESS HRSC MAP PROJECTED REFDR EXTENSION1 V4.0"
DETECTOR_ID = MEX_HRSC_S2
EVENT_TYPE = "MARS-REGIONAL-MAPPING-Vo-Fl-Pf"
INSTRUMENT_HOST_ID = MEX
INSTRUMENT_HOST_NAME = "MARS EXPRESS"
INSTRUMENT_ID = HRSC
INSTRUMENT_NAME = "HIGH RESOLUTION STEREO CAMERA"
MISSION_NAME = "MARS EXPRESS"
MISSION_PHASE_NAME = ME_Phase_7
PROCESSING_LEVEL_ID = 4
PRODUCT_CREATION_TIME = 2023-02-10T03:49:22.000Z
PRODUCT_ID = "H4349_0000_S24.TIF"
RELEASE_ID = 0006
REVISION_ID = 0000
/* QUALITY DATA ELEMENTS */
DATA_QUALITY_ID = 1
DATA_QUALITY_DESC = "Data calculated based on original SPICE kernels"
/* TIME DATA ELEMENTS */
SPACECRAFT_CLOCK_START_COUNT = "1/0128170691.08407"
SPACECRAFT_CLOCK_STOP_COUNT = "1/0128170953.31941"
START_TIME = 2007-05-25T10:58:15.261Z
STOP_TIME = 2007-05-25T11:01:28.266Z
/* ORBITAL DATA ELEMENTS */
ASCENDING_NODE_LONGITUDE = 137.24
MAXIMUM_RESOLUTION = 0.0254
FOOTPRINT_POINT_LATITUDE = (-41.1421,-41.1323,-41.1232,-41.1095, -41.109,-41.0321,-40.554,-40.3097, -39.8224,-39.5779,-39.3335,-39.083, -38.5983,-38.3539,-38.1088,-37.864, -37.4973,-37.2527,-36.7643,-36.5121, -36.2581,-36.0033,-35.6217,-35.2382, -34.9781,-34.7279,-34.4755,-34.2114, -33.8193,-33.5567,-33.3069,-33.0452, -32.7824,-32.5204,-32.2579,-31.9944, -31.7255,-31.4543,-31.1828,-30.7745, -30.5015,-29.9519,-29.5317,-29.2518, -28.9707,-28.6892,-28.2696,-28.1302, -28.1009,-28.1056,-28.1112,-28.1148, -28.1148,-28.1153,-28.5358,-28.8165, -29.0963,-29.3776,-29.6593,-30.0818, -30.4911,-30.7639,-31.0358,-31.3011, -31.5775,-31.8521,-32.1178,-32.3803, -32.6441,-32.9059,-33.1695,-33.4366, -33.6981,-33.9598,-34.3449,-34.6036, -34.8589,-35.2407,-35.4953,-35.7501, -36.0049,-36.2594,-36.5138,-36.767, -37.0145,-37.3793,-37.7465,-37.9915, -38.3586,-38.6022,-38.9677,-39.3404, -39.5855,-39.83,-40.0746,-40.3196, -40.5641,-40.9263,-41.043,-41.1421)
FOOTPRINT_POINT_LONGITUDE = (93.8314,93.3272,92.9655,92.5131, 92.5002,92.4705,92.4922,92.503,92.5244, 92.5344,92.5443,92.552,92.572,92.581, 92.5895,92.5979,92.6104,92.6183,92.6339 ,92.6413,92.6485,92.6554,92.6653, 92.6742,92.6784,92.6857,92.692,92.6943, 92.7012,92.7066,92.7159,92.7211,92.7257 ,92.7304,92.7347,92.7385,92.7424, 92.7463,92.7499,92.7545,92.757,92.7617, 92.7654,92.7677,92.7693,92.7706,92.7729 ,92.7737,92.7738,93.098,93.5577,94.153, 94.1666,94.1714,94.1644,94.1595,94.155, 94.1499,94.1446,94.1366,94.1288,94.1235 ,94.1183,94.1155,94.1087,94.1025, 94.0972,94.0922,94.0865,94.0816,94.0759 ,94.0689,94.0639,94.0587,94.0502, 94.0427,94.0365,94.0274,94.0212,94.0148 ,94.0084,94.002,93.9955,93.989,93.9818, 93.9732,93.9635,93.9568,93.9467,93.9403 ,93.9305,93.9175,93.91,93.9027,93.8952, 93.8874,93.8797,93.8676,93.8642, 93.8314)
ORBIT_NUMBER = 4349
ORBITAL_ECCENTRICITY = 0.571
ORBITAL_INCLINATION = 86.7
ORBITAL_SEMIMAJOR_AXIS = 8574.81
PERIAPSIS_ALTITUDE = 291.88
PERIAPSIS_ARGUMENT_ANGLE = 312.06
PERIAPSIS_TIME = 2007-05-25T10:57:00.000Z
SPACECRAFT_ORIENTATION = (0.0,1.0,0.0)
^MEX_ORIENTATION_DESC = "MEX_ORIENTATION_DESC.TXT"
SPACECRAFT_POINTING_MODE = NADIR
^MEX_POINTING_DESC = "MEX_POINTING_DESC.TXT"
RIGHT_ASCENSION = -1e+32
DECLINATION = -1e+32
OFFSET_ANGLE = -1e+32
SPACECRAFT_SOLAR_DISTANCE = 2.06776e+08
TARGET_NAME = MARS
/* CAMERA DATA ELEMENTS */
DETECTOR_TEMPERATURE = 18.7783
FOCAL_PLANE_TEMPERATURE = 9.8067
INST_CMPRS_NAME = "DISCRETE COSINE TRANSFORMATION (DCT)"
INST_CMPRS_RATIO = 10.9823
INST_CMPRS_QUALITY = 0
INST_CMPRS_QUANTZ_TBL_ID = 0
INSTRUMENT_TEMPERATURE = 11.6418
LENS_TEMPERATURE = 10.0106
MACROPIXEL_SIZE = 2
MISSING_FRAMES = 0
PIXEL_SUBSAMPLING_FLAG = N
SIGNAL_CHAIN_ID = 1
/* RADIOMETRIC DATA ELEMENTS */
BANDWIDTH = 178.0
CENTER_FILTER_WAVELENGTH = 679.0
RADIANCE_OFFSET = 7.42362
RADIANCE_SCALING_FACTOR = 0.0137474
REFLECTANCE_SCALING_FACTOR = 0.00031128
MEX:REFLECTANCE_OFFSET = 0.168091
/* IMAGE OBJECT DEFINITIONS */
OBJECT = IMAGE
  INTERCHANGE_FORMAT = BINARY
  LINES = 30795
  LINE_SAMPLES = 3465
  SAMPLE_TYPE = UNSIGNED_INTEGER
  SAMPLE_BITS = 8
  BANDS = 1
  BAND_STORAGE_TYPE = BAND_SEQUENTIAL
  MAXIMUM = 255
  MEAN = 170.6
  MINIMUM = 1
  STANDARD_DEVIATION = 31.9379
END_OBJECT = IMAGE
/* MAP OBJECT DEFINITIONS */
OBJECT = IMAGE_MAP_PROJECTION
  ^DATA_SET_MAP_PROJECTION_CATALOG= "DSMAP.CAT"
  A_AXIS_RADIUS = 3396.0
  B_AXIS_RADIUS = 3396.0
  C_AXIS_RADIUS = 3396.0
  CENTER_LATITUDE = 0.0
  CENTER_LONGITUDE = 93.0
  COORDINATE_SYSTEM_NAME = PLANETOGRAPHIC
  COORDINATE_SYSTEM_TYPE = "BODY-FIXED ROTATING"
  EASTERNMOST_LONGITUDE = 94.17140000000001
  FIRST_STANDARD_PARALLEL = "N/A"
  LINE_FIRST_PIXEL = 1
  LINE_LAST_PIXEL = 30795
  LINE_PROJECTION_OFFSET = -66622.75
  MAP_PROJECTION_ROTATION = 0.0
  MAP_PROJECTION_TYPE = SINUSOIDAL
  MAP_RESOLUTION = 2370.85521546667
  MAP_SCALE = 0.025
  MAXIMUM_LATITUDE = -28.1009
  MINIMUM_LATITUDE = -41.1421
  POSITIVE_LONGITUDE_DIRECTION = EAST
  REFERENCE_LATITUDE = "N/A"
  REFERENCE_LONGITUDE = "N/A"
  SAMPLE_FIRST_PIXEL = 1
  SAMPLE_LAST_PIXEL = 3465
  SAMPLE_PROJECTION_OFFSET = 963.25
  SECOND_STANDARD_PARALLEL = "N/A"
  WESTERNMOST_LONGITUDE = 92.4705
END_OBJECT = IMAGE_MAP_PROJECTION
END
