PDS_VERSION_ID = PDS3
/* FILE DATA ELEMENTS */
RECORD_TYPE = UNDEFINED
/* POINTERS TO DATA OBJECTS */
^IMAGE = ("H4349_0000_P14.TIF")
/* IDENTIFICATION DATA ELEMENTS */
DATA_SET_ID = "MEX-M-HRSC-4-REFDR-MAPPROJECT-EXT1-V4.0"
DATA_SET_NAME = "MARS EXPRESS HRSC MAP PROJECTED REFDR EXTENSION1 V4.0"
DETECTOR_ID = MEX_HRSC_P1
EVENT_TYPE = "MARS-REGIONAL-MAPPING-Vo-Fl-Pf"
INSTRUMENT_HOST_ID = MEX
INSTRUMENT_HOST_NAME = "MARS EXPRESS"
INSTRUMENT_ID = HRSC
INSTRUMENT_NAME = "HIGH RESOLUTION STEREO CAMERA"
MISSION_NAME = "MARS EXPRESS"
MISSION_PHASE_NAME = ME_Phase_7
PROCESSING_LEVEL_ID = 4
PRODUCT_CREATION_TIME = 2023-02-10T03:49:22.000Z
PRODUCT_ID = "H4349_0000_P14.TIF"
RELEASE_ID = 0006
REVISION_ID = 0000
/* QUALITY DATA ELEMENTS */
DATA_QUALITY_ID = 1
DATA_QUALITY_DESC = "Data calculated based on original SPICE kernels"
/* TIME DATA ELEMENTS */
SPACECRAFT_CLOCK_START_COUNT = "1/0128170691.08407"
SPACECRAFT_CLOCK_STOP_COUNT = "1/0128170953.31941"
START_TIME = 2007-05-25T10:58:58.689Z
STOP_TIME = 2007-05-25T11:02:23.018Z
/* ORBITAL DATA ELEMENTS */
ASCENDING_NODE_LONGITUDE = 137.24
MAXIMUM_RESOLUTION = 0.0502
FOOTPRINT_POINT_LATITUDE = (-41.0584,-41.0468,-41.0389,-41.0295, -41.0291,-41.075,-40.4663,-39.98, -39.4867,-39.1137,-38.7353,-38.4834, -38.2333,-37.9833,-37.7334,-37.4836, -37.234,-36.8493,-36.592,-36.2061, -35.9498,-35.6934,-35.4375,-35.1839, -34.7899,-34.5252,-34.1376,-33.8751, -33.6113,-33.3395,-33.0686,-32.7981, -32.5269,-32.2569,-31.988,-31.719, -31.4501,-31.1815,-30.9136,-30.5142, -30.1157,-29.8497,-29.451,-29.1861, -28.9223,-28.5269,-28.2633,-28.1313, -28.1005,-28.1054,-28.1078,-28.1096, -28.1107,-28.1108,-28.1116,-28.3752, -28.6391,-28.9041,-29.3014,-29.5665, -29.8311,-30.0986,-30.3651,-30.6314, -30.8989,-31.1691,-31.4397,-31.705, -31.9743,-32.3795,-32.6494,-32.921, -33.3255,-33.5913,-33.9875,-34.2513, -34.5132,-34.7768,-35.1721,-35.4283, -35.6847,-35.9415,-36.1986,-36.4562, -36.7141,-37.0984,-37.3536,-37.6043, -37.8543,-38.1047,-38.3557,-38.6076, -38.8579,-39.234,-39.4856,-39.9805, -40.3453,-40.9545,-41.0766,-41.0584)
FOOTPRINT_POINT_LONGITUDE = (93.8478,93.2406,92.8867,92.5073, 92.4946,92.4597,92.4861,92.5061,92.5255 ,92.5368,92.5516,92.561,92.5691,92.5771 ,92.585,92.5926,92.6001,92.6116,92.6184 ,92.6285,92.6344,92.6405,92.6461, 92.6503,92.6588,92.6645,92.6673,92.6716 ,92.6767,92.6859,92.6901,92.694,92.6983 ,92.702,92.705,92.7081,92.7111,92.714, 92.7164,92.7188,92.7208,92.7223,92.7245 ,92.7256,92.726,92.7267,92.7272,92.7276 ,92.7276,93.2285,93.5492,93.8701, 94.2049,94.2188,94.2235,94.2182,94.2128 ,94.2076,94.1992,94.1934,94.1871, 94.1819,94.176,94.1696,94.1636,94.1587, 94.1539,94.1457,94.1395,94.1304,94.1237 ,94.1178,94.1067,94.1006,94.0914, 94.0848,94.0768,94.0695,94.059,94.052, 94.0449,94.0378,94.0305,94.0233,94.016, 94.0031,93.9976,93.9907,93.983,93.9754, 93.9679,93.9607,93.9523,93.9396,93.9313 ,93.9149,93.9023,93.8809,93.8766, 93.8478)
ORBIT_NUMBER = 4349
ORBITAL_ECCENTRICITY = 0.571
ORBITAL_INCLINATION = 86.7
ORBITAL_SEMIMAJOR_AXIS = 8574.81
PERIAPSIS_ALTITUDE = 291.88
PERIAPSIS_ARGUMENT_ANGLE = 312.06
PERIAPSIS_TIME = 2007-05-25T10:57:00.000Z
SPACECRAFT_ORIENTATION = (0.0,1.0,0.0)
^MEX_ORIENTATION_DESC = "MEX_ORIENTATION_DESC.TXT"
SPACECRAFT_POINTING_MODE = NADIR
^MEX_POINTING_DESC = "MEX_POINTING_DESC.TXT"
RIGHT_ASCENSION = -1e+32
DECLINATION = -1e+32
OFFSET_ANGLE = -1e+32
SPACECRAFT_SOLAR_DISTANCE = 2.06776e+08
TARGET_NAME = MARS
/* CAMERA DATA ELEMENTS */
DETECTOR_TEMPERATURE = 18.1666
FOCAL_PLANE_TEMPERATURE = 9.8067
INST_CMPRS_NAME = "DISCRETE COSINE TRANSFORMATION (DCT)"
INST_CMPRS_RATIO = 15.5063
INST_CMPRS_QUALITY = 0
INST_CMPRS_QUANTZ_TBL_ID = 0
INSTRUMENT_TEMPERATURE = 11.6418
LENS_TEMPERATURE = 10.0106
MACROPIXEL_SIZE = 4
MISSING_FRAMES = 0
PIXEL_SUBSAMPLING_FLAG = N
SIGNAL_CHAIN_ID = 3
/* RADIOMETRIC DATA ELEMENTS */
BANDWIDTH = 174.0
CENTER_FILTER_WAVELENGTH = 675.0
RADIANCE_OFFSET = 7.35259
RADIANCE_SCALING_FACTOR = 0.0130438
REFLECTANCE_SCALING_FACTOR = 0.000299979
MEX:REFLECTANCE_OFFSET = 0.169093
/* IMAGE OBJECT DEFINITIONS */
OBJECT = IMAGE
  INTERCHANGE_FORMAT = BINARY
  LINES = 15398
  LINE_SAMPLES = 1733
  SAMPLE_TYPE = UNSIGNED_INTEGER
  SAMPLE_BITS = 8
  BANDS = 1
  BAND_STORAGE_TYPE = BAND_SEQUENTIAL
  MAXIMUM = 255
  MEAN = 175.654
  MINIMUM = 1
  STANDARD_DEVIATION = 33.8081
END_OBJECT = IMAGE
/* MAP OBJECT DEFINITIONS */
OBJECT = IMAGE_MAP_PROJECTION
  ^DATA_SET_MAP_PROJECTION_CATALOG= "DSMAP.CAT"
  A_AXIS_RADIUS = 3396.0
  B_AXIS_RADIUS = 3396.0
  C_AXIS_RADIUS = 3396.0
  CENTER_LATITUDE = 0.0
  CENTER_LONGITUDE = 93.0
  COORDINATE_SYSTEM_NAME = PLANETOGRAPHIC
  COORDINATE_SYSTEM_TYPE = "BODY-FIXED ROTATING"
  EASTERNMOST_LONGITUDE = 94.2235
  FIRST_STANDARD_PARALLEL = "N/A"
  LINE_FIRST_PIXEL = 1
  LINE_LAST_PIXEL = 15398
  LINE_PROJECTION_OFFSET = -33311.625
  MAP_PROJECTION_ROTATION = 0.0
  MAP_PROJECTION_TYPE = SINUSOIDAL
  MAP_RESOLUTION = 1185.42760773333
  MAP_SCALE = 0.05
  MAXIMUM_LATITUDE = -28.1005
  MINIMUM_LATITUDE = -41.0766
  POSITIVE_LONGITUDE_DIRECTION = EAST
  REFERENCE_LATITUDE = "N/A"
  REFERENCE_LONGITUDE = "N/A"
  SAMPLE_FIRST_PIXEL = 1
  SAMPLE_LAST_PIXEL = 1733
  SAMPLE_PROJECTION_OFFSET = 481.375
  SECOND_STANDARD_PARALLEL = "N/A"
  WESTERNMOST_LONGITUDE = 92.4597
END_OBJECT = IMAGE_MAP_PROJECTION
END
